Workbook

Sheet RESUMEN 
A1: MINISTERIO DE SALUD
A2: SERVICIO DE SALUD COQUIMBO
A3: SUBDIRECCION DE GESTION ASISTENCIAL
A4: SUBDEPTO DE ESTADÍSTICA Y GESTIÓN DE LA INFORMACIÓN
A5: COMUNA | B5: RESUMEN DE CUMPLIMIENTO DE METAS A DICIEMBRE 2018
B6: CORTE A MARZO
B8: METAS COMPONENTE ESTRATEGIA RISS, PRODUCCIÓN,COBERTURA EFECTIVA E IMPACTO SANITARIO
B9: META Nº2 | C9: META Nº3.1 | D9: META Nº5 | E9: META Nº6 | F9: META Nº7 | G9: META Nº8.1 | H9: META Nº8.2 | I9: META Nº8.3 | J9: META Nº9 | K9: META Nº10 | L9: META Nº11 | M9: META Nº12 | N9: META Nº13 | O9: META Nº14 | P9: META Nº17 | Q9: META Nº18 | R9: META Nº19 | S9: META Nº20 | T9: META Nº21 | U9: CUMPLIMIENTO GENERAL | V9: CUMPLIMIENTO META GES
B10: Familias Evaluadas según riesgo (*) | C10: Gestion de Reclamos APS | D10: Consultas de Morbilidad y Controles Médicos | E10: SIC derivadas desde la APS al Nivel Secundario | F10: Visita domiciliaria integral | G10: EMP hombres 20 a 64 años | H10: EMP mujeres de 45 a 64 años | I10: EMP 65 y mas años | J10: Evaluación del desarrollo Psicomotor de niños/as de 12 a 23 meses bajo control | K10: Control de salud integral adolescentes de 10 a 14 años | L10: Alta odontologica menores de 7 años a menor de 20 años | M10: Cobertura de Atención Integral de trastornos mentales en personas de 5 y más años | N10: Cobertura de Atención de Asma en Población general y EPOC en personas de 40 años y más | O10: Capacitación a Cuidadores de personas con Dependencia Severa con Pago de Estipendio (*) | P10: Control embarazada | Q10: Cobertura de Métodos Anticonceptivos en Adolescentes | R10: Cobertura DM2 en personas de 15 y mas años (*) | S10: Cobertutra HTA en personas de 15 y mas años (*) | T10: Proporción de Niñas y Niños de 3 años libre de Caries
A12: LA SERENA | B12: =+'META 2'!$C$26 -> 0 | C12: =+'META 3.1'!$C$26 -> 1.0194719 | D12: =+'META 5 '!$C$26 -> 0.23036004 | E12: =+'META 6'!$C$26 -> 1.3397566 | F12: =+'META 7'!$C$26 -> 0.19596823 | G12: =+'META 8.1'!$C$26 -> 0.14003396 | H12: =+'META 8.2'!$C$26 -> 0.15764283 | I12: =+'META 8.3'!$C$26 -> 0.16730589 | J12: =+'META 9'!$C$26 -> 0.30910601 | K12: =+'META 10'!$C$26 -> 0.084329936 | L12: =+'META 11'!$C$26 -> 0.21148936 | M12: =+'META 12'!$C$26 -> 1.0957495 | N12: =+'META 13'!$C$26 -> 0.83748133 | O12: =+'META 14'!$C$26 -> #DIV/0! | P12: =+'META 17'!$C$26 -> 0.94229151 | Q12: =+'META 18'!$C$26 -> #REF! | R12: =+'META 19'!$C$26 -> 0 | S12: =+'META 20'!$C$26 -> 0 | T12: =+'META 21'!$C$26 -> 0.21447319 | U12: =C43*3%+D43*6%+E43*3%+F43*5%+G43*5%+H43*5%+I43*5%+J43*4%+K43*4%+L43*4%+M43*4%+N43*4%+P43*4%+T43*3% -> 0.24225707 | V12: =+META_GES!$C$26 -> #DIV/0!
A13: COQUIMBO | B13: =+'META 2'!$C$38 -> 0 | C13: =+'META 3.1'!$C$38 -> 1.0196798 | D13: =+'META 5 '!$C$38 -> 0.24859221 | E13: =+'META 6'!$C$38 -> 0.9999276 | F13: =+'META 7'!$C$38 -> 0.20288829 | G13: =+'META 8.1'!$C$38 -> 0.28539409 | H13: =+'META 8.2'!$C$38 -> 0.28428104 | I13: =+'META 8.3'!$C$38 -> 0.27361625 | J13: =+'META 9'!$C$38 -> 0.25402927 | K13: =+'META 10'!$C$38 -> 0.10890038 | L13: =+'META 11'!$C$38 -> 0.15847947 | M13: =+'META 12'!$C$38 -> 1.0179936 | N13: =+'META 13'!$C$38 -> 0.87463413 | O13: =+'META 14'!$C$38 -> #DIV/0! | P13: =+'META 17'!$C$38 -> 0.86584753 | Q13: =+'META 18'!$C$38 -> #REF! | R13: =+'META 19'!$C$38 -> 0 | S13: =+'META 20'!$C$38 -> 0 | T13: =+'META 21'!$C$38 -> 0.11289364 | U13: =C44*3%+D44*6%+E44*3%+F44*5%+G44*5%+H44*5%+I44*5%+J44*4%+K44*4%+L44*4%+M44*4%+N44*4%+P44*4%+T44*3% -> 0.25769798 | V13: =+META_GES!$C$38 -> #DIV/0!
A14: VICUÑA | B14: =+'META 2'!$C$49 -> 0 | C14: =+'META 3.1'!$C$49 -> 1.0187449 | D14: =+'META 5 '!$C$49 -> 0.20901568 | E14: =+'META 6'!$C$49 -> 1.4751191 | F14: =+'META 7'!$C$49 -> 0.20672849 | G14: =+'META 8.1'!$C$49 -> 0.1801614 | H14: =+'META 8.2'!$C$49 -> 0.14957601 | I14: =+'META 8.3'!$C$49 -> 0.2081707 | J14: =+'META 9'!$C$49 -> 0.22429969 | K14: =+'META 10'!$C$49 -> 0.13871549 | L14: =+'META 11'!$C$49 -> 0.082090949 | M14: =+'META 12'!$C$49 -> 1.0925262 | N14: =+'META 13'!$C$49 -> 0.87360299 | O14: =+'META 14'!$C$49 -> #DIV/0! | P14: =+'META 17'!$C$49 -> 0.95371704 | Q14: =+'META 18'!$C$49 -> #REF! | R14: =+'META 19'!$C$49 -> 0 | S14: =+'META 20'!$C$49 -> 0 | T14: =+'META 21'!$C$49 -> 0.22675737 | U14: =C45*3%+D45*6%+E45*3%+F45*5%+G45*5%+H45*5%+I45*5%+J45*4%+K45*4%+L45*4%+M45*4%+N45*4%+P45*4%+T45*3% -> 0.24066982 | V14: =+META_GES!$C$49 -> #DIV/0!
A15: ILLAPEL | B15: =+'META 2'!$C$64 -> 0 | C15: =+'META 3.1'!$C$64 -> 1.0177081 | D15: =+'META 5 '!$C$64 -> 0.35929737 | E15: =+'META 6'!$C$64 -> 1.0869059 | F15: =+'META 7'!$C$64 -> 0.32077544 | G15: =+'META 8.1'!$C$64 -> 0.14081378 | H15: =+'META 8.2'!$C$64 -> 0.058822105 | I15: =+'META 8.3'!$C$64 -> 0.10896952 | J15: =+'META 9'!$C$64 -> 0.72062215 | K15: =+'META 10'!$C$64 -> 0.24289284 | L15: =+'META 11'!$C$64 -> 0.21188274 | M15: =+'META 12'!$C$64 -> 0.74677754 | N15: =+'META 13'!$C$64 -> 0.60540853 | O15: =+'META 14'!$C$64 -> #DIV/0! | P15: =+'META 17'!$C$64 -> 0.82986146 | Q15: =+'META 18'!$C$64 -> #REF! | R15: =+'META 19'!$C$64 -> 0 | S15: =+'META 20'!$C$64 -> 0 | T15: =+'META 21'!$C$64 -> 0.22992528 | U15: =C46*3%+D46*6%+E46*3%+F46*5%+G46*5%+H46*5%+I46*5%+J46*4%+K46*4%+L46*4%+M46*4%+N46*4%+P46*4%+T46*3% -> 0.24732469 | V15: =+META_GES!$C$64 -> #DIV/0!
A16: CANELA | B16: =+'META 2'!$C$75 -> 0 | C16: =+'META 3.1'!$C$75 -> 1.0147133 | D16: =+'META 5 '!$C$75 -> 0.20186781 | E16: =+'META 6'!$C$75 -> 0.9533093 | F16: =+'META 7'!$C$75 -> 0.14967112 | G16: =+'META 8.1'!$C$75 -> 0.096405293 | H16: =+'META 8.2'!$C$75 -> 0.10424388 | I16: =+'META 8.3'!$C$75 -> 0.14151237 | J16: =+'META 9'!$C$75 -> 0.11458047 | K16: =+'META 10'!$C$75 -> 0 | L16: =+'META 11'!$C$75 -> 0.11192679 | M16: =+'META 12'!$C$75 -> 0.88116218 | N16: =+'META 13'!$C$75 -> 0.95013328 | O16: =+'META 14'!$C$75 -> #DIV/0! | P16: =+'META 17'!$C$75 -> 0.82754055 | Q16: =+'META 18'!$C$75 -> #REF! | R16: =+'META 19'!$C$75 -> 0 | S16: =+'META 20'!$C$75 -> 0 | T16: =+'META 21'!$C$75 -> 0.26246719 | U16: =C47*3%+D47*6%+E47*3%+F47*5%+G47*5%+H47*5%+I47*5%+J47*4%+K47*4%+L47*4%+M47*4%+N47*4%+P47*4%+T47*3% -> 0.21071671 | V16: =+META_GES!$C$75 -> #DIV/0!
A17: LOS VILOS | B17: =+'META 2'!$C$81 -> 0 | C17: =+'META 3.1'!$C$81 -> 1.0204082 | D17: =+'META 5 '!$C$81 -> 0.33904219 | E17: =+'META 6'!$C$81 -> 2.2691571 | F17: =+'META 7'!$C$81 -> 0.27634406 | G17: =+'META 8.1'!$C$81 -> 0.14766488 | H17: =+'META 8.2'!$C$81 -> 0.11410453 | I17: =+'META 8.3'!$C$81 -> 0.24509112 | J17: =+'META 9'!$C$81 -> 0.21276596 | K17: =+'META 10'!$C$81 -> 0 | L17: =+'META 11'!$C$81 -> 0.1620747 | M17: =+'META 12'!$C$81 -> 0.55717939 | N17: =+'META 13'!$C$81 -> 0.80678994 | O17: =+'META 14'!$C$81 -> #DIV/0! | P17: =+'META 17'!$C$81 -> 0.79365079 | Q17: =+'META 18'!$C$81 -> #REF! | R17: =+'META 19'!$C$81 -> 0 | S17: =+'META 20'!$C$81 -> 0 | T17: =+'META 21'!$C$81 -> 0.10309278 | U17: =C48*3%+D48*6%+E48*3%+F48*5%+G48*5%+H48*5%+I48*5%+J48*4%+K48*4%+L48*4%+M48*4%+N48*4%+P48*4%+T48*3% -> 0.22080119 | V17: =+META_GES!$C$81 -> #DIV/0!
A18: SALAMANCA | B18: =+'META 2'!$C$92 -> 0 | C18: =+'META 3.1'!$C$92 -> #DIV/0! | D18: =+'META 5 '!$C$92 -> 0.22447558 | E18: =+'META 6'!$C$92 -> 0.999 | F18: =+'META 7'!$C$92 -> 0.19412516 | G18: =+'META 8.1'!$C$92 -> 0.15660092 | H18: =+'META 8.2'!$C$92 -> 0.18434477 | I18: =+'META 8.3'!$C$92 -> 0.26359872 | J18: =+'META 9'!$C$92 -> 0.23728814 | K18: =+'META 10'!$C$92 -> 0.05500121 | L18: =+'META 11'!$C$92 -> 0.22907583 | M18: =+'META 12'!$C$92 -> 1.0084441 | N18: =+'META 13'!$C$92 -> 0.91861994 | O18: =+'META 14'!$C$92 -> #DIV/0! | P18: =+'META 17'!$C$92 -> 1.0507613 | Q18: =+'META 18'!$C$92 -> #REF! | R18: =+'META 19'!$C$92 -> 0 | S18: =+'META 20'!$C$92 -> 0 | T18: =+'META 21'!$C$92 -> 0.6 | U18: =C49*3%+D49*6%+E49*3%+F49*5%+G49*5%+H49*5%+I49*5%+J49*4%+K49*4%+L49*4%+M49*4%+N49*4%+P49*4%+T49*3% -> #DIV/0! | V18: =+META_GES!$C$92 -> #DIV/0!
A19: OVALLE | B19: =+'META 2'!$C$111 -> 0 | C19: =+'META 3.1'!$C$111 -> 1.017501 | D19: =+'META 5 '!$C$111 -> 0.24610586 | E19: =+'META 6'!$C$111 -> 1.2295111 | F19: =+'META 7'!$C$111 -> 0.24523476 | G19: =+'META 8.1'!$C$111 -> 0.14885595 | H19: =+'META 8.2'!$C$111 -> 0.19845705 | I19: =+'META 8.3'!$C$111 -> 0.26882379 | J19: =+'META 9'!$C$111 -> 0.24436967 | K19: =+'META 10'!$C$111 -> 0.021129591 | L19: =+'META 11'!$C$111 -> 0.17422272 | M19: =+'META 12'!$C$111 -> 1.0767498 | N19: =+'META 13'!$C$111 -> 0.87666196 | O19: =+'META 14'!$C$111 -> #DIV/0! | P19: =+'META 17'!$C$111 -> 0.97779984 | Q19: =+'META 18'!$C$111 -> #REF! | R19: =+'META 19'!$C$111 -> 0 | S19: =+'META 20'!$C$111 -> 0 | T19: =+'META 21'!$C$111 -> 0.18831235 | U19: =C50*3%+D50*6%+E50*3%+F50*5%+G50*5%+H50*5%+I50*5%+J50*4%+K50*4%+L50*4%+M50*4%+N50*4%+P50*4%+T50*3% -> 0.24960228 | V19: =+META_GES!$C$110 -> #DIV/0!
A20: COMBARBALÁ | B20: =+'META 2'!$C$124 -> 0 | C20: =+'META 3.1'!$C$124 -> #DIV/0! | D20: =+'META 5 '!$C$124 -> 0.2211365 | E20: =+'META 6'!$C$124 -> 1.194739 | F20: =+'META 7'!$C$124 -> 0.27777778 | G20: =+'META 8.1'!$C$124 -> 0.10647308 | H20: =+'META 8.2'!$C$124 -> 0.081349444 | I20: =+'META 8.3'!$C$124 -> 0.27263182 | J20: =+'META 9'!$C$124 -> 0.23640662 | K20: =+'META 10'!$C$124 -> 0 | L20: =+'META 11'!$C$124 -> 0.22051186 | M20: =+'META 12'!$C$124 -> 0.94397955 | N20: =+'META 13'!$C$124 -> 0.93827834 | O20: =+'META 14'!$C$124 -> #DIV/0! | P20: =+'META 17'!$C$124 -> 0.89252953 | Q20: =+'META 18'!$C$124 -> #REF! | R20: =+'META 19'!$C$124 -> 0 | S20: =+'META 20'!$C$124 -> 0 | T20: =+'META 21'!$C$124 -> 0.22498538 | U20: =C51*3%+D51*6%+E51*3%+F51*5%+G51*5%+H51*5%+I51*5%+J51*4%+K51*4%+L51*4%+M51*4%+N51*4%+P51*4%+T51*3% -> #DIV/0! | V20: =+META_GES!$C$123 -> #DIV/0!
A21: MONTE PATRIA | B21: =+'META 2'!$C$138 -> 0 | C21: =+'META 3.1'!$C$138 -> 1.0204082 | D21: =+'META 5 '!$C$138 -> 0.22142531 | E21: =+'META 6'!$C$138 -> 1.0444769 | F21: =+'META 7'!$C$138 -> 0.1712417 | G21: =+'META 8.1'!$C$138 -> 0.11159721 | H21: =+'META 8.2'!$C$138 -> 0.17568798 | I21: =+'META 8.3'!$C$138 -> 0.32188642 | J21: =+'META 9'!$C$138 -> 0.24461642 | K21: =+'META 10'!$C$138 -> 0.01896112 | L21: =+'META 11'!$C$138 -> 0.19318676 | M21: =+'META 12'!$C$138 -> 0.98778491 | N21: =+'META 13'!$C$138 -> 0.81787181 | O21: =+'META 14'!$C$138 -> #DIV/0! | P21: =+'META 17'!$C$138 -> 0.979739 | Q21: =+'META 18'!$C$138 -> #REF! | R21: =+'META 19'!$C$138 -> 0 | S21: =+'META 20'!$C$138 -> 0 | T21: =+'META 21'!$C$138 -> 0.28103082 | U21: =C52*3%+D52*6%+E52*3%+F52*5%+G52*5%+H52*5%+I52*5%+J52*4%+K52*4%+L52*4%+M52*4%+N52*4%+P52*4%+T52*3% -> 0.24199258 | V21: =+META_GES!$C$137 -> #DIV/0!
A22: PUNITAQUI | B22: =+'META 2'!$C$143 -> 0 | C22: =+'META 3.1'!$C$143 -> 1.0197838 | D22: =+'META 5 '!$C$143 -> 0.20783029 | E22: =+'META 6'!$C$143 -> 1.0989 | F22: =+'META 7'!$C$143 -> 0.21014842 | G22: =+'META 8.1'!$C$143 -> 0.01197853 | H22: =+'META 8.2'!$C$143 -> 0.087809847 | I22: =+'META 8.3'!$C$143 -> 0.1930598 | J22: =+'META 9'!$C$143 -> 0.2483777 | K22: =+'META 10'!$C$143 -> 0 | L22: =+'META 11'!$C$143 -> 0.23937891 | M22: =+'META 12'!$C$143 -> 1.0759937 | N22: =+'META 13'!$C$143 -> 0.92839838 | O22: =+'META 14'!$C$143 -> #DIV/0! | P22: =+'META 17'!$C$143 -> 0.96726381 | Q22: =+'META 18'!$C$143 -> #REF! | R22: =+'META 19'!$C$143 -> 0 | S22: =+'META 20'!$C$143 -> 0 | T22: =+'META 21'!$C$143 -> 0.3030303 | U22: =C53*3%+D53*6%+E53*3%+F53*5%+G53*5%+H53*5%+I53*5%+J53*4%+K53*4%+L53*4%+M53*4%+N53*4%+P53*4%+T53*3% -> 0.2329564 | V22: =+META_GES!$C$142 -> #DIV/0!
A23: RIO HURTADO | B23: =+'META 2'!$C$151 -> 0 | C23: =+'META 3.1'!$C$151 -> #DIV/0! | D23: =+'META 5 '!$C$151 -> 0.24552372 | E23: =+'META 6'!$C$151 -> 1.6116221 | F23: =+'META 7'!$C$151 -> 0.29391373 | G23: =+'META 8.1'!$C$151 -> 0.081714858 | H23: =+'META 8.2'!$C$151 -> 0.043953508 | I23: =+'META 8.3'!$C$151 -> 0.15093384 | J23: =+'META 9'!$C$151 -> 0.24241322 | K23: =+'META 10'!$C$151 -> 0 | L23: =+'META 11'!$C$151 -> 0.014653893 | M23: =+'META 12'!$C$151 -> 0.99584833 | N23: =+'META 13'!$C$151 -> 0.94050018 | O23: =+'META 14'!$C$151 -> #DIV/0! | P23: =+'META 17'!$C$151 -> 0.86670133 | Q23: =+'META 18'!$C$151 -> #REF! | R23: =+'META 19'!$C$151 -> 0 | S23: =+'META 20'!$C$151 -> 0 | T23: =+'META 21'!$C$151 -> 0.28569082 | U23: =C54*3%+D54*6%+E54*3%+F54*5%+G54*5%+H54*5%+I54*5%+J54*4%+K54*4%+L54*4%+M54*4%+N54*4%+P54*4%+T54*3% -> #DIV/0! | V23: =+META_GES!$C$150 -> #DIV/0!
A24: (*) Metas a Evaluar con Serie P de Junio 2018
A31: MINISTERIO DE SALUD
A32: SERVICIO DE SALUD COQUIMBO
A33: SUBDIRECCION DE GESTION ASISTENCIAL
A34: SUBDEPTO DE ESTADÍSTICA Y GESTIÓN DE LA INFORMACIÓN
A36: COMUNA | B36: RESUMEN DE CUMPLIMIENTO DE METAS A ABRIL 2017
B37: CORTE A MARZO
B39: METAS COMPONENTE ESTRATEGIA RISS, PRODUCCIÓN,COBERTURA EFECTIVA E IMPACTO SANITARIO
B40: META Nº2 | C40: META Nº3.1 | D40: META Nº5 | E40: META Nº6 | F40: META Nº7 | G40: META Nº8.1 | H40: META Nº8.2 | I40: META Nº8.3 | J40: META Nº9 | K40: META Nº10 | L40: META Nº11 | M40: META Nº12 | N40: META Nº13 | O40: META Nº14 | P40: META Nº17 | Q40: META Nº18 | R40: META Nº19 | S40: META Nº20 | T40: META Nº21
B41: Familias Evaluadas según riesgo | C41: Gestion de Reclamos APS | D41: Consultas de Morbilidad y Controles Médicos | E41: SIC derivadas desde la APS al Nivel Secundario | F41: Visita domiciliaria integral | G41: EMP hombres 20 a 64 años | H41: EMP mujeres de 45 a 64 años | I41: EMP 65 y mas años | J41: Evaluación del desarrollo Psicomotor de niños/as de 12 a 23 meses bajo control | K41: Control de salud integral adolescentes de 10 a 14 años | L41: Alta odontologica menores de 20 años | M41: Cobertura de Atención Integral de trastornos mentales en personas de 5 y más años | N41: Cobertura de Atención de Asma en Población general y EPOC en personas de 40 años y más | O41: Capacitación a Cuidadores de personas con Dependencia Severa con Pago de Estipendio | P41: Control embarazada | Q41: Cobertura de Métodos Anticonceptivos en Adolescentes | R41: Cobertura DM2 en personas de 15 y mas años | S41: Cobertutra HTA en personas de 15 y mas años | T41: Proporción de Niñas y Niños de 3 años libre de Caries
A43: LA SERENA | B43: =IF(B12="n/a","n/a",IF(B12="","",IF(B12>1,1,B12))) -> 0 | C43: =IF(C12="n/a","n/a",IF(C12="","",IF(C12>1,1,C12))) -> 1 | D43: =IF(D12="n/a","n/a",IF(D12="","",IF(D12>1,1,D12))) -> 0.23036004 | E43: =IF(E12="n/a","n/a",IF(E12="","",IF(E12>1,1,E12))) -> 1 | F43: =IF(F12="n/a","n/a",IF(F12="","",IF(F12>1,1,F12))) -> 0.19596823 | G43: =IF(G12="n/a","n/a",IF(G12="","",IF(G12>1,1,G12))) -> 0.14003396 | H43: =IF(H12="n/a","n/a",IF(H12="","",IF(H12>1,1,H12))) -> 0.15764283 | I43: =IF(I12="n/a","n/a",IF(I12="","",IF(I12>1,1,I12))) -> 0.16730589 | ... S43: =IF(S12="n/a","n/a",IF(S12="","",IF(S12>1,1,S12))) -> 0 | T43: =IF(T12="n/a","n/a",IF(T12="SI",1,0)) -> 0
A44: COQUIMBO | B44: =IF(B13="n/a","n/a",IF(B13="","",IF(B13>1,1,B13))) -> 0 | C44: =IF(C13="n/a","n/a",IF(C13="","",IF(C13>1,1,C13))) -> 1 | D44: =IF(D13="n/a","n/a",IF(D13="","",IF(D13>1,1,D13))) -> 0.24859221 | E44: =IF(E13="n/a","n/a",IF(E13="","",IF(E13>1,1,E13))) -> 0.9999276 | F44: =IF(F13="n/a","n/a",IF(F13="","",IF(F13>1,1,F13))) -> 0.20288829 | G44: =IF(G13="n/a","n/a",IF(G13="","",IF(G13>1,1,G13))) -> 0.28539409 | H44: =IF(H13="n/a","n/a",IF(H13="","",IF(H13>1,1,H13))) -> 0.28428104 | I44: =IF(I13="n/a","n/a",IF(I13="","",IF(I13>1,1,I13))) -> 0.27361625 | ... S44: =IF(S13="n/a","n/a",IF(S13="","",IF(S13>1,1,S13))) -> 0 | T44: =IF(T13="n/a","n/a",IF(T13="SI",1,0)) -> 0
A45: VICUÑA | B45: =IF(B14="n/a","n/a",IF(B14="","",IF(B14>1,1,B14))) -> 0 | C45: =IF(C14="n/a","n/a",IF(C14="","",IF(C14>1,1,C14))) -> 1 | D45: =IF(D14="n/a","n/a",IF(D14="","",IF(D14>1,1,D14))) -> 0.20901568 | E45: =IF(E14="n/a","n/a",IF(E14="","",IF(E14>1,1,E14))) -> 1 | F45: =IF(F14="n/a","n/a",IF(F14="","",IF(F14>1,1,F14))) -> 0.20672849 | G45: =IF(G14="n/a","n/a",IF(G14="","",IF(G14>1,1,G14))) -> 0.1801614 | H45: =IF(H14="n/a","n/a",IF(H14="","",IF(H14>1,1,H14))) -> 0.14957601 | I45: =IF(I14="n/a","n/a",IF(I14="","",IF(I14>1,1,I14))) -> 0.2081707 | ... S45: =IF(S14="n/a","n/a",IF(S14="","",IF(S14>1,1,S14))) -> 0 | T45: =IF(T14="n/a","n/a",IF(T14="SI",1,0)) -> 0
A46: ILLAPEL | B46: =IF(B15="n/a","n/a",IF(B15="","",IF(B15>1,1,B15))) -> 0 | C46: =IF(C15="n/a","n/a",IF(C15="","",IF(C15>1,1,C15))) -> 1 | D46: =IF(D15="n/a","n/a",IF(D15="","",IF(D15>1,1,D15))) -> 0.35929737 | E46: =IF(E15="n/a","n/a",IF(E15="","",IF(E15>1,1,E15))) -> 1 | F46: =IF(F15="n/a","n/a",IF(F15="","",IF(F15>1,1,F15))) -> 0.32077544 | G46: =IF(G15="n/a","n/a",IF(G15="","",IF(G15>1,1,G15))) -> 0.14081378 | H46: =IF(H15="n/a","n/a",IF(H15="","",IF(H15>1,1,H15))) -> 0.058822105 | I46: =IF(I15="n/a","n/a",IF(I15="","",IF(I15>1,1,I15))) -> 0.10896952 | ... S46: =IF(S15="n/a","n/a",IF(S15="","",IF(S15>1,1,S15))) -> 0 | T46: =IF(T15="n/a","n/a",IF(T15="SI",1,0)) -> 0
A47: CANELA | B47: =IF(B16="n/a","n/a",IF(B16="","",IF(B16>1,1,B16))) -> 0 | C47: =IF(C16="n/a","n/a",IF(C16="","",IF(C16>1,1,C16))) -> 1 | D47: =IF(D16="n/a","n/a",IF(D16="","",IF(D16>1,1,D16))) -> 0.20186781 | E47: =IF(E16="n/a","n/a",IF(E16="","",IF(E16>1,1,E16))) -> 0.9533093 | F47: =IF(F16="n/a","n/a",IF(F16="","",IF(F16>1,1,F16))) -> 0.14967112 | G47: =IF(G16="n/a","n/a",IF(G16="","",IF(G16>1,1,G16))) -> 0.096405293 | H47: =IF(H16="n/a","n/a",IF(H16="","",IF(H16>1,1,H16))) -> 0.10424388 | I47: =IF(I16="n/a","n/a",IF(I16="","",IF(I16>1,1,I16))) -> 0.14151237 | ... S47: =IF(S16="n/a","n/a",IF(S16="","",IF(S16>1,1,S16))) -> 0 | T47: =IF(T16="n/a","n/a",IF(T16="SI",1,0)) -> 0
A48: LOS VILOS | B48: =IF(B17="n/a","n/a",IF(B17="","",IF(B17>1,1,B17))) -> 0 | C48: =IF(C17="n/a","n/a",IF(C17="","",IF(C17>1,1,C17))) -> 1 | D48: =IF(D17="n/a","n/a",IF(D17="","",IF(D17>1,1,D17))) -> 0.33904219 | E48: =IF(E17="n/a","n/a",IF(E17="","",IF(E17>1,1,E17))) -> 1 | F48: =IF(F17="n/a","n/a",IF(F17="","",IF(F17>1,1,F17))) -> 0.27634406 | G48: =IF(G17="n/a","n/a",IF(G17="","",IF(G17>1,1,G17))) -> 0.14766488 | H48: =IF(H17="n/a","n/a",IF(H17="","",IF(H17>1,1,H17))) -> 0.11410453 | I48: =IF(I17="n/a","n/a",IF(I17="","",IF(I17>1,1,I17))) -> 0.24509112 | ... S48: =IF(S17="n/a","n/a",IF(S17="","",IF(S17>1,1,S17))) -> 0 | T48: =IF(T17="n/a","n/a",IF(T17="SI",1,0)) -> 0
A49: SALAMANCA | B49: =IF(B18="n/a","n/a",IF(B18="","",IF(B18>1,1,B18))) -> 0 | C49: =IF(C18="n/a","n/a",IF(C18="","",IF(C18>1,1,C18))) -> #DIV/0! | D49: =IF(D18="n/a","n/a",IF(D18="","",IF(D18>1,1,D18))) -> 0.22447558 | E49: =IF(E18="n/a","n/a",IF(E18="","",IF(E18>1,1,E18))) -> 0.999 | F49: =IF(F18="n/a","n/a",IF(F18="","",IF(F18>1,1,F18))) -> 0.19412516 | G49: =IF(G18="n/a","n/a",IF(G18="","",IF(G18>1,1,G18))) -> 0.15660092 | H49: =IF(H18="n/a","n/a",IF(H18="","",IF(H18>1,1,H18))) -> 0.18434477 | I49: =IF(I18="n/a","n/a",IF(I18="","",IF(I18>1,1,I18))) -> 0.26359872 | ... S49: =IF(S18="n/a","n/a",IF(S18="","",IF(S18>1,1,S18))) -> 0 | T49: =IF(T18="n/a","n/a",IF(T18="SI",1,0)) -> 0
A50: OVALLE | B50: =IF(B19="n/a","n/a",IF(B19="","",IF(B19>1,1,B19))) -> 0 | C50: =IF(C19="n/a","n/a",IF(C19="","",IF(C19>1,1,C19))) -> 1 | D50: =IF(D19="n/a","n/a",IF(D19="","",IF(D19>1,1,D19))) -> 0.24610586 | E50: =IF(E19="n/a","n/a",IF(E19="","",IF(E19>1,1,E19))) -> 1 | F50: =IF(F19="n/a","n/a",IF(F19="","",IF(F19>1,1,F19))) -> 0.24523476 | G50: =IF(G19="n/a","n/a",IF(G19="","",IF(G19>1,1,G19))) -> 0.14885595 | H50: =IF(H19="n/a","n/a",IF(H19="","",IF(H19>1,1,H19))) -> 0.19845705 | I50: =IF(I19="n/a","n/a",IF(I19="","",IF(I19>1,1,I19))) -> 0.26882379 | ... S50: =IF(S19="n/a","n/a",IF(S19="","",IF(S19>1,1,S19))) -> 0 | T50: =IF(T19="n/a","n/a",IF(T19="SI",1,0)) -> 0
A51: COMBARBALÁ | B51: =IF(B20="n/a","n/a",IF(B20="","",IF(B20>1,1,B20))) -> 0 | C51: =IF(C20="n/a","n/a",IF(C20="","",IF(C20>1,1,C20))) -> #DIV/0! | D51: =IF(D20="n/a","n/a",IF(D20="","",IF(D20>1,1,D20))) -> 0.2211365 | E51: =IF(E20="n/a","n/a",IF(E20="","",IF(E20>1,1,E20))) -> 1 | F51: =IF(F20="n/a","n/a",IF(F20="","",IF(F20>1,1,F20))) -> 0.27777778 | G51: =IF(G20="n/a","n/a",IF(G20="","",IF(G20>1,1,G20))) -> 0.10647308 | H51: =IF(H20="n/a","n/a",IF(H20="","",IF(H20>1,1,H20))) -> 0.081349444 | I51: =IF(I20="n/a","n/a",IF(I20="","",IF(I20>1,1,I20))) -> 0.27263182 | ... S51: =IF(S20="n/a","n/a",IF(S20="","",IF(S20>1,1,S20))) -> 0 | T51: =IF(T20="n/a","n/a",IF(T20="SI",1,0)) -> 0
...

Sheet META 2
A1: COMUNA | B1: ESTABLECIMIENTO | C1: CUMPLIMIENTO | D1: Indicador | E1: META 2 : FAMILIAS EVALUADAS SEGÚN RIESGO FAMILIAR
E2: NUMERADOR | G2: DENOMINADOR
E10: Nº de familias evaluadas según riesgo familiar | G10: Total de familias Insciritas (población inscrita/3,3)
D11: Resultado | E11: A JUNIO | F11: A DICBRE
A12: 04101-LA SERENA | B12: 105300-CES. CARDENAL CARO
A13: 04101-LA SERENA | B13: 105301-CES. LAS COMPAÑIAS
A14: 04101-LA SERENA | B14: 105302-CES. PEDRO AGUIRRE C.
A15: 04101-LA SERENA | B15: 105313-CES. SCHAFFHAUSER
A16: 04101-LA SERENA | B16: 105319-CES. CARDENAL R.S.H.
A17: 04101-LA SERENA | B17: 105325-CESFAM JUAN PABLO II
A18: 04101-LA SERENA | B18: 105400-P.S.R. ALGARROBITO
A19: 04101-LA SERENA | B19: 105401-P.S.R. LAS ROJAS
A20: 04101-LA SERENA | B20: 105402-P.S.R. EL ROMERO
A21: 04101-LA SERENA | B21: 105499-P.S.R. LAMBERT
A22: 04101-LA SERENA | B22: 105700-CECOF VILLA EL INDIO
A23: 04101-LA SERENA | B23: 105701-CECOF VILLA ALEMANIA
... A25: 04101-LA SERENA | B25: 200402-CECOF ARCOS DE PINAMAR
A26: TOTAL LA SERENA | C26: =+D26/Metas!G10 -> 0 | D26: =+E26/G26 -> 0 | E26: =SUM(E12:E25) -> 0 | F26: =SUM(F12:F25) -> 0 | G26: 57927
A27: 04102-COQUIMBO | B27: 105303-CES. SAN JUAN
A28: 04102-COQUIMBO | B28: 105304-CES. SANTA CECILIA
A29: 04102-COQUIMBO | B29: 105305-CES. TIERRAS BLANCAS
A30: 04102-COQUIMBO | B30: 105321-CES. RURAL TONGOY
A31: 04102-COQUIMBO | B31: 105323-CES. DR. SERGIO AGUILAR
A32: 04102-COQUIMBO | B32: 105404-P.S.R. EL TANGUE
A33: 04102-COQUIMBO | B33: 105405-P.S.R. GUANAQUEROS
A34: 04102-COQUIMBO | B34: 105406-P.S.R. PAN DE AZUCAR
A35: 04102-COQUIMBO | B35: 105407-P.S.R. TAMBILLOS
A36: 04102-COQUIMBO | B36: 105705-CECOF EL ALBA
A37: 04102-COQUIMBO | B37: 200273-CECOF PUNTA MIRA
A38: TOTAL COQUIMBO | C38: =+D38/Metas!G8 -> 0 | D38: =+E38/G38 -> 0 | E38: =SUM(E27:E37) -> 0 | F38: =SUM(F27:F37) -> 0 | G38: 56504
A39: 04106-VICUÑA | B39: 105467-P.S.R. DIAGUITAS
A40: 04106-VICUÑA | B40: 105468-P.S.R. EL MOLLE
A41: 04106-VICUÑA | B41: 105469-P.S.R. EL TAMBO
A42: 04106-VICUÑA | B42: 105470-P.S.R. HUANTA
A43: 04106-VICUÑA | B43: 105471-P.S.R. PERALILLO
A44: 04106-VICUÑA | B44: 105472-P.S.R. RIVADAVIA
A45: 04106-VICUÑA | B45: 105473-P.S.R. TALCUNA
A46: 04106-VICUÑA | B46: 105474-P.S.R. CHAPILCA
A47: 04106-VICUÑA | B47: 105502-P.S.R. CALINGASTA
A48: 04106-VICUÑA | B48: 105509-P.S.R. GUALLIGUAICA
...

Sheet META 3.1
A1: COMUNA | B1: ESTABLECIMIENTO | C1: CUMPLIMIENTO | D1: Indicador | E1: META 3.1: GESTION DE RECLAMOS EN APS
E2: NUMERADOR | R2: DENOMINADOR
E10: Nº total de reclamos respondidos con solución dentro de los plazos legales establecidos (15 días hábiles) | R10: Nº total de reclamos
D11: Resultado | E11: ENERO | F11: FEBRERO | G11: MARZO | H11: ABRIL | I11: MAYO | J11: JUNIO | K11: JULIO | L11: AGOSTO | M11: SEPBRE | N11: OCTBRE | O11: NOVBRE | P11: DICBRE | Q11: TOTAL | R11: ENERO | S11: FEBRERO | T11: MARZO | U11: ABRIL | V11: MAYO | W11: JUNIO | X11: JULIO | Y11: AGOSTO | Z11: SEPBRE | AA11: OCTBRE | AB11: NOVBRE | AC11: DICBRE | AD11: TOTAL
A12: 04101-LA SERENA | B12: 105300-CES. CARDENAL CARO | E12: =IFERROR(VLOOKUP(B12,'[1]NUM3.1'!$H$3:$L$72,2,FALSE),0) -> 40 | F12: =IFERROR(VLOOKUP(B12,'[1]NUM3.1'!$H$3:$L$72,3,FALSE),0) -> 45 | G12: =IFERROR(VLOOKUP(B12,'[1]NUM3.1'!$H$3:$L$72,4,FALSE),0) -> 51 | Q12: =SUM(E12:P12) -> 136 | R12: =IFERROR(VLOOKUP(B12,'[1]DEN3.1'!$H$3:$L$72,2,FALSE),0) -> 40 | S12: =IFERROR(VLOOKUP(B12,'[1]DEN3.1'!$H$3:$L$72,3,FALSE),0) -> 45 | T12: =IFERROR(VLOOKUP(B12,'[1]DEN3.1'!$H$3:$L$72,4,FALSE),0) -> 51 | AD12: =SUM(R12:AC12) -> 136
A13: 04101-LA SERENA | B13: 105301-CES. LAS COMPAÑIAS | E13: =IFERROR(VLOOKUP(B13,'[1]NUM3.1'!$H$3:$L$72,2,FALSE),0) -> 4 | F13: =IFERROR(VLOOKUP(B13,'[1]NUM3.1'!$H$3:$L$72,3,FALSE),0) -> 5 | G13: =IFERROR(VLOOKUP(B13,'[1]NUM3.1'!$H$3:$L$72,4,FALSE),0) -> 0 | Q13: =SUM(E13:P13) -> 9 | R13: =IFERROR(VLOOKUP(B13,'[1]DEN3.1'!$H$3:$L$72,2,FALSE),0) -> 4 | S13: =IFERROR(VLOOKUP(B13,'[1]DEN3.1'!$H$3:$L$72,3,FALSE),0) -> 5 | T13: =IFERROR(VLOOKUP(B13,'[1]DEN3.1'!$H$3:$L$72,4,FALSE),0) -> 0 | AD13: =SUM(R13:AC13) -> 9
A14: 04101-LA SERENA | B14: 105302-CES. PEDRO AGUIRRE C. | E14: =IFERROR(VLOOKUP(B14,'[1]NUM3.1'!$H$3:$L$72,2,FALSE),0) -> 7 | F14: =IFERROR(VLOOKUP(B14,'[1]NUM3.1'!$H$3:$L$72,3,FALSE),0) -> 13 | G14: =IFERROR(VLOOKUP(B14,'[1]NUM3.1'!$H$3:$L$72,4,FALSE),0) -> 10 | Q14: =SUM(E14:P14) -> 30 | R14: =IFERROR(VLOOKUP(B14,'[1]DEN3.1'!$H$3:$L$72,2,FALSE),0) -> 7 | S14: =IFERROR(VLOOKUP(B14,'[1]DEN3.1'!$H$3:$L$72,3,FALSE),0) -> 13 | T14: =IFERROR(VLOOKUP(B14,'[1]DEN3.1'!$H$3:$L$72,4,FALSE),0) -> 10 | AD14: =SUM(R14:AC14) -> 30
A15: 04101-LA SERENA | B15: 105313-CES. SCHAFFHAUSER | E15: =IFERROR(VLOOKUP(B15,'[1]NUM3.1'!$H$3:$L$72,2,FALSE),0) -> 4 | F15: =IFERROR(VLOOKUP(B15,'[1]NUM3.1'!$H$3:$L$72,3,FALSE),0) -> 1 | G15: =IFERROR(VLOOKUP(B15,'[1]NUM3.1'!$H$3:$L$72,4,FALSE),0) -> 5 | Q15: =SUM(E15:P15) -> 10 | R15: =IFERROR(VLOOKUP(B15,'[1]DEN3.1'!$H$3:$L$72,2,FALSE),0) -> 4 | S15: =IFERROR(VLOOKUP(B15,'[1]DEN3.1'!$H$3:$L$72,3,FALSE),0) -> 1 | T15: =IFERROR(VLOOKUP(B15,'[1]DEN3.1'!$H$3:$L$72,4,FALSE),0) -> 5 | AD15: =SUM(R15:AC15) -> 10
A16: 04101-LA SERENA | B16: 105319-CES. CARDENAL R.S.H. | E16: =IFERROR(VLOOKUP(B16,'[1]NUM3.1'!$H$3:$L$72,2,FALSE),0) -> 11 | F16: =IFERROR(VLOOKUP(B16,'[1]NUM3.1'!$H$3:$L$72,3,FALSE),0) -> 9 | G16: =IFERROR(VLOOKUP(B16,'[1]NUM3.1'!$H$3:$L$72,4,FALSE),0) -> 3 | Q16: =SUM(E16:P16) -> 23 | R16: =IFERROR(VLOOKUP(B16,'[1]DEN3.1'!$H$3:$L$72,2,FALSE),0) -> 11 | S16: =IFERROR(VLOOKUP(B16,'[1]DEN3.1'!$H$3:$L$72,3,FALSE),0) -> 9 | T16: =IFERROR(VLOOKUP(B16,'[1]DEN3.1'!$H$3:$L$72,4,FALSE),0) -> 3 | AD16: =SUM(R16:AC16) -> 23
A17: 04101-LA SERENA | B17: 105325-CESFAM JUAN PABLO II | E17: =IFERROR(VLOOKUP(B17,'[1]NUM3.1'!$H$3:$L$72,2,FALSE),0) -> 4 | F17: =IFERROR(VLOOKUP(B17,'[1]NUM3.1'!$H$3:$L$72,3,FALSE),0) -> 4 | G17: =IFERROR(VLOOKUP(B17,'[1]NUM3.1'!$H$3:$L$72,4,FALSE),0) -> 7 | Q17: =SUM(E17:P17) -> 15 | R17: =IFERROR(VLOOKUP(B17,'[1]DEN3.1'!$H$3:$L$72,2,FALSE),0) -> 4 | S17: =IFERROR(VLOOKUP(B17,'[1]DEN3.1'!$H$3:$L$72,3,FALSE),0) -> 4 | T17: =IFERROR(VLOOKUP(B17,'[1]DEN3.1'!$H$3:$L$72,4,FALSE),0) -> 7 | AD17: =SUM(R17:AC17) -> 15
A18: 04101-LA SERENA | B18: 105400-P.S.R. ALGARROBITO | E18: =IFERROR(VLOOKUP(B18,'[1]NUM3.1'!$H$3:$L$72,2,FALSE),0) -> 2 | F18: =IFERROR(VLOOKUP(B18,'[1]NUM3.1'!$H$3:$L$72,3,FALSE),0) -> 0 | G18: =IFERROR(VLOOKUP(B18,'[1]NUM3.1'!$H$3:$L$72,4,FALSE),0) -> 2 | Q18: =SUM(E18:P18) -> 4 | R18: =IFERROR(VLOOKUP(B18,'[1]DEN3.1'!$H$3:$L$72,2,FALSE),0) -> 2 | S18: =IFERROR(VLOOKUP(B18,'[1]DEN3.1'!$H$3:$L$72,3,FALSE),0) -> 0 | T18: =IFERROR(VLOOKUP(B18,'[1]DEN3.1'!$H$3:$L$72,4,FALSE),0) -> 2 | AD18: =SUM(R18:AC18) -> 4
A19: 04101-LA SERENA | B19: 105401-P.S.R. LAS ROJAS | E19: =IFERROR(VLOOKUP(B19,'[1]NUM3.1'!$H$3:$L$72,2,FALSE),0) -> 1 | F19: =IFERROR(VLOOKUP(B19,'[1]NUM3.1'!$H$3:$L$72,3,FALSE),0) -> 1 | G19: =IFERROR(VLOOKUP(B19,'[1]NUM3.1'!$H$3:$L$72,4,FALSE),0) -> 1 | Q19: =SUM(E19:P19) -> 3 | R19: =IFERROR(VLOOKUP(B19,'[1]DEN3.1'!$H$3:$L$72,2,FALSE),0) -> 1 | S19: =IFERROR(VLOOKUP(B19,'[1]DEN3.1'!$H$3:$L$72,3,FALSE),0) -> 1 | T19: =IFERROR(VLOOKUP(B19,'[1]DEN3.1'!$H$3:$L$72,4,FALSE),0) -> 1 | AD19: =SUM(R19:AC19) -> 3
A20: 04101-LA SERENA | B20: 105402-P.S.R. EL ROMERO | E20: =IFERROR(VLOOKUP(B20,'[1]NUM3.1'!$H$3:$L$72,2,FALSE),0) -> 0 | F20: =IFERROR(VLOOKUP(B20,'[1]NUM3.1'!$H$3:$L$72,3,FALSE),0) -> 0 | G20: =IFERROR(VLOOKUP(B20,'[1]NUM3.1'!$H$3:$L$72,4,FALSE),0) -> 0 | Q20: =SUM(E20:P20) -> 0 | R20: =IFERROR(VLOOKUP(B20,'[1]DEN3.1'!$H$3:$L$72,2,FALSE),0) -> 0 | S20: =IFERROR(VLOOKUP(B20,'[1]DEN3.1'!$H$3:$L$72,3,FALSE),0) -> 0 | T20: =IFERROR(VLOOKUP(B20,'[1]DEN3.1'!$H$3:$L$72,4,FALSE),0) -> 0 | AD20: =SUM(R20:AC20) -> 0
A21: 04101-LA SERENA | B21: 105499-P.S.R. LAMBERT | E21: =IFERROR(VLOOKUP(B21,'[1]NUM3.1'!$H$3:$L$72,2,FALSE),0) -> 0 | F21: =IFERROR(VLOOKUP(B21,'[1]NUM3.1'!$H$3:$L$72,3,FALSE),0) -> 0 | G21: =IFERROR(VLOOKUP(B21,'[1]NUM3.1'!$H$3:$L$72,4,FALSE),0) -> 0 | Q21: =SUM(E21:P21) -> 0 | R21: =IFERROR(VLOOKUP(B21,'[1]DEN3.1'!$H$3:$L$72,2,FALSE),0) -> 0 | S21: =IFERROR(VLOOKUP(B21,'[1]DEN3.1'!$H$3:$L$72,3,FALSE),0) -> 0 | T21: =IFERROR(VLOOKUP(B21,'[1]DEN3.1'!$H$3:$L$72,4,FALSE),0) -> 0 | AD21: =SUM(R21:AC21) -> 0
A22: 04101-LA SERENA | B22: 105700-CECOF VILLA EL INDIO | E22: =IFERROR(VLOOKUP(B22,'[1]NUM3.1'!$H$3:$L$72,2,FALSE),0) -> 3 | F22: =IFERROR(VLOOKUP(B22,'[1]NUM3.1'!$H$3:$L$72,3,FALSE),0) -> 3 | G22: =IFERROR(VLOOKUP(B22,'[1]NUM3.1'!$H$3:$L$72,4,FALSE),0) -> 3 | Q22: =SUM(E22:P22) -> 9 | R22: =IFERROR(VLOOKUP(B22,'[1]DEN3.1'!$H$3:$L$72,2,FALSE),0) -> 3 | S22: =IFERROR(VLOOKUP(B22,'[1]DEN3.1'!$H$3:$L$72,3,FALSE),0) -> 3 | T22: =IFERROR(VLOOKUP(B22,'[1]DEN3.1'!$H$3:$L$72,4,FALSE),0) -> 3 | AD22: =SUM(R22:AC22) -> 9
A23: 04101-LA SERENA | B23: 105701-CECOF VILLA ALEMANIA | E23: =IFERROR(VLOOKUP(B23,'[1]NUM3.1'!$H$3:$L$72,2,FALSE),0) -> 0 | F23: =IFERROR(VLOOKUP(B23,'[1]NUM3.1'!$H$3:$L$72,3,FALSE),0) -> 0 | G23: =IFERROR(VLOOKUP(B23,'[1]NUM3.1'!$H$3:$L$72,4,FALSE),0) -> 0 | Q23: =SUM(E23:P23) -> 0 | R23: =IFERROR(VLOOKUP(B23,'[1]DEN3.1'!$H$3:$L$72,2,FALSE),0) -> 0 | S23: =IFERROR(VLOOKUP(B23,'[1]DEN3.1'!$H$3:$L$72,3,FALSE),0) -> 0 | T23: =IFERROR(VLOOKUP(B23,'[1]DEN3.1'!$H$3:$L$72,4,FALSE),0) -> 0 | AD23: =SUM(R23:AC23) -> 0
... A25: 04101-LA SERENA | B25: 200402-CECOF ARCOS DE PINAMAR | E25: =IFERROR(VLOOKUP(B25,'[1]NUM3.1'!$H$3:$L$72,2,FALSE),0) -> 1 | F25: =IFERROR(VLOOKUP(B25,'[1]NUM3.1'!$H$3:$L$72,3,FALSE),0) -> 0 | G25: =IFERROR(VLOOKUP(B25,'[1]NUM3.1'!$H$3:$L$72,4,FALSE),0) -> 0 | Q25: =SUM(E25:P25) -> 1 | R25: =IFERROR(VLOOKUP(B25,'[1]DEN3.1'!$H$3:$L$72,2,FALSE),0) -> 1 | S25: =IFERROR(VLOOKUP(B25,'[1]DEN3.1'!$H$3:$L$72,3,FALSE),0) -> 0 | T25: =IFERROR(VLOOKUP(B25,'[1]DEN3.1'!$H$3:$L$72,4,FALSE),0) -> 0 | AD25: =SUM(R25:AC25) -> 1
A26: TOTAL LA SERENA | C26: =+D26/Metas!H10 -> 1.0194719 | D26: =+Q26/AD26 -> 1 | E26: =SUM(E12:E25) -> 77 | F26: =SUM(F12:F25) -> 81 | G26: =SUM(G12:G25) -> 82 | H26: =SUM(H12:H25) -> 0 | I26: =SUM(I12:I25) -> 0 | J26: =SUM(J12:J25) -> 0 | K26: =SUM(K12:K25) -> 0 | L26: =SUM(L12:L25) -> 0 | ... AD26: =SUM(AD12:AD25) -> 240
A27: 04102-COQUIMBO | B27: 105303-CES. SAN JUAN | E27: =IFERROR(VLOOKUP(B27,'[1]NUM3.1'!$H$3:$L$72,2,FALSE),0) -> 10 | F27: =IFERROR(VLOOKUP(B27,'[1]NUM3.1'!$H$3:$L$72,3,FALSE),0) -> 9 | G27: =IFERROR(VLOOKUP(B27,'[1]NUM3.1'!$H$3:$L$72,4,FALSE),0) -> 9 | Q27: =SUM(E27:P27) -> 28 | R27: =IFERROR(VLOOKUP(B27,'[1]DEN3.1'!$H$3:$L$72,2,FALSE),0) -> 10 | S27: =IFERROR(VLOOKUP(B27,'[1]DEN3.1'!$H$3:$L$72,3,FALSE),0) -> 9 | T27: =IFERROR(VLOOKUP(B27,'[1]DEN3.1'!$H$3:$L$72,4,FALSE),0) -> 9 | AD27: =SUM(R27:AC27) -> 28
A28: 04102-COQUIMBO | B28: 105304-CES. SANTA CECILIA | E28: =IFERROR(VLOOKUP(B28,'[1]NUM3.1'!$H$3:$L$72,2,FALSE),0) -> 5 | F28: =IFERROR(VLOOKUP(B28,'[1]NUM3.1'!$H$3:$L$72,3,FALSE),0) -> 7 | G28: =IFERROR(VLOOKUP(B28,'[1]NUM3.1'!$H$3:$L$72,4,FALSE),0) -> 15 | Q28: =SUM(E28:P28) -> 27 | R28: =IFERROR(VLOOKUP(B28,'[1]DEN3.1'!$H$3:$L$72,2,FALSE),0) -> 5 | S28: =IFERROR(VLOOKUP(B28,'[1]DEN3.1'!$H$3:$L$72,3,FALSE),0) -> 7 | T28: =IFERROR(VLOOKUP(B28,'[1]DEN3.1'!$H$3:$L$72,4,FALSE),0) -> 15 | AD28: =SUM(R28:AC28) -> 27
A29: 04102-COQUIMBO | B29: 105305-CES. TIERRAS BLANCAS | E29: =IFERROR(VLOOKUP(B29,'[1]NUM3.1'!$H$3:$L$72,2,FALSE),0) -> 12 | F29: =IFERROR(VLOOKUP(B29,'[1]NUM3.1'!$H$3:$L$72,3,FALSE),0) -> 11 | G29: =IFERROR(VLOOKUP(B29,'[1]NUM3.1'!$H$3:$L$72,4,FALSE),0) -> 6 | Q29: =SUM(E29:P29) -> 29 | R29: =IFERROR(VLOOKUP(B29,'[1]DEN3.1'!$H$3:$L$72,2,FALSE),0) -> 12 | S29: =IFERROR(VLOOKUP(B29,'[1]DEN3.1'!$H$3:$L$72,3,FALSE),0) -> 11 | T29: =IFERROR(VLOOKUP(B29,'[1]DEN3.1'!$H$3:$L$72,4,FALSE),0) -> 6 | AD29: =SUM(R29:AC29) -> 29
A30: 04102-COQUIMBO | B30: 105321-CES. RURAL TONGOY | E30: =IFERROR(VLOOKUP(B30,'[1]NUM3.1'!$H$3:$L$72,2,FALSE),0) -> 2 | F30: =IFERROR(VLOOKUP(B30,'[1]NUM3.1'!$H$3:$L$72,3,FALSE),0) -> 1 | G30: =IFERROR(VLOOKUP(B30,'[1]NUM3.1'!$H$3:$L$72,4,FALSE),0) -> 2 | Q30: =SUM(E30:P30) -> 5 | R30: =IFERROR(VLOOKUP(B30,'[1]DEN3.1'!$H$3:$L$72,2,FALSE),0) -> 2 | S30: =IFERROR(VLOOKUP(B30,'[1]DEN3.1'!$H$3:$L$72,3,FALSE),0) -> 1 | T30: =IFERROR(VLOOKUP(B30,'[1]DEN3.1'!$H$3:$L$72,4,FALSE),0) -> 2 | AD30: =SUM(R30:AC30) -> 5
A31: 04102-COQUIMBO | B31: 105323-CES. DR. SERGIO AGUILAR | E31: =IFERROR(VLOOKUP(B31,'[1]NUM3.1'!$H$3:$L$72,2,FALSE),0) -> 11 | F31: =IFERROR(VLOOKUP(B31,'[1]NUM3.1'!$H$3:$L$72,3,FALSE),0) -> 18 | G31: =IFERROR(VLOOKUP(B31,'[1]NUM3.1'!$H$3:$L$72,4,FALSE),0) -> 50 | Q31: =SUM(E31:P31) -> 79 | R31: =IFERROR(VLOOKUP(B31,'[1]DEN3.1'!$H$3:$L$72,2,FALSE),0) -> 11 | S31: =IFERROR(VLOOKUP(B31,'[1]DEN3.1'!$H$3:$L$72,3,FALSE),0) -> 18 | T31: =IFERROR(VLOOKUP(B31,'[1]DEN3.1'!$H$3:$L$72,4,FALSE),0) -> 50 | AD31: =SUM(R31:AC31) -> 79
A32: 04102-COQUIMBO | B32: 105404-P.S.R. EL TANGUE | E32: =IFERROR(VLOOKUP(B32,'[1]NUM3.1'!$H$3:$L$72,2,FALSE),0) -> 0 | F32: =IFERROR(VLOOKUP(B32,'[1]NUM3.1'!$H$3:$L$72,3,FALSE),0) -> 0 | G32: =IFERROR(VLOOKUP(B32,'[1]NUM3.1'!$H$3:$L$72,4,FALSE),0) -> 0 | Q32: =SUM(E32:P32) -> 0 | R32: =IFERROR(VLOOKUP(B32,'[1]DEN3.1'!$H$3:$L$72,2,FALSE),0) -> 0 | S32: =IFERROR(VLOOKUP(B32,'[1]DEN3.1'!$H$3:$L$72,3,FALSE),0) -> 0 | T32: =IFERROR(VLOOKUP(B32,'[1]DEN3.1'!$H$3:$L$72,4,FALSE),0) -> 0 | AD32: =SUM(R32:AC32) -> 0
A33: 04102-COQUIMBO | B33: 105405-P.S.R. GUANAQUEROS | E33: =IFERROR(VLOOKUP(B33,'[1]NUM3.1'!$H$3:$L$72,2,FALSE),0) -> 0 | F33: =IFERROR(VLOOKUP(B33,'[1]NUM3.1'!$H$3:$L$72,3,FALSE),0) -> 3 | G33: =IFERROR(VLOOKUP(B33,'[1]NUM3.1'!$H$3:$L$72,4,FALSE),0) -> 0 | Q33: =SUM(E33:P33) -> 3 | R33: =IFERROR(VLOOKUP(B33,'[1]DEN3.1'!$H$3:$L$72,2,FALSE),0) -> 0 | S33: =IFERROR(VLOOKUP(B33,'[1]DEN3.1'!$H$3:$L$72,3,FALSE),0) -> 3 | T33: =IFERROR(VLOOKUP(B33,'[1]DEN3.1'!$H$3:$L$72,4,FALSE),0) -> 0 | AD33: =SUM(R33:AC33) -> 3
A34: 04102-COQUIMBO | B34: 105406-P.S.R. PAN DE AZUCAR | E34: =IFERROR(VLOOKUP(B34,'[1]NUM3.1'!$H$3:$L$72,2,FALSE),0) -> 0 | F34: =IFERROR(VLOOKUP(B34,'[1]NUM3.1'!$H$3:$L$72,3,FALSE),0) -> 2 | G34: =IFERROR(VLOOKUP(B34,'[1]NUM3.1'!$H$3:$L$72,4,FALSE),0) -> 5 | Q34: =SUM(E34:P34) -> 7 | R34: =IFERROR(VLOOKUP(B34,'[1]DEN3.1'!$H$3:$L$72,2,FALSE),0) -> 0 | S34: =IFERROR(VLOOKUP(B34,'[1]DEN3.1'!$H$3:$L$72,3,FALSE),0) -> 2 | T34: =IFERROR(VLOOKUP(B34,'[1]DEN3.1'!$H$3:$L$72,4,FALSE),0) -> 5 | AD34: =SUM(R34:AC34) -> 7
A35: 04102-COQUIMBO | B35: 105407-P.S.R. TAMBILLOS | E35: =IFERROR(VLOOKUP(B35,'[1]NUM3.1'!$H$3:$L$72,2,FALSE),0) -> 0 | F35: =IFERROR(VLOOKUP(B35,'[1]NUM3.1'!$H$3:$L$72,3,FALSE),0) -> 0 | G35: =IFERROR(VLOOKUP(B35,'[1]NUM3.1'!$H$3:$L$72,4,FALSE),0) -> 0 | Q35: =SUM(E35:P35) -> 0 | R35: =IFERROR(VLOOKUP(B35,'[1]DEN3.1'!$H$3:$L$72,2,FALSE),0) -> 0 | S35: =IFERROR(VLOOKUP(B35,'[1]DEN3.1'!$H$3:$L$72,3,FALSE),0) -> 0 | T35: =IFERROR(VLOOKUP(B35,'[1]DEN3.1'!$H$3:$L$72,4,FALSE),0) -> 0 | AD35: =SUM(R35:AC35) -> 0
A36: 04102-COQUIMBO | B36: 105705-CECOF EL ALBA | E36: =IFERROR(VLOOKUP(B36,'[1]NUM3.1'!$H$3:$L$72,2,FALSE),0) -> 0 | F36: =IFERROR(VLOOKUP(B36,'[1]NUM3.1'!$H$3:$L$72,3,FALSE),0) -> 0 | G36: =IFERROR(VLOOKUP(B36,'[1]NUM3.1'!$H$3:$L$72,4,FALSE),0) -> 1 | Q36: =SUM(E36:P36) -> 1 | R36: =IFERROR(VLOOKUP(B36,'[1]DEN3.1'!$H$3:$L$72,2,FALSE),0) -> 0 | S36: =IFERROR(VLOOKUP(B36,'[1]DEN3.1'!$H$3:$L$72,3,FALSE),0) -> 0 | T36: =IFERROR(VLOOKUP(B36,'[1]DEN3.1'!$H$3:$L$72,4,FALSE),0) -> 1 | AD36: =SUM(R36:AC36) -> 1
A37: 04102-COQUIMBO | B37: 200273-CECOF PUNTA MIRA | E37: =IFERROR(VLOOKUP(B37,'[1]NUM3.1'!$H$3:$L$72,2,FALSE),0) -> 0 | F37: =IFERROR(VLOOKUP(B37,'[1]NUM3.1'!$H$3:$L$72,3,FALSE),0) -> 0 | G37: =IFERROR(VLOOKUP(B37,'[1]NUM3.1'!$H$3:$L$72,4,FALSE),0) -> 3 | Q37: =SUM(E37:P37) -> 3 | R37: =IFERROR(VLOOKUP(B37,'[1]DEN3.1'!$H$3:$L$72,2,FALSE),0) -> 0 | S37: =IFERROR(VLOOKUP(B37,'[1]DEN3.1'!$H$3:$L$72,3,FALSE),0) -> 0 | T37: =IFERROR(VLOOKUP(B37,'[1]DEN3.1'!$H$3:$L$72,4,FALSE),0) -> 3 | AD37: =SUM(R37:AC37) -> 3
A38: TOTAL COQUIMBO | C38: =+D38/Metas!H8 -> 1.0196798 | D38: =+Q38/AD38 -> 1 | E38: =SUM(E27:E37) -> 40 | F38: =SUM(F27:F37) -> 51 | G38: =SUM(G27:G37) -> 91 | H38: =SUM(H27:H37) -> 0 | I38: =SUM(I27:I37) -> 0 | J38: =SUM(J27:J37) -> 0 | K38: =SUM(K27:K37) -> 0 | L38: =SUM(L27:L37) -> 0 | ... AD38: =SUM(AD27:AD37) -> 182
A39: 04106-VICUÑA | B39: 105467-P.S.R. DIAGUITAS | E39: =IFERROR(VLOOKUP(B39,'[1]NUM3.1'!$H$3:$L$72,2,FALSE),0) -> 0 | F39: =IFERROR(VLOOKUP(B39,'[1]NUM3.1'!$H$3:$L$72,3,FALSE),0) -> 0 | G39: =IFERROR(VLOOKUP(B39,'[1]NUM3.1'!$H$3:$L$72,4,FALSE),0) -> 0 | Q39: =SUM(E39:P39) -> 0 | R39: =IFERROR(VLOOKUP(B39,'[1]DEN3.1'!$H$3:$L$72,2,FALSE),0) -> 0 | S39: =IFERROR(VLOOKUP(B39,'[1]DEN3.1'!$H$3:$L$72,3,FALSE),0) -> 0 | T39: =IFERROR(VLOOKUP(B39,'[1]DEN3.1'!$H$3:$L$72,4,FALSE),0) -> 0 | AD39: =SUM(R39:AC39) -> 0
A40: 04106-VICUÑA | B40: 105468-P.S.R. EL MOLLE | E40: =IFERROR(VLOOKUP(B40,'[1]NUM3.1'!$H$3:$L$72,2,FALSE),0) -> 0 | F40: =IFERROR(VLOOKUP(B40,'[1]NUM3.1'!$H$3:$L$72,3,FALSE),0) -> 0 | G40: =IFERROR(VLOOKUP(B40,'[1]NUM3.1'!$H$3:$L$72,4,FALSE),0) -> 0 | Q40: =SUM(E40:P40) -> 0 | R40: =IFERROR(VLOOKUP(B40,'[1]DEN3.1'!$H$3:$L$72,2,FALSE),0) -> 0 | S40: =IFERROR(VLOOKUP(B40,'[1]DEN3.1'!$H$3:$L$72,3,FALSE),0) -> 0 | T40: =IFERROR(VLOOKUP(B40,'[1]DEN3.1'!$H$3:$L$72,4,FALSE),0) -> 0 | AD40: =SUM(R40:AC40) -> 0
A41: 04106-VICUÑA | B41: 105469-P.S.R. EL TAMBO | E41: =IFERROR(VLOOKUP(B41,'[1]NUM3.1'!$H$3:$L$72,2,FALSE),0) -> 0 | F41: =IFERROR(VLOOKUP(B41,'[1]NUM3.1'!$H$3:$L$72,3,FALSE),0) -> 0 | G41: =IFERROR(VLOOKUP(B41,'[1]NUM3.1'!$H$3:$L$72,4,FALSE),0) -> 0 | Q41: =SUM(E41:P41) -> 0 | R41: =IFERROR(VLOOKUP(B41,'[1]DEN3.1'!$H$3:$L$72,2,FALSE),0) -> 0 | S41: =IFERROR(VLOOKUP(B41,'[1]DEN3.1'!$H$3:$L$72,3,FALSE),0) -> 0 | T41: =IFERROR(VLOOKUP(B41,'[1]DEN3.1'!$H$3:$L$72,4,FALSE),0) -> 0 | AD41: =SUM(R41:AC41) -> 0
A42: 04106-VICUÑA | B42: 105470-P.S.R. HUANTA | E42: =IFERROR(VLOOKUP(B42,'[1]NUM3.1'!$H$3:$L$72,2,FALSE),0) -> 0 | F42: =IFERROR(VLOOKUP(B42,'[1]NUM3.1'!$H$3:$L$72,3,FALSE),0) -> 1 | G42: =IFERROR(VLOOKUP(B42,'[1]NUM3.1'!$H$3:$L$72,4,FALSE),0) -> 1 | Q42: =SUM(E42:P42) -> 2 | R42: =IFERROR(VLOOKUP(B42,'[1]DEN3.1'!$H$3:$L$72,2,FALSE),0) -> 0 | S42: =IFERROR(VLOOKUP(B42,'[1]DEN3.1'!$H$3:$L$72,3,FALSE),0) -> 1 | T42: =IFERROR(VLOOKUP(B42,'[1]DEN3.1'!$H$3:$L$72,4,FALSE),0) -> 1 | AD42: =SUM(R42:AC42) -> 2
A43: 04106-VICUÑA | B43: 105471-P.S.R. PERALILLO | E43: =IFERROR(VLOOKUP(B43,'[1]NUM3.1'!$H$3:$L$72,2,FALSE),0) -> 0 | F43: =IFERROR(VLOOKUP(B43,'[1]NUM3.1'!$H$3:$L$72,3,FALSE),0) -> 0 | G43: =IFERROR(VLOOKUP(B43,'[1]NUM3.1'!$H$3:$L$72,4,FALSE),0) -> 0 | Q43: =SUM(E43:P43) -> 0 | R43: =IFERROR(VLOOKUP(B43,'[1]DEN3.1'!$H$3:$L$72,2,FALSE),0) -> 0 | S43: =IFERROR(VLOOKUP(B43,'[1]DEN3.1'!$H$3:$L$72,3,FALSE),0) -> 0 | T43: =IFERROR(VLOOKUP(B43,'[1]DEN3.1'!$H$3:$L$72,4,FALSE),0) -> 0 | AD43: =SUM(R43:AC43) -> 0
A44: 04106-VICUÑA | B44: 105472-P.S.R. RIVADAVIA | E44: =IFERROR(VLOOKUP(B44,'[1]NUM3.1'!$H$3:$L$72,2,FALSE),0) -> 0 | F44: =IFERROR(VLOOKUP(B44,'[1]NUM3.1'!$H$3:$L$72,3,FALSE),0) -> 0 | G44: =IFERROR(VLOOKUP(B44,'[1]NUM3.1'!$H$3:$L$72,4,FALSE),0) -> 0 | Q44: =SUM(E44:P44) -> 0 | R44: =IFERROR(VLOOKUP(B44,'[1]DEN3.1'!$H$3:$L$72,2,FALSE),0) -> 0 | S44: =IFERROR(VLOOKUP(B44,'[1]DEN3.1'!$H$3:$L$72,3,FALSE),0) -> 0 | T44: =IFERROR(VLOOKUP(B44,'[1]DEN3.1'!$H$3:$L$72,4,FALSE),0) -> 0 | AD44: =SUM(R44:AC44) -> 0
A45: 04106-VICUÑA | B45: 105473-P.S.R. TALCUNA | E45: =IFERROR(VLOOKUP(B45,'[1]NUM3.1'!$H$3:$L$72,2,FALSE),0) -> 0 | F45: =IFERROR(VLOOKUP(B45,'[1]NUM3.1'!$H$3:$L$72,3,FALSE),0) -> 1 | G45: =IFERROR(VLOOKUP(B45,'[1]NUM3.1'!$H$3:$L$72,4,FALSE),0) -> 0 | Q45: =SUM(E45:P45) -> 1 | R45: =IFERROR(VLOOKUP(B45,'[1]DEN3.1'!$H$3:$L$72,2,FALSE),0) -> 0 | S45: =IFERROR(VLOOKUP(B45,'[1]DEN3.1'!$H$3:$L$72,3,FALSE),0) -> 1 | T45: =IFERROR(VLOOKUP(B45,'[1]DEN3.1'!$H$3:$L$72,4,FALSE),0) -> 0 | AD45: =SUM(R45:AC45) -> 1
A46: 04106-VICUÑA | B46: 105474-P.S.R. CHAPILCA | E46: =IFERROR(VLOOKUP(B46,'[1]NUM3.1'!$H$3:$L$72,2,FALSE),0) -> 0 | F46: =IFERROR(VLOOKUP(B46,'[1]NUM3.1'!$H$3:$L$72,3,FALSE),0) -> 0 | G46: =IFERROR(VLOOKUP(B46,'[1]NUM3.1'!$H$3:$L$72,4,FALSE),0) -> 0 | Q46: =SUM(E46:P46) -> 0 | R46: =IFERROR(VLOOKUP(B46,'[1]DEN3.1'!$H$3:$L$72,2,FALSE),0) -> 0 | S46: =IFERROR(VLOOKUP(B46,'[1]DEN3.1'!$H$3:$L$72,3,FALSE),0) -> 0 | T46: =IFERROR(VLOOKUP(B46,'[1]DEN3.1'!$H$3:$L$72,4,FALSE),0) -> 0 | AD46: =SUM(R46:AC46) -> 0
A47: 04106-VICUÑA | B47: 105502-P.S.R. CALINGASTA | E47: =IFERROR(VLOOKUP(B47,'[1]NUM3.1'!$H$3:$L$72,2,FALSE),0) -> 0 | F47: =IFERROR(VLOOKUP(B47,'[1]NUM3.1'!$H$3:$L$72,3,FALSE),0) -> 0 | G47: =IFERROR(VLOOKUP(B47,'[1]NUM3.1'!$H$3:$L$72,4,FALSE),0) -> 0 | Q47: =SUM(E47:P47) -> 0 | R47: =IFERROR(VLOOKUP(B47,'[1]DEN3.1'!$H$3:$L$72,2,FALSE),0) -> 0 | S47: =IFERROR(VLOOKUP(B47,'[1]DEN3.1'!$H$3:$L$72,3,FALSE),0) -> 0 | T47: =IFERROR(VLOOKUP(B47,'[1]DEN3.1'!$H$3:$L$72,4,FALSE),0) -> 0 | AD47: =SUM(R47:AC47) -> 0
A48: 04106-VICUÑA | B48: 105509-P.S.R. GUALLIGUAICA | E48: =IFERROR(VLOOKUP(B48,'[1]NUM3.1'!$H$3:$L$72,2,FALSE),0) -> 0 | F48: =IFERROR(VLOOKUP(B48,'[1]NUM3.1'!$H$3:$L$72,3,FALSE),0) -> 0 | G48: =IFERROR(VLOOKUP(B48,'[1]NUM3.1'!$H$3:$L$72,4,FALSE),0) -> 0 | Q48: =SUM(E48:P48) -> 0 | R48: =IFERROR(VLOOKUP(B48,'[1]DEN3.1'!$H$3:$L$72,2,FALSE),0) -> 0 | S48: =IFERROR(VLOOKUP(B48,'[1]DEN3.1'!$H$3:$L$72,3,FALSE),0) -> 0 | T48: =IFERROR(VLOOKUP(B48,'[1]DEN3.1'!$H$3:$L$72,4,FALSE),0) -> 0 | AD48: =SUM(R48:AC48) -> 0
...

Sheet META 5 
A1: COMUNA | B1: ESTABLECIMIENTO | C1: CUMPLIMIENTO | D1: Indicador | E1: META 5: TASA DE CONSULTAS DE MORBILIDAD Y CONTROLES MEDICOS POR HABITANTE/AÑO
E2: NUMERADOR | R2: DENOMINADOR
E10: Nº de consultas de morbilidad y controles médicos realizadas | R10: Población Inscrita
D11: Resultado | E11: ENERO | F11: FEBRERO | G11: MARZO | H11: ABRIL | I11: MAYO | J11: JUNIO | K11: JULIO | L11: AGOSTO | M11: SEPBRE | N11: OCTBRE | O11: NOVBRE | P11: DICBRE | Q11: TOTAL
A12: 04101-LA SERENA | B12: 105300-CES. CARDENAL CARO | E12: =IFERROR(VLOOKUP(B12,[1]NUM5!$H$3:$L$165,2,FALSE),0) -> 2113 | F12: =IFERROR(VLOOKUP(B12,[1]NUM5!$H$3:$L$165,3,FALSE),0) -> 1609 | G12: =IFERROR(VLOOKUP(B12,[1]NUM5!$H$3:$L$165,4,FALSE),0) -> 1993 | Q12: =SUM(E12:P12) -> 5715
A13: 04101-LA SERENA | B13: 105301-CES. LAS COMPAÑIAS | E13: =IFERROR(VLOOKUP(B13,[1]NUM5!$H$3:$L$165,2,FALSE),0) -> 2264 | F13: =IFERROR(VLOOKUP(B13,[1]NUM5!$H$3:$L$165,3,FALSE),0) -> 2250 | G13: =IFERROR(VLOOKUP(B13,[1]NUM5!$H$3:$L$165,4,FALSE),0) -> 2721 | Q13: =SUM(E13:P13) -> 7235
A14: 04101-LA SERENA | B14: 105302-CES. PEDRO AGUIRRE C. | E14: =IFERROR(VLOOKUP(B14,[1]NUM5!$H$3:$L$165,2,FALSE),0) -> 1988 | F14: =IFERROR(VLOOKUP(B14,[1]NUM5!$H$3:$L$165,3,FALSE),0) -> 1764 | G14: =IFERROR(VLOOKUP(B14,[1]NUM5!$H$3:$L$165,4,FALSE),0) -> 1810 | Q14: =SUM(E14:P14) -> 5562
A15: 04101-LA SERENA | B15: 105313-CES. SCHAFFHAUSER | E15: =IFERROR(VLOOKUP(B15,[1]NUM5!$H$3:$L$165,2,FALSE),0) -> 2364 | F15: =IFERROR(VLOOKUP(B15,[1]NUM5!$H$3:$L$165,3,FALSE),0) -> 1225 | G15: =IFERROR(VLOOKUP(B15,[1]NUM5!$H$3:$L$165,4,FALSE),0) -> 1201 | Q15: =SUM(E15:P15) -> 4790
A16: 04101-LA SERENA | B16: 105319-CES. CARDENAL R.S.H. | E16: =IFERROR(VLOOKUP(B16,[1]NUM5!$H$3:$L$165,2,FALSE),0) -> 3277 | F16: =IFERROR(VLOOKUP(B16,[1]NUM5!$H$3:$L$165,3,FALSE),0) -> 2869 | G16: =IFERROR(VLOOKUP(B16,[1]NUM5!$H$3:$L$165,4,FALSE),0) -> 2830 | Q16: =SUM(E16:P16) -> 8976
A17: 04101-LA SERENA | B17: 105325-CESFAM JUAN PABLO II | E17: =IFERROR(VLOOKUP(B17,[1]NUM5!$H$3:$L$165,2,FALSE),0) -> 1589 | F17: =IFERROR(VLOOKUP(B17,[1]NUM5!$H$3:$L$165,3,FALSE),0) -> 1388 | G17: =IFERROR(VLOOKUP(B17,[1]NUM5!$H$3:$L$165,4,FALSE),0) -> 1544 | Q17: =SUM(E17:P17) -> 4521
A18: 04101-LA SERENA | B18: 105400-P.S.R. ALGARROBITO | E18: =IFERROR(VLOOKUP(B18,[1]NUM5!$H$3:$L$165,2,FALSE),0) -> 272 | F18: =IFERROR(VLOOKUP(B18,[1]NUM5!$H$3:$L$165,3,FALSE),0) -> 324 | G18: =IFERROR(VLOOKUP(B18,[1]NUM5!$H$3:$L$165,4,FALSE),0) -> 229 | Q18: =SUM(E18:P18) -> 825
A19: 04101-LA SERENA | B19: 105401-P.S.R. LAS ROJAS | E19: =IFERROR(VLOOKUP(B19,[1]NUM5!$H$3:$L$165,2,FALSE),0) -> 37 | F19: =IFERROR(VLOOKUP(B19,[1]NUM5!$H$3:$L$165,3,FALSE),0) -> 33 | G19: =IFERROR(VLOOKUP(B19,[1]NUM5!$H$3:$L$165,4,FALSE),0) -> 49 | Q19: =SUM(E19:P19) -> 119
A20: 04101-LA SERENA | B20: 105402-P.S.R. EL ROMERO | E20: =IFERROR(VLOOKUP(B20,[1]NUM5!$H$3:$L$165,2,FALSE),0) -> 29 | F20: =IFERROR(VLOOKUP(B20,[1]NUM5!$H$3:$L$165,3,FALSE),0) -> 42 | G20: =IFERROR(VLOOKUP(B20,[1]NUM5!$H$3:$L$165,4,FALSE),0) -> 22 | Q20: =SUM(E20:P20) -> 93
A21: 04101-LA SERENA | B21: 105499-P.S.R. LAMBERT | E21: =IFERROR(VLOOKUP(B21,[1]NUM5!$H$3:$L$165,2,FALSE),0) -> 25 | F21: =IFERROR(VLOOKUP(B21,[1]NUM5!$H$3:$L$165,3,FALSE),0) -> 50 | G21: =IFERROR(VLOOKUP(B21,[1]NUM5!$H$3:$L$165,4,FALSE),0) -> 37 | Q21: =SUM(E21:P21) -> 112
A22: 04101-LA SERENA | B22: 105700-CECOF VILLA EL INDIO | E22: =IFERROR(VLOOKUP(B22,[1]NUM5!$H$3:$L$165,2,FALSE),0) -> 256 | F22: =IFERROR(VLOOKUP(B22,[1]NUM5!$H$3:$L$165,3,FALSE),0) -> 142 | G22: =IFERROR(VLOOKUP(B22,[1]NUM5!$H$3:$L$165,4,FALSE),0) -> 248 | Q22: =SUM(E22:P22) -> 646
A23: 04101-LA SERENA | B23: 105701-CECOF VILLA ALEMANIA | E23: =IFERROR(VLOOKUP(B23,[1]NUM5!$H$3:$L$165,2,FALSE),0) -> 129 | F23: =IFERROR(VLOOKUP(B23,[1]NUM5!$H$3:$L$165,3,FALSE),0) -> 61 | G23: =IFERROR(VLOOKUP(B23,[1]NUM5!$H$3:$L$165,4,FALSE),0) -> 234 | Q23: =SUM(E23:P23) -> 424
... A25: 04101-LA SERENA | B25: 200402-CECOF ARCOS DE PINAMAR | E25: =IFERROR(VLOOKUP(B25,[1]NUM5!$H$3:$L$165,2,FALSE),0) -> 177 | F25: =IFERROR(VLOOKUP(B25,[1]NUM5!$H$3:$L$165,3,FALSE),0) -> 225 | G25: =IFERROR(VLOOKUP(B25,[1]NUM5!$H$3:$L$165,4,FALSE),0) -> 242 | Q25: =SUM(E25:P25) -> 644
A26: TOTAL LA SERENA | C26: =+D26/Metas!I10 -> 0.23036004 | D26: =+Q26/R26 -> 0.20962764 | E26: =SUM(E12:E25) -> 14705 | F26: =SUM(F12:F25) -> 12052 | G26: =SUM(G12:G25) -> 13315 | H26: =SUM(H12:H25) -> 0 | I26: =SUM(I12:I25) -> 0 | J26: =SUM(J12:J25) -> 0 | K26: =SUM(K12:K25) -> 0 | L26: =SUM(L12:L25) -> 0 | ... Q26: =SUM(Q12:Q25) -> 40072 | R26: 191158 | Z26: =SUM(Z12:Z25) -> 0 | AA26: =SUM(AA12:AA25) -> 0 | AB26: =SUM(AB12:AB25) -> 0 | AC26: =SUM(AC12:AC25) -> 0 | AD26: =SUM(AD12:AD25) -> 0
A27: 04102-COQUIMBO | B27: 105303-CES. SAN JUAN | E27: =IFERROR(VLOOKUP(B27,[1]NUM5!$H$3:$L$165,2,FALSE),0) -> 2438 | F27: =IFERROR(VLOOKUP(B27,[1]NUM5!$H$3:$L$165,3,FALSE),0) -> 3777 | G27: =IFERROR(VLOOKUP(B27,[1]NUM5!$H$3:$L$165,4,FALSE),0) -> 3062 | Q27: =SUM(E27:P27) -> 9277
A28: 04102-COQUIMBO | B28: 105304-CES. SANTA CECILIA | E28: =IFERROR(VLOOKUP(B28,[1]NUM5!$H$3:$L$165,2,FALSE),0) -> 3492 | F28: =IFERROR(VLOOKUP(B28,[1]NUM5!$H$3:$L$165,3,FALSE),0) -> 3431 | G28: =IFERROR(VLOOKUP(B28,[1]NUM5!$H$3:$L$165,4,FALSE),0) -> 3871 | Q28: =SUM(E28:P28) -> 10794
A29: 04102-COQUIMBO | B29: 105305-CES. TIERRAS BLANCAS | E29: =IFERROR(VLOOKUP(B29,[1]NUM5!$H$3:$L$165,2,FALSE),0) -> 3908 | F29: =IFERROR(VLOOKUP(B29,[1]NUM5!$H$3:$L$165,3,FALSE),0) -> 3676 | G29: =IFERROR(VLOOKUP(B29,[1]NUM5!$H$3:$L$165,4,FALSE),0) -> 3240 | Q29: =SUM(E29:P29) -> 10824
A30: 04102-COQUIMBO | B30: 105321-CES. RURAL TONGOY | E30: =IFERROR(VLOOKUP(B30,[1]NUM5!$H$3:$L$165,2,FALSE),0) -> 693 | F30: =IFERROR(VLOOKUP(B30,[1]NUM5!$H$3:$L$165,3,FALSE),0) -> 646 | G30: =IFERROR(VLOOKUP(B30,[1]NUM5!$H$3:$L$165,4,FALSE),0) -> 714 | Q30: =SUM(E30:P30) -> 2053
A31: 04102-COQUIMBO | B31: 105323-CES. DR. SERGIO AGUILAR | E31: =IFERROR(VLOOKUP(B31,[1]NUM5!$H$3:$L$165,2,FALSE),0) -> 2979 | F31: =IFERROR(VLOOKUP(B31,[1]NUM5!$H$3:$L$165,3,FALSE),0) -> 1047 | G31: =IFERROR(VLOOKUP(B31,[1]NUM5!$H$3:$L$165,4,FALSE),0) -> 3076 | Q31: =SUM(E31:P31) -> 7102
A32: 04102-COQUIMBO | B32: 105404-P.S.R. EL TANGUE | E32: =IFERROR(VLOOKUP(B32,[1]NUM5!$H$3:$L$165,2,FALSE),0) -> 18 | F32: =IFERROR(VLOOKUP(B32,[1]NUM5!$H$3:$L$165,3,FALSE),0) -> 0 | G32: =IFERROR(VLOOKUP(B32,[1]NUM5!$H$3:$L$165,4,FALSE),0) -> 13 | Q32: =SUM(E32:P32) -> 31
A33: 04102-COQUIMBO | B33: 105405-P.S.R. GUANAQUEROS | E33: =IFERROR(VLOOKUP(B33,[1]NUM5!$H$3:$L$165,2,FALSE),0) -> 218 | F33: =IFERROR(VLOOKUP(B33,[1]NUM5!$H$3:$L$165,3,FALSE),0) -> 226 | G33: =IFERROR(VLOOKUP(B33,[1]NUM5!$H$3:$L$165,4,FALSE),0) -> 279 | Q33: =SUM(E33:P33) -> 723
A34: 04102-COQUIMBO | B34: 105406-P.S.R. PAN DE AZUCAR | E34: =IFERROR(VLOOKUP(B34,[1]NUM5!$H$3:$L$165,2,FALSE),0) -> 976 | F34: =IFERROR(VLOOKUP(B34,[1]NUM5!$H$3:$L$165,3,FALSE),0) -> 703 | G34: =IFERROR(VLOOKUP(B34,[1]NUM5!$H$3:$L$165,4,FALSE),0) -> 942 | Q34: =SUM(E34:P34) -> 2621
A35: 04102-COQUIMBO | B35: 105407-P.S.R. TAMBILLOS | E35: =IFERROR(VLOOKUP(B35,[1]NUM5!$H$3:$L$165,2,FALSE),0) -> 55 | F35: =IFERROR(VLOOKUP(B35,[1]NUM5!$H$3:$L$165,3,FALSE),0) -> 27 | G35: =IFERROR(VLOOKUP(B35,[1]NUM5!$H$3:$L$165,4,FALSE),0) -> 44 | Q35: =SUM(E35:P35) -> 126
A36: 04102-COQUIMBO | B36: 105705-CECOF EL ALBA | E36: =IFERROR(VLOOKUP(B36,[1]NUM5!$H$3:$L$165,2,FALSE),0) -> 419 | F36: =IFERROR(VLOOKUP(B36,[1]NUM5!$H$3:$L$165,3,FALSE),0) -> 345 | G36: =IFERROR(VLOOKUP(B36,[1]NUM5!$H$3:$L$165,4,FALSE),0) -> 401 | Q36: =SUM(E36:P36) -> 1165
A37: 04102-COQUIMBO | B37: 200273-CECOF PUNTA MIRA | E37: =IFERROR(VLOOKUP(B37,[1]NUM5!$H$3:$L$165,2,FALSE),0) -> 759 | F37: =IFERROR(VLOOKUP(B37,[1]NUM5!$H$3:$L$165,3,FALSE),0) -> 514 | G37: =IFERROR(VLOOKUP(B37,[1]NUM5!$H$3:$L$165,4,FALSE),0) -> 364 | Q37: =SUM(E37:P37) -> 1637
A38: TOTAL COQUIMBO | C38: =+D38/Metas!I8 -> 0.24859221 | D38: =+Q38/R38 -> 0.24859221 | E38: =SUM(E27:E37) -> 15955 | F38: =SUM(F27:F37) -> 14392 | G38: =SUM(G27:G37) -> 16006 | H38: =SUM(H27:H37) -> 0 | I38: =SUM(I27:I37) -> 0 | J38: =SUM(J27:J37) -> 0 | K38: =SUM(K27:K37) -> 0 | L38: =SUM(L27:L37) -> 0 | ... Q38: =SUM(Q27:Q37) -> 46353 | R38: 186462
A39: 04106-VICUÑA | B39: 105467-P.S.R. DIAGUITAS | E39: =IFERROR(VLOOKUP(B39,[1]NUM5!$H$3:$L$165,2,FALSE),0) -> 157 | F39: =IFERROR(VLOOKUP(B39,[1]NUM5!$H$3:$L$165,3,FALSE),0) -> 92 | G39: =IFERROR(VLOOKUP(B39,[1]NUM5!$H$3:$L$165,4,FALSE),0) -> 125 | Q39: =SUM(E39:P39) -> 374
A40: 04106-VICUÑA | B40: 105468-P.S.R. EL MOLLE | E40: =IFERROR(VLOOKUP(B40,[1]NUM5!$H$3:$L$165,2,FALSE),0) -> 88 | F40: =IFERROR(VLOOKUP(B40,[1]NUM5!$H$3:$L$165,3,FALSE),0) -> 60 | G40: =IFERROR(VLOOKUP(B40,[1]NUM5!$H$3:$L$165,4,FALSE),0) -> 65 | Q40: =SUM(E40:P40) -> 213
A41: 04106-VICUÑA | B41: 105469-P.S.R. EL TAMBO | E41: =IFERROR(VLOOKUP(B41,[1]NUM5!$H$3:$L$165,2,FALSE),0) -> 129 | F41: =IFERROR(VLOOKUP(B41,[1]NUM5!$H$3:$L$165,3,FALSE),0) -> 110 | G41: =IFERROR(VLOOKUP(B41,[1]NUM5!$H$3:$L$165,4,FALSE),0) -> 114 | Q41: =SUM(E41:P41) -> 353
A42: 04106-VICUÑA | B42: 105470-P.S.R. HUANTA | E42: =IFERROR(VLOOKUP(B42,[1]NUM5!$H$3:$L$165,2,FALSE),0) -> 19 | F42: =IFERROR(VLOOKUP(B42,[1]NUM5!$H$3:$L$165,3,FALSE),0) -> 21 | G42: =IFERROR(VLOOKUP(B42,[1]NUM5!$H$3:$L$165,4,FALSE),0) -> 19 | Q42: =SUM(E42:P42) -> 59
A43: 04106-VICUÑA | B43: 105471-P.S.R. PERALILLO | E43: =IFERROR(VLOOKUP(B43,[1]NUM5!$H$3:$L$165,2,FALSE),0) -> 94 | F43: =IFERROR(VLOOKUP(B43,[1]NUM5!$H$3:$L$165,3,FALSE),0) -> 147 | G43: =IFERROR(VLOOKUP(B43,[1]NUM5!$H$3:$L$165,4,FALSE),0) -> 140 | Q43: =SUM(E43:P43) -> 381
A44: 04106-VICUÑA | B44: 105472-P.S.R. RIVADAVIA | E44: =IFERROR(VLOOKUP(B44,[1]NUM5!$H$3:$L$165,2,FALSE),0) -> 127 | F44: =IFERROR(VLOOKUP(B44,[1]NUM5!$H$3:$L$165,3,FALSE),0) -> 75 | G44: =IFERROR(VLOOKUP(B44,[1]NUM5!$H$3:$L$165,4,FALSE),0) -> 90 | Q44: =SUM(E44:P44) -> 292
A45: 04106-VICUÑA | B45: 105473-P.S.R. TALCUNA | E45: =IFERROR(VLOOKUP(B45,[1]NUM5!$H$3:$L$165,2,FALSE),0) -> 113 | F45: =IFERROR(VLOOKUP(B45,[1]NUM5!$H$3:$L$165,3,FALSE),0) -> 112 | G45: =IFERROR(VLOOKUP(B45,[1]NUM5!$H$3:$L$165,4,FALSE),0) -> 99 | Q45: =SUM(E45:P45) -> 324
A46: 04106-VICUÑA | B46: 105474-P.S.R. CHAPILCA | E46: =IFERROR(VLOOKUP(B46,[1]NUM5!$H$3:$L$165,2,FALSE),0) -> 16 | F46: =IFERROR(VLOOKUP(B46,[1]NUM5!$H$3:$L$165,3,FALSE),0) -> 36 | G46: =IFERROR(VLOOKUP(B46,[1]NUM5!$H$3:$L$165,4,FALSE),0) -> 33 | Q46: =SUM(E46:P46) -> 85
A47: 04106-VICUÑA | B47: 105502-P.S.R. CALINGASTA | E47: =IFERROR(VLOOKUP(B47,[1]NUM5!$H$3:$L$165,2,FALSE),0) -> 192 | F47: =IFERROR(VLOOKUP(B47,[1]NUM5!$H$3:$L$165,3,FALSE),0) -> 220 | G47: =IFERROR(VLOOKUP(B47,[1]NUM5!$H$3:$L$165,4,FALSE),0) -> 210 | Q47: =SUM(E47:P47) -> 622
A48: 04106-VICUÑA | B48: 105509-P.S.R. GUALLIGUAICA | E48: =IFERROR(VLOOKUP(B48,[1]NUM5!$H$3:$L$165,2,FALSE),0) -> 25 | F48: =IFERROR(VLOOKUP(B48,[1]NUM5!$H$3:$L$165,3,FALSE),0) -> 30 | G48: =IFERROR(VLOOKUP(B48,[1]NUM5!$H$3:$L$165,4,FALSE),0) -> 18 | Q48: =SUM(E48:P48) -> 73
...

Sheet META 6
A1: COMUNA | B1: ESTABLECIMIENTO | C1: CUMPLIMIENTO | D1: Indicador | E1: META 6: SOLICITUDES DE INTERCONSULTAS A ESPECIALIDAD NIVEL SECUNDARIO DESDE LA APS
E2: NUMERADOR | R2: DENOMINADOR
E10: Nº de SIC a especialidad médica en el nivel secundario | R10: N° Total de Consultas y Controles Médicos en APS
D11: Resultado | E11: ENERO | F11: FEBRERO | G11: MARZO | H11: ABRIL | I11: MAYO | J11: JUNIO | K11: JULIO | L11: AGOSTO | M11: SEPBRE | N11: OCTBRE | O11: NOVBRE | P11: DICBRE | Q11: TOTAL | R11: ENERO | S11: FEBRERO | T11: MARZO | U11: ABRIL | V11: MAYO | W11: JUNIO | X11: JULIO | Y11: AGOSTO | Z11: SEPBRE | AA11: OCTBRE | AB11: NOVBRE | AC11: DICBRE | AD11: TOTAL
A12: 04101-LA SERENA | B12: 105300-CES. CARDENAL CARO | E12: =IFERROR(VLOOKUP(B12,[1]NUM6!$H$3:$L$136,2,FALSE),0) -> 90 | F12: =IFERROR(VLOOKUP(B12,[1]NUM6!$H$3:$L$136,3,FALSE),0) -> 60 | G12: =IFERROR(VLOOKUP(B12,[1]NUM6!$H$3:$L$136,4,FALSE),0) -> 166 | Q12: =SUM(E12:P12) -> 316 | R12: =IFERROR(VLOOKUP(B12,[1]DEN6!$H$3:$L$165,2,FALSE),0) -> 2113 | S12: =IFERROR(VLOOKUP(B12,[1]DEN6!$H$3:$L$165,3,FALSE),0) -> 1609 | T12: =IFERROR(VLOOKUP(B12,[1]DEN6!$H$3:$L$165,4,FALSE),0) -> 1993 | AD12: =SUM(R12:AC12) -> 5715
A13: 04101-LA SERENA | B13: 105301-CES. LAS COMPAÑIAS | E13: =IFERROR(VLOOKUP(B13,[1]NUM6!$H$3:$L$136,2,FALSE),0) -> 98 | F13: =IFERROR(VLOOKUP(B13,[1]NUM6!$H$3:$L$136,3,FALSE),0) -> 0 | G13: =IFERROR(VLOOKUP(B13,[1]NUM6!$H$3:$L$136,4,FALSE),0) -> 179 | Q13: =SUM(E13:P13) -> 277 | R13: =IFERROR(VLOOKUP(B13,[1]DEN6!$H$3:$L$165,2,FALSE),0) -> 2264 | S13: =IFERROR(VLOOKUP(B13,[1]DEN6!$H$3:$L$165,3,FALSE),0) -> 2250 | T13: =IFERROR(VLOOKUP(B13,[1]DEN6!$H$3:$L$165,4,FALSE),0) -> 2721 | AD13: =SUM(R13:AC13) -> 7235
A14: 04101-LA SERENA | B14: 105302-CES. PEDRO AGUIRRE C. | E14: =IFERROR(VLOOKUP(B14,[1]NUM6!$H$3:$L$136,2,FALSE),0) -> 197 | F14: =IFERROR(VLOOKUP(B14,[1]NUM6!$H$3:$L$136,3,FALSE),0) -> 155 | G14: =IFERROR(VLOOKUP(B14,[1]NUM6!$H$3:$L$136,4,FALSE),0) -> 201 | Q14: =SUM(E14:P14) -> 553 | R14: =IFERROR(VLOOKUP(B14,[1]DEN6!$H$3:$L$165,2,FALSE),0) -> 1988 | S14: =IFERROR(VLOOKUP(B14,[1]DEN6!$H$3:$L$165,3,FALSE),0) -> 1764 | T14: =IFERROR(VLOOKUP(B14,[1]DEN6!$H$3:$L$165,4,FALSE),0) -> 1810 | AD14: =SUM(R14:AC14) -> 5562
A15: 04101-LA SERENA | B15: 105313-CES. SCHAFFHAUSER | E15: =IFERROR(VLOOKUP(B15,[1]NUM6!$H$3:$L$136,2,FALSE),0) -> 186 | F15: =IFERROR(VLOOKUP(B15,[1]NUM6!$H$3:$L$136,3,FALSE),0) -> 157 | G15: =IFERROR(VLOOKUP(B15,[1]NUM6!$H$3:$L$136,4,FALSE),0) -> 218 | Q15: =SUM(E15:P15) -> 561 | R15: =IFERROR(VLOOKUP(B15,[1]DEN6!$H$3:$L$165,2,FALSE),0) -> 2364 | S15: =IFERROR(VLOOKUP(B15,[1]DEN6!$H$3:$L$165,3,FALSE),0) -> 1225 | T15: =IFERROR(VLOOKUP(B15,[1]DEN6!$H$3:$L$165,4,FALSE),0) -> 1201 | AD15: =SUM(R15:AC15) -> 4790
A16: 04101-LA SERENA | B16: 105319-CES. CARDENAL R.S.H. | E16: =IFERROR(VLOOKUP(B16,[1]NUM6!$H$3:$L$136,2,FALSE),0) -> 298 | F16: =IFERROR(VLOOKUP(B16,[1]NUM6!$H$3:$L$136,3,FALSE),0) -> 165 | G16: =IFERROR(VLOOKUP(B16,[1]NUM6!$H$3:$L$136,4,FALSE),0) -> 145 | Q16: =SUM(E16:P16) -> 608 | R16: =IFERROR(VLOOKUP(B16,[1]DEN6!$H$3:$L$165,2,FALSE),0) -> 3277 | S16: =IFERROR(VLOOKUP(B16,[1]DEN6!$H$3:$L$165,3,FALSE),0) -> 2869 | T16: =IFERROR(VLOOKUP(B16,[1]DEN6!$H$3:$L$165,4,FALSE),0) -> 2830 | AD16: =SUM(R16:AC16) -> 8976
A17: 04101-LA SERENA | B17: 105325-CESFAM JUAN PABLO II | E17: =IFERROR(VLOOKUP(B17,[1]NUM6!$H$3:$L$136,2,FALSE),0) -> 197 | F17: =IFERROR(VLOOKUP(B17,[1]NUM6!$H$3:$L$136,3,FALSE),0) -> 137 | G17: =IFERROR(VLOOKUP(B17,[1]NUM6!$H$3:$L$136,4,FALSE),0) -> 135 | Q17: =SUM(E17:P17) -> 469 | R17: =IFERROR(VLOOKUP(B17,[1]DEN6!$H$3:$L$165,2,FALSE),0) -> 1589 | S17: =IFERROR(VLOOKUP(B17,[1]DEN6!$H$3:$L$165,3,FALSE),0) -> 1388 | T17: =IFERROR(VLOOKUP(B17,[1]DEN6!$H$3:$L$165,4,FALSE),0) -> 1544 | AD17: =SUM(R17:AC17) -> 4521
A18: 04101-LA SERENA | B18: 105400-P.S.R. ALGARROBITO | E18: =IFERROR(VLOOKUP(B18,[1]NUM6!$H$3:$L$136,2,FALSE),0) -> 39 | F18: =IFERROR(VLOOKUP(B18,[1]NUM6!$H$3:$L$136,3,FALSE),0) -> 36 | G18: =IFERROR(VLOOKUP(B18,[1]NUM6!$H$3:$L$136,4,FALSE),0) -> 26 | Q18: =SUM(E18:P18) -> 101 | R18: =IFERROR(VLOOKUP(B18,[1]DEN6!$H$3:$L$165,2,FALSE),0) -> 272 | S18: =IFERROR(VLOOKUP(B18,[1]DEN6!$H$3:$L$165,3,FALSE),0) -> 324 | T18: =IFERROR(VLOOKUP(B18,[1]DEN6!$H$3:$L$165,4,FALSE),0) -> 229 | AD18: =SUM(R18:AC18) -> 825
A19: 04101-LA SERENA | B19: 105401-P.S.R. LAS ROJAS | E19: =IFERROR(VLOOKUP(B19,[1]NUM6!$H$3:$L$136,2,FALSE),0) -> 7 | F19: =IFERROR(VLOOKUP(B19,[1]NUM6!$H$3:$L$136,3,FALSE),0) -> 4 | G19: =IFERROR(VLOOKUP(B19,[1]NUM6!$H$3:$L$136,4,FALSE),0) -> 2 | Q19: =SUM(E19:P19) -> 13 | R19: =IFERROR(VLOOKUP(B19,[1]DEN6!$H$3:$L$165,2,FALSE),0) -> 37 | S19: =IFERROR(VLOOKUP(B19,[1]DEN6!$H$3:$L$165,3,FALSE),0) -> 33 | T19: =IFERROR(VLOOKUP(B19,[1]DEN6!$H$3:$L$165,4,FALSE),0) -> 49 | AD19: =SUM(R19:AC19) -> 119
A20: 04101-LA SERENA | B20: 105402-P.S.R. EL ROMERO | E20: =IFERROR(VLOOKUP(B20,[1]NUM6!$H$3:$L$136,2,FALSE),0) -> 8 | F20: =IFERROR(VLOOKUP(B20,[1]NUM6!$H$3:$L$136,3,FALSE),0) -> 5 | G20: =IFERROR(VLOOKUP(B20,[1]NUM6!$H$3:$L$136,4,FALSE),0) -> 4 | Q20: =SUM(E20:P20) -> 17 | R20: =IFERROR(VLOOKUP(B20,[1]DEN6!$H$3:$L$165,2,FALSE),0) -> 29 | S20: =IFERROR(VLOOKUP(B20,[1]DEN6!$H$3:$L$165,3,FALSE),0) -> 42 | T20: =IFERROR(VLOOKUP(B20,[1]DEN6!$H$3:$L$165,4,FALSE),0) -> 22 | AD20: =SUM(R20:AC20) -> 93
A21: 04101-LA SERENA | B21: 105499-P.S.R. LAMBERT | E21: =IFERROR(VLOOKUP(B21,[1]NUM6!$H$3:$L$136,2,FALSE),0) -> 1 | F21: =IFERROR(VLOOKUP(B21,[1]NUM6!$H$3:$L$136,3,FALSE),0) -> 3 | G21: =IFERROR(VLOOKUP(B21,[1]NUM6!$H$3:$L$136,4,FALSE),0) -> 0 | Q21: =SUM(E21:P21) -> 4 | R21: =IFERROR(VLOOKUP(B21,[1]DEN6!$H$3:$L$165,2,FALSE),0) -> 25 | S21: =IFERROR(VLOOKUP(B21,[1]DEN6!$H$3:$L$165,3,FALSE),0) -> 50 | T21: =IFERROR(VLOOKUP(B21,[1]DEN6!$H$3:$L$165,4,FALSE),0) -> 37 | AD21: =SUM(R21:AC21) -> 112
A22: 04101-LA SERENA | B22: 105700-CECOF VILLA EL INDIO | E22: =IFERROR(VLOOKUP(B22,[1]NUM6!$H$3:$L$136,2,FALSE),0) -> 7 | F22: =IFERROR(VLOOKUP(B22,[1]NUM6!$H$3:$L$136,3,FALSE),0) -> 0 | G22: =IFERROR(VLOOKUP(B22,[1]NUM6!$H$3:$L$136,4,FALSE),0) -> 1 | Q22: =SUM(E22:P22) -> 8 | R22: =IFERROR(VLOOKUP(B22,[1]DEN6!$H$3:$L$165,2,FALSE),0) -> 256 | S22: =IFERROR(VLOOKUP(B22,[1]DEN6!$H$3:$L$165,3,FALSE),0) -> 142 | T22: =IFERROR(VLOOKUP(B22,[1]DEN6!$H$3:$L$165,4,FALSE),0) -> 248 | AD22: =SUM(R22:AC22) -> 646
A23: 04101-LA SERENA | B23: 105701-CECOF VILLA ALEMANIA | E23: =IFERROR(VLOOKUP(B23,[1]NUM6!$H$3:$L$136,2,FALSE),0) -> 0 | F23: =IFERROR(VLOOKUP(B23,[1]NUM6!$H$3:$L$136,3,FALSE),0) -> 0 | G23: =IFERROR(VLOOKUP(B23,[1]NUM6!$H$3:$L$136,4,FALSE),0) -> 12 | Q23: =SUM(E23:P23) -> 12 | R23: =IFERROR(VLOOKUP(B23,[1]DEN6!$H$3:$L$165,2,FALSE),0) -> 129 | S23: =IFERROR(VLOOKUP(B23,[1]DEN6!$H$3:$L$165,3,FALSE),0) -> 61 | T23: =IFERROR(VLOOKUP(B23,[1]DEN6!$H$3:$L$165,4,FALSE),0) -> 234 | AD23: =SUM(R23:AC23) -> 424
... A25: 04101-LA SERENA | B25: 200402-CECOF ARCOS DE PINAMAR | E25: =IFERROR(VLOOKUP(B25,[1]NUM6!$H$3:$L$136,2,FALSE),0) -> 0 | F25: =IFERROR(VLOOKUP(B25,[1]NUM6!$H$3:$L$136,3,FALSE),0) -> 0 | G25: =IFERROR(VLOOKUP(B25,[1]NUM6!$H$3:$L$136,4,FALSE),0) -> 0 | Q25: =SUM(E25:P25) -> 0 | R25: =IFERROR(VLOOKUP(B25,[1]DEN6!$H$3:$L$165,2,FALSE),0) -> 177 | S25: =IFERROR(VLOOKUP(B25,[1]DEN6!$H$3:$L$165,3,FALSE),0) -> 225 | T25: =IFERROR(VLOOKUP(B25,[1]DEN6!$H$3:$L$165,4,FALSE),0) -> 242 | AD25: =SUM(R25:AC25) -> 644
A26: TOTAL LA SERENA | C26: =Metas!J10/D26 -> 1.3397566 | D26: =+Q26/AD26 -> 0.074565782 | E26: =SUM(E12:E25) -> 1154 | F26: =SUM(F12:F25) -> 735 | G26: =SUM(G12:G25) -> 1099 | H26: =SUM(H12:H25) -> 0 | I26: =SUM(I12:I25) -> 0 | J26: =SUM(J12:J25) -> 0 | K26: =SUM(K12:K25) -> 0 | L26: =SUM(L12:L25) -> 0 | ... AD26: =SUM(AD12:AD25) -> 40072
