Workbook

Sheet RESUMEN 
A1: MINISTERIO DE SALUD
A2: SERVICIO DE SALUD COQUIMBO
A3: SUBDIRECCION DE GESTION ASISTENCIAL
A4: SUBDEPTO DE ESTADÍSTICA Y GESTIÓN DE LA INFORMACIÓN
A5: COMUNA | B5: RESUMEN DE CUMPLIMIENTO DE METAS A DICIEMBRE 2018
B6: CORTE A MARZO
B8: METAS COMPONENTE ESTRATEGIA RISS, PRODUCCIÓN,COBERTURA EFECTIVA E IMPACTO SANITARIO
B9: META Nº2 | C9: META Nº3.1 | D9: META Nº5 | E9: META Nº6 | F9: META Nº7 | G9: META Nº8.1 | H9: META Nº8.2 | I9: META Nº8.3 | J9: META Nº9 | K9: META Nº10 | L9: META Nº11 | M9: META Nº12 | N9: META Nº13 | O9: META Nº14 | P9: META Nº17 | Q9: META Nº18 | R9: META Nº19 | S9: META Nº20 | T9: META Nº21 | U9: CUMPLIMIENTO GENERAL | V9: CUMPLIMIENTO META GES
B10: Familias Evaluadas según riesgo (*) | C10: Gestion de Reclamos APS | D10: Consultas de Morbilidad y Controles Médicos | E10: SIC derivadas desde la APS al Nivel Secundario | F10: Visita domiciliaria integral | G10: EMP hombres 20 a 64 años | H10: EMP mujeres de 45 a 64 años | I10: EMP 65 y mas años | J10: Evaluación del desarrollo Psicomotor de niños/as de 12 a 23 meses bajo control | K10: Control de salud integral adolescentes de 10 a 14 años | L10: Alta odontologica menores de 7 años a menor de 20 años | M10: Cobertura de Atención Integral de trastornos mentales en personas de 5 y más años | N10: Cobertura de Atención de Asma en Población general y EPOC en personas de 40 años y más | O10: Capacitación a Cuidadores de personas con Dependencia Severa con Pago de Estipendio (*) | P10: Control embarazada | Q10: Cobertura de Métodos Anticonceptivos en Adolescentes | R10: Cobertura DM2 en personas de 15 y mas años (*) | S10: Cobertutra HTA en personas de 15 y mas años (*) | T10: Proporción de Niñas y Niños de 3 años libre de Caries
A12: LA SERENA | B12: =+'META 2'!$C$26 -> 0 | C12: =+'META 3.1'!$C$26 -> 1.0194719 | D12: =+'META 5 '!$C$26 -> 0.23036004 | E12: =+'META 6'!$C$26 -> 1.3397566 | F12: =+'META 7'!$C$26 -> 0.19596823 | G12: =+'META 8.1'!$C$26 -> 0.14003396 | H12: =+'META 8.2'!$C$26 -> 0.15764283 | I12: =+'META 8.3'!$C$26 -> 0.16730589 | J12: =+'META 9'!$C$26 -> 0.30910601 | K12: =+'META 10'!$C$26 -> 0.084329936 | L12: =+'META 11'!$C$26 -> 0.21148936 | M12: =+'META 12'!$C$26 -> 1.0957495 | N12: =+'META 13'!$C$26 -> 0.83748133 | O12: =+'META 14'!$C$26 -> #DIV/0! | P12: =+'META 17'!$C$26 -> 0.94229151 | Q12: =+'META 18'!$C$26 -> #REF! | R12: =+'META 19'!$C$26 -> 0 | S12: =+'META 20'!$C$26 -> 0 | T12: =+'META 21'!$C$26 -> 0.21447319 | U12: =C43*3%+D43*6%+E43*3%+F43*5%+G43*5%+H43*5%+I43*5%+J43*4%+K43*4%+L43*4%+M43*4%+N43*4%+P43*4%+T43*3% -> 0.24225707 | V12: =+META_GES!$C$26 -> #DIV/0!
A13: COQUIMBO | B13: =+'META 2'!$C$38 -> 0 | C13: =+'META 3.1'!$C$38 -> 1.0196798 | D13: =+'META 5 '!$C$38 -> 0.24859221 | E13: =+'META 6'!$C$38 -> 0.9999276 | F13: =+'META 7'!$C$38 -> 0.20288829 | G13: =+'META 8.1'!$C$38 -> 0.28539409 | H13: =+'META 8.2'!$C$38 -> 0.28428104 | I13: =+'META 8.3'!$C$38 -> 0.27361625 | J13: =+'META 9'!$C$38 -> 0.25402927 | K13: =+'META 10'!$C$38 -> 0.10890038 | L13: =+'META 11'!$C$38 -> 0.15847947 | M13: =+'META 12'!$C$38 -> 1.0179936 | N13: =+'META 13'!$C$38 -> 0.87463413 | O13: =+'META 14'!$C$38 -> #DIV/0! | P13: =+'META 17'!$C$38 -> 0.86584753 | Q13: =+'META 18'!$C$38 -> #REF! | R13: =+'META 19'!$C$38 -> 0 | S13: =+'META 20'!$C$38 -> 0 | T13: =+'META 21'!$C$38 -> 0.11289364 | U13: =C44*3%+D44*6%+E44*3%+F44*5%+G44*5%+H44*5%+I44*5%+J44*4%+K44*4%+L44*4%+M44*4%+N44*4%+P44*4%+T44*3% -> 0.25769798 | V13: =+META_GES!$C$38 -> #DIV/0!
A14: VICUÑA | B14: =+'META 2'!$C$49 -> 0 | C14: =+'META 3.1'!$C$49 -> 1.0187449 | D14: =+'META 5 '!$C$49 -> 0.20901568 | E14: =+'META 6'!$C$49 -> 1.4751191 | F14: =+'META 7'!$C$49 -> 0.20672849 | G14: =+'META 8.1'!$C$49 -> 0.1801614 | H14: =+'META 8.2'!$C$49 -> 0.14957601 | I14: =+'META 8.3'!$C$49 -> 0.2081707 | J14: =+'META 9'!$C$49 -> 0.22429969 | K14: =+'META 10'!$C$49 -> 0.13871549 | L14: =+'META 11'!$C$49 -> 0.082090949 | M14: =+'META 12'!$C$49 -> 1.0925262 | N14: =+'META 13'!$C$49 -> 0.87360299 | O14: =+'META 14'!$C$49 -> #DIV/0! | P14: =+'META 17'!$C$49 -> 0.95371704 | Q14: =+'META 18'!$C$49 -> #REF! | R14: =+'META 19'!$C$49 -> 0 | S14: =+'META 20'!$C$49 -> 0 | T14: =+'META 21'!$C$49 -> 0.22675737 | U14: =C45*3%+D45*6%+E45*3%+F45*5%+G45*5%+H45*5%+I45*5%+J45*4%+K45*4%+L45*4%+M45*4%+N45*4%+P45*4%+T45*3% -> 0.24066982 | V14: =+META_GES!$C$49 -> #DIV/0!
A15: ILLAPEL | B15: =+'META 2'!$C$64 -> 0 | C15: =+'META 3.1'!$C$64 -> 1.0177081 | D15: =+'META 5 '!$C$64 -> 0.35929737 | E15: =+'META 6'!$C$64 -> 1.0869059 | F15: =+'META 7'!$C$64 -> 0.32077544 | G15: =+'META 8.1'!$C$64 -> 0.14081378 | H15: =+'META 8.2'!$C$64 -> 0.058822105 | I15: =+'META 8.3'!$C$64 -> 0.10896952 | J15: =+'META 9'!$C$64 -> 0.72062215 | K15: =+'META 10'!$C$64 -> 0.24289284 | L15: =+'META 11'!$C$64 -> 0.21188274 | M15: =+'META 12'!$C$64 -> 0.74677754 | N15: =+'META 13'!$C$64 -> 0.60540853 | O15: =+'META 14'!$C$64 -> #DIV/0! | P15: =+'META 17'!$C$64 -> 0.82986146 | Q15: =+'META 18'!$C$64 -> #REF! | R15: =+'META 19'!$C$64 -> 0 | S15: =+'META 20'!$C$64 -> 0 | T15: =+'META 21'!$C$64 -> 0.22992528 | U15: =C46*3%+D46*6%+E46*3%+F46*5%+G46*5%+H46*5%+I46*5%+J46*4%+K46*4%+L46*4%+M46*4%+N46*4%+P46*4%+T46*3% -> 0.24732469 | V15: =+META_GES!$C$64 -> #DIV/0!
A16: CANELA | B16: =+'META 2'!$C$75 -> 0 | C16: =+'META 3.1'!$C$75 -> 1.0147133 | D16: =+'META 5 '!$C$75 -> 0.20186781 | E16: =+'META 6'!$C$75 -> 0.9533093 | F16: =+'META 7'!$C$75 -> 0.14967112 | G16: =+'META 8.1'!$C$75 -> 0.096405293 | H16: =+'META 8.2'!$C$75 -> 0.10424388 | I16: =+'META 8.3'!$C$75 -> 0.14151237 | J16: =+'META 9'!$C$75 -> 0.11458047 | K16: =+'META 10'!$C$75 -> 0 | L16: =+'META 11'!$C$75 -> 0.11192679 | M16: =+'META 12'!$C$75 -> 0.88116218 | N16: =+'META 13'!$C$75 -> 0.95013328 | O16: =+'META 14'!$C$75 -> #DIV/0! | P16: =+'META 17'!$C$75 -> 0.82754055 | Q16: =+'META 18'!$C$75 -> #REF! | R16: =+'META 19'!$C$75 -> 0 | S16: =+'META 20'!$C$75 -> 0 | T16: =+'META 21'!$C$75 -> 0.26246719 | U16: =C47*3%+D47*6%+E47*3%+F47*5%+G47*5%+H47*5%+I47*5%+J47*4%+K47*4%+L47*4%+M47*4%+N47*4%+P47*4%+T47*3% -> 0.21071671 | V16: =+META_GES!$C$75 -> #DIV/0!
A17: LOS VILOS | B17: =+'META 2'!$C$81 -> 0 | C17: =+'META 3.1'!$C$81 -> 1.0204082 | D17: =+'META 5 '!$C$81 -> 0.33904219 | E17: =+'META 6'!$C$81 -> 2.2691571 | F17: =+'META 7'!$C$81 -> 0.27634406 | G17: =+'META 8.1'!$C$81 -> 0.14766488 | H17: =+'META 8.2'!$C$81 -> 0.11410453 | I17: =+'META 8.3'!$C$81 -> 0.24509112 | J17: =+'META 9'!$C$81 -> 0.21276596 | K17: =+'META 10'!$C$81 -> 0 | L17: =+'META 11'!$C$81 -> 0.1620747 | M17: =+'META 12'!$C$81 -> 0.55717939 | N17: =+'META 13'!$C$81 -> 0.80678994 | O17: =+'META 14'!$C$81 -> #DIV/0! | P17: =+'META 17'!$C$81 -> 0.79365079 | Q17: =+'META 18'!$C$81 -> #REF! | R17: =+'META 19'!$C$81 -> 0 | S17: =+'META 20'!$C$81 -> 0 | T17: =+'META 21'!$C$81 -> 0.10309278 | U17: =C48*3%+D48*6%+E48*3%+F48*5%+G48*5%+H48*5%+I48*5%+J48*4%+K48*4%+L48*4%+M48*4%+N48*4%+P48*4%+T48*3% -> 0.22080119 | V17: =+META_GES!$C$81 -> #DIV/0!
A18: SALAMANCA | B18: =+'META 2'!$C$92 -> 0 | C18: =+'META 3.1'!$C$92 -> #DIV/0! | D18: =+'META 5 '!$C$92 -> 0.22447558 | E18: =+'META 6'!$C$92 -> 0.999 | F18: =+'META 7'!$C$92 -> 0.19412516 | G18: =+'META 8.1'!$C$92 -> 0.15660092 | H18: =+'META 8.2'!$C$92 -> 0.18434477 | I18: =+'META 8.3'!$C$92 -> 0.26359872 | J18: =+'META 9'!$C$92 -> 0.23728814 | K18: =+'META 10'!$C$92 -> 0.05500121 | L18: =+'META 11'!$C$92 -> 0.22907583 | M18: =+'META 12'!$C$92 -> 1.0084441 | N18: =+'META 13'!$C$92 -> 0.91861994 | O18: =+'META 14'!$C$92 -> #DIV/0! | P18: =+'META 17'!$C$92 -> 1.0507613 | Q18: =+'META 18'!$C$92 -> #REF! | R18: =+'META 19'!$C$92 -> 0 | S18: =+'META 20'!$C$92 -> 0 | T18: =+'META 21'!$C$92 -> 0.6 | U18: =C49*3%+D49*6%+E49*3%+F49*5%+G49*5%+H49*5%+I49*5%+J49*4%+K49*4%+L49*4%+M49*4%+N49*4%+P49*4%+T49*3% -> #DIV/0! | V18: =+META_GES!$C$92 -> #DIV/0!
A19: OVALLE | B19: =+'META 2'!$C$111 -> 0 | C19: =+'META 3.1'!$C$111 -> 1.017501 | D19: =+'META 5 '!$C$111 -> 0.24610586 | E19: =+'META 6'!$C$111 -> 1.2295111 | F19: =+'META 7'!$C$111 -> 0.24523476 | G19: =+'META 8.1'!$C$111 -> 0.14885595 | H19: =+'META 8.2'!$C$111 -> 0.19845705 | I19: =+'META 8.3'!$C$111 -> 0.26882379 | J19: =+'META 9'!$C$111 -> 0.24436967 | K19: =+'META 10'!$C$111 -> 0.021129591 | L19: =+'META 11'!$C$111 -> 0.17422272 | M19: =+'META 12'!$C$111 -> 1.0767498 | N19: =+'META 13'!$C$111 -> 0.87666196 | O19: =+'META 14'!$C$111 -> #DIV/0! | P19: =+'META 17'!$C$111 -> 0.97779984 | Q19: =+'META 18'!$C$111 -> #REF! | R19: =+'META 19'!$C$111 -> 0 | S19: =+'META 20'!$C$111 -> 0 | T19: =+'META 21'!$C$111 -> 0.18831235 | U19: =C50*3%+D50*6%+E50*3%+F50*5%+G50*5%+H50*5%+I50*5%+J50*4%+K50*4%+L50*4%+M50*4%+N50*4%+P50*4%+T50*3% -> 0.24960228 | V19: =+META_GES!$C$110 -> #DIV/0!
A20: COMBARBALÁ | B20: =+'META 2'!$C$124 -> 0 | C20: =+'META 3.1'!$C$124 -> #DIV/0! | D20: =+'META 5 '!$C$124 -> 0.2211365 | E20: =+'META 6'!$C$124 -> 1.194739 | F20: =+'META 7'!$C$124 -> 0.27777778 | G20: =+'META 8.1'!$C$124 -> 0.10647308 | H20: =+'META 8.2'!$C$124 -> 0.081349444 | I20: =+'META 8.3'!$C$124 -> 0.27263182 | J20: =+'META 9'!$C$124 -> 0.23640662 | K20: =+'META 10'!$C$124 -> 0 | L20: =+'META 11'!$C$124 -> 0.22051186 | M20: =+'META 12'!$C$124 -> 0.94397955 | N20: =+'META 13'!$C$124 -> 0.93827834 | O20: =+'META 14'!$C$124 -> #DIV/0! | P20: =+'META 17'!$C$124 -> 0.89252953 | Q20: =+'META 18'!$C$124 -> #REF! | R20: =+'META 19'!$C$124 -> 0 | S20: =+'META 20'!$C$124 -> 0 | T20: =+'META 21'!$C$124 -> 0.22498538 | U20: =C51*3%+D51*6%+E51*3%+F51*5%+G51*5%+H51*5%+I51*5%+J51*4%+K51*4%+L51*4%+M51*4%+N51*4%+P51*4%+T51*3% -> #DIV/0! | V20: =+META_GES!$C$123 -> #DIV/0!
A21: MONTE PATRIA | B21: =+'META 2'!$C$138 -> 0 | C21: =+'META 3.1'!$C$138 -> 1.0204082 | D21: =+'META 5 '!$C$138 -> 0.22142531 | E21: =+'META 6'!$C$138 -> 1.0444769 | F21: =+'META 7'!$C$138 -> 0.1712417 | G21: =+'META 8.1'!$C$138 -> 0.11159721 | H21: =+'META 8.2'!$C$138 -> 0.17568798 | I21: =+'META 8.3'!$C$138 -> 0.32188642 | J21: =+'META 9'!$C$138 -> 0.24461642 | K21: =+'META 10'!$C$138 -> 0.01896112 | L21: =+'META 11'!$C$138 -> 0.19318676 | M21: =+'META 12'!$C$138 -> 0.98778491 | N21: =+'META 13'!$C$138 -> 0.81787181 | O21: =+'META 14'!$C$138 -> #DIV/0! | P21: =+'META 17'!$C$138 -> 0.979739 | Q21: =+'META 18'!$C$138 -> #REF! | R21: =+'META 19'!$C$138 -> 0 | S21: =+'META 20'!$C$138 -> 0 | T21: =+'META 21'!$C$138 -> 0.28103082 | U21: =C52*3%+D52*6%+E52*3%+F52*5%+G52*5%+H52*5%+I52*5%+J52*4%+K52*4%+L52*4%+M52*4%+N52*4%+P52*4%+T52*3% -> 0.24199258 | V21: =+META_GES!$C$137 -> #DIV/0!
A22: PUNITAQUI | B22: =+'META 2'!$C$143 -> 0 | C22: =+'META 3.1'!$C$143 -> 1.0197838 | D22: =+'META 5 '!$C$143 -> 0.20783029 | E22: =+'META 6'!$C$143 -> 1.0989 | F22: =+'META 7'!$C$143 -> 0.21014842 | G22: =+'META 8.1'!$C$143 -> 0.01197853 | H22: =+'META 8.2'!$C$143 -> 0.087809847 | I22: =+'META 8.3'!$C$143 -> 0.1930598 | J22: =+'META 9'!$C$143 -> 0.2483777 | K22: =+'META 10'!$C$143 -> 0 | L22: =+'META 11'!$C$143 -> 0.23937891 | M22: =+'META 12'!$C$143 -> 1.0759937 | N22: =+'META 13'!$C$143 -> 0.92839838 | O22: =+'META 14'!$C$143 -> #DIV/0! | P22: =+'META 17'!$C$143 -> 0.96726381 | Q22: =+'META 18'!$C$143 -> #REF! | R22: =+'META 19'!$C$143 -> 0 | S22: =+'META 20'!$C$143 -> 0 | T22: =+'META 21'!$C$143 -> 0.3030303 | U22: =C53*3%+D53*6%+E53*3%+F53*5%+G53*5%+H53*5%+I53*5%+J53*4%+K53*4%+L53*4%+M53*4%+N53*4%+P53*4%+T53*3% -> 0.2329564 | V22: =+META_GES!$C$142 -> #DIV/0!
A23: RIO HURTADO | B23: =+'META 2'!$C$151 -> 0 | C23: =+'META 3.1'!$C$151 -> #DIV/0! | D23: =+'META 5 '!$C$151 -> 0.24552372 | E23: =+'META 6'!$C$151 -> 1.6116221 | F23: =+'META 7'!$C$151 -> 0.29391373 | G23: =+'META 8.1'!$C$151 -> 0.081714858 | H23: =+'META 8.2'!$C$151 -> 0.043953508 | I23: =+'META 8.3'!$C$151 -> 0.15093384 | J23: =+'META 9'!$C$151 -> 0.24241322 | K23: =+'META 10'!$C$151 -> 0 | L23: =+'META 11'!$C$151 -> 0.014653893 | M23: =+'META 12'!$C$151 -> 0.99584833 | N23: =+'META 13'!$C$151 -> 0.94050018 | O23: =+'META 14'!$C$151 -> #DIV/0! | P23: =+'META 17'!$C$151 -> 0.86670133 | Q23: =+'META 18'!$C$151 -> #REF! | R23: =+'META 19'!$C$151 -> 0 | S23: =+'META 20'!$C$151 -> 0 | T23: =+'META 21'!$C$151 -> 0.28569082 | U23: =C54*3%+D54*6%+E54*3%+F54*5%+G54*5%+H54*5%+I54*5%+J54*4%+K54*4%+L54*4%+M54*4%+N54*4%+P54*4%+T54*3% -> #DIV/0! | V23: =+META_GES!$C$150 -> #DIV/0!
A24: (*) Metas a Evaluar con Serie P de Junio 2018
A31: MINISTERIO DE SALUD
A32: SERVICIO DE SALUD COQUIMBO
A33: SUBDIRECCION DE GESTION ASISTENCIAL
A34: SUBDEPTO DE ESTADÍSTICA Y GESTIÓN DE LA INFORMACIÓN
A36: COMUNA | B36: RESUMEN DE CUMPLIMIENTO DE METAS A ABRIL 2017
B37: CORTE A MARZO
B39: METAS COMPONENTE ESTRATEGIA RISS, PRODUCCIÓN,COBERTURA EFECTIVA E IMPACTO SANITARIO
B40: META Nº2 | C40: META Nº3.1 | D40: META Nº5 | E40: META Nº6 | F40: META Nº7 | G40: META Nº8.1 | H40: META Nº8.2 | I40: META Nº8.3 | J40: META Nº9 | K40: META Nº10 | L40: META Nº11 | M40: META Nº12 | N40: META Nº13 | O40: META Nº14 | P40: META Nº17 | Q40: META Nº18 | R40: META Nº19 | S40: META Nº20 | T40: META Nº21
B41: Familias Evaluadas según riesgo | C41: Gestion de Reclamos APS | D41: Consultas de Morbilidad y Controles Médicos | E41: SIC derivadas desde la APS al Nivel Secundario | F41: Visita domiciliaria integral | G41: EMP hombres 20 a 64 años | H41: EMP mujeres de 45 a 64 años | I41: EMP 65 y mas años | J41: Evaluación del desarrollo Psicomotor de niños/as de 12 a 23 meses bajo control | K41: Control de salud integral adolescentes de 10 a 14 años | L41: Alta odontologica menores de 20 años | M41: Cobertura de Atención Integral de trastornos mentales en personas de 5 y más años | N41: Cobertura de Atención de Asma en Población general y EPOC en personas de 40 años y más | O41: Capacitación a Cuidadores de personas con Dependencia Severa con Pago de Estipendio | P41: Control embarazada | Q41: Cobertura de Métodos Anticonceptivos en Adolescentes | R41: Cobertura DM2 en personas de 15 y mas años | S41: Cobertutra HTA en personas de 15 y mas años | T41: Proporción de Niñas y Niños de 3 años libre de Caries
A43: LA SERENA | B43: =IF(B12="n/a","n/a",IF(B12="","",IF(B12>1,1,B12))) -> 0 | C43: =IF(C12="n/a","n/a",IF(C12="","",IF(C12>1,1,C12))) -> 1 | D43: =IF(D12="n/a","n/a",IF(D12="","",IF(D12>1,1,D12))) -> 0.23036004 | E43: =IF(E12="n/a","n/a",IF(E12="","",IF(E12>1,1,E12))) -> 1 | F43: =IF(F12="n/a","n/a",IF(F12="","",IF(F12>1,1,F12))) -> 0.19596823 | G43: =IF(G12="n/a","n/a",IF(G12="","",IF(G12>1,1,G12))) -> 0.14003396 | H43: =IF(H12="n/a","n/a",IF(H12="","",IF(H12>1,1,H12))) -> 0.15764283 | I43: =IF(I12="n/a","n/a",IF(I12="","",IF(I12>1,1,I12))) -> 0.16730589 | ... S43: =IF(S12="n/a","n/a",IF(S12="","",IF(S12>1,1,S12))) -> 0 | T43: =IF(T12="n/a","n/a",IF(T12="SI",1,0)) -> 0
A44: COQUIMBO | B44: =IF(B13="n/a","n/a",IF(B13="","",IF(B13>1,1,B13))) -> 0 | C44: =IF(C13="n/a","n/a",IF(C13="","",IF(C13>1,1,C13))) -> 1 | D44: =IF(D13="n/a","n/a",IF(D13="","",IF(D13>1,1,D13))) -> 0.24859221 | E44: =IF(E13="n/a","n/a",IF(E13="","",IF(E13>1,1,E13))) -> 0.9999276 | F44: =IF(F13="n/a","n/a",IF(F13="","",IF(F13>1,1,F13))) -> 0.20288829 | G44: =IF(G13="n/a","n/a",IF(G13="","",IF(G13>1,1,G13))) -> 0.28539409 | H44: =IF(H13="n/a","n/a",IF(H13="","",IF(H13>1,1,H13))) -> 0.28428104 | I44: =IF(I13="n/a","n/a",IF(I13="","",IF(I13>1,1,I13))) -> 0.27361625 | ... S44: =IF(S13="n/a","n/a",IF(S13="","",IF(S13>1,1,S13))) -> 0 | T44: =IF(T13="n/a","n/a",IF(T13="SI",1,0)) -> 0
A45: VICUÑA | B45: =IF(B14="n/a","n/a",IF(B14="","",IF(B14>1,1,B14))) -> 0 | C45: =IF(C14="n/a","n/a",IF(C14="","",IF(C14>1,1,C14))) -> 1 | D45: =IF(D14="n/a","n/a",IF(D14="","",IF(D14>1,1,D14))) -> 0.20901568 | E45: =IF(E14="n/a","n/a",IF(E14="","",IF(E14>1,1,E14))) -> 1 | F45: =IF(F14="n/a","n/a",IF(F14="","",IF(F14>1,1,F14))) -> 0.20672849 | G45: =IF(G14="n/a","n/a",IF(G14="","",IF(G14>1,1,G14))) -> 0.1801614 | H45: =IF(H14="n/a","n/a",IF(H14="","",IF(H14>1,1,H14))) -> 0.14957601 | I45: =IF(I14="n/a","n/a",IF(I14="","",IF(I14>1,1,I14))) -> 0.2081707 | ... S45: =IF(S14="n/a","n/a",IF(S14="","",IF(S14>1,1,S14))) -> 0 | T45: =IF(T14="n/a","n/a",IF(T14="SI",1,0)) -> 0
A46: ILLAPEL | B46: =IF(B15="n/a","n/a",IF(B15="","",IF(B15>1,1,B15))) -> 0 | C46: =IF(C15="n/a","n/a",IF(C15="","",IF(C15>1,1,C15))) -> 1 | D46: =IF(D15="n/a","n/a",IF(D15="","",IF(D15>1,1,D15))) -> 0.35929737 | E46: =IF(E15="n/a","n/a",IF(E15="","",IF(E15>1,1,E15))) -> 1 | F46: =IF(F15="n/a","n/a",IF(F15="","",IF(F15>1,1,F15))) -> 0.32077544 | G46: =IF(G15="n/a","n/a",IF(G15="","",IF(G15>1,1,G15))) -> 0.14081378 | H46: =IF(H15="n/a","n/a",IF(H15="","",IF(H15>1,1,H15))) -> 0.058822105 | I46: =IF(I15="n/a","n/a",IF(I15="","",IF(I15>1,1,I15))) -> 0.10896952 | ... S46: =IF(S15="n/a","n/a",IF(S15="","",IF(S15>1,1,S15))) -> 0 | T46: =IF(T15="n/a","n/a",IF(T15="SI",1,0)) -> 0
A47: CANELA | B47: =IF(B16="n/a","n/a",IF(B16="","",IF(B16>1,1,B16))) -> 0 | C47: =IF(C16="n/a","n/a",IF(C16="","",IF(C16>1,1,C16))) -> 1 | D47: =IF(D16="n/a","n/a",IF(D16="","",IF(D16>1,1,D16))) -> 0.20186781 | E47: =IF(E16="n/a","n/a",IF(E16="","",IF(E16>1,1,E16))) -> 0.9533093 | F47: =IF(F16="n/a","n/a",IF(F16="","",IF(F16>1,1,F16))) -> 0.14967112 | G47: =IF(G16="n/a","n/a",IF(G16="","",IF(G16>1,1,G16))) -> 0.096405293 | H47: =IF(H16="n/a","n/a",IF(H16="","",IF(H16>1,1,H16))) -> 0.10424388 | I47: =IF(I16="n/a","n/a",IF(I16="","",IF(I16>1,1,I16))) -> 0.14151237 | ... S47: =IF(S16="n/a","n/a",IF(S16="","",IF(S16>1,1,S16))) -> 0 | T47: =IF(T16="n/a","n/a",IF(T16="SI",1,0)) -> 0
A48: LOS VILOS | B48: =IF(B17="n/a","n/a",IF(B17="","",IF(B17>1,1,B17))) -> 0 | C48: =IF(C17="n/a","n/a",IF(C17="","",IF(C17>1,1,C17))) -> 1 | D48: =IF(D17="n/a","n/a",IF(D17="","",IF(D17>1,1,D17))) -> 0.33904219 | E48: =IF(E17="n/a","n/a",IF(E17="","",IF(E17>1,1,E17))) -> 1 | F48: =IF(F17="n/a","n/a",IF(F17="","",IF(F17>1,1,F17))) -> 0.27634406 | G48: =IF(G17="n/a","n/a",IF(G17="","",IF(G17>1,1,G17))) -> 0.14766488 | H48: =IF(H17="n/a","n/a",IF(H17="","",IF(H17>1,1,H17))) -> 0.11410453 | I48: =IF(I17="n/a","n/a",IF(I17="","",IF(I17>1,1,I17))) -> 0.24509112 | ... S48: =IF(S17="n/a","n/a",IF(S17="","",IF(S17>1,1,S17))) -> 0 | T48: =IF(T17="n/a","n/a",IF(T17="SI",1,0)) -> 0
A49: SALAMANCA | B49: =IF(B18="n/a","n/a",IF(B18="","",IF(B18>1,1,B18))) -> 0 | C49: =IF(C18="n/a","n/a",IF(C18="","",IF(C18>1,1,C18))) -> #DIV/0! | D49: =IF(D18="n/a","n/a",IF(D18="","",IF(D18>1,1,D18))) -> 0.22447558 | E49: =IF(E18="n/a","n/a",IF(E18="","",IF(E18>1,1,E18))) -> 0.999 | F49: =IF(F18="n/a","n/a",IF(F18="","",IF(F18>1,1,F18))) -> 0.19412516 | G49: =IF(G18="n/a","n/a",IF(G18="","",IF(G18>1,1,G18))) -> 0.15660092 | H49: =IF(H18="n/a","n/a",IF(H18="","",IF(H18>1,1,H18))) -> 0.18434477 | I49: =IF(I18="n/a","n/a",IF(I18="","",IF(I18>1,1,I18))) -> 0.26359872 | ... S49: =IF(S18="n/a","n/a",IF(S18="","",IF(S18>1,1,S18))) -> 0 | T49: =IF(T18="n/a","n/a",IF(T18="SI",1,0)) -> 0
A50: OVALLE | B50: =IF(B19="n/a","n/a",IF(B19="","",IF(B19>1,1,B19))) -> 0 | C50: =IF(C19="n/a","n/a",IF(C19="","",IF(C19>1,1,C19))) -> 1 | D50: =IF(D19="n/a","n/a",IF(D19="","",IF(D19>1,1,D19))) -> 0.24610586 | E50: =IF(E19="n/a","n/a",IF(E19="","",IF(E19>1,1,E19))) -> 1 | F50: =IF(F19="n/a","n/a",IF(F19="","",IF(F19>1,1,F19))) -> 0.24523476 | G50: =IF(G19="n/a","n/a",IF(G19="","",IF(G19>1,1,G19))) -> 0.14885595 | H50: =IF(H19="n/a","n/a",IF(H19="","",IF(H19>1,1,H19))) -> 0.19845705 | I50: =IF(I19="n/a","n/a",IF(I19="","",IF(I19>1,1,I19))) -> 0.26882379 | ... S50: =IF(S19="n/a","n/a",IF(S19="","",IF(S19>1,1,S19))) -> 0 | T50: =IF(T19="n/a","n/a",IF(T19="SI",1,0)) -> 0
A51: COMBARBALÁ | B51: =IF(B20="n/a","n/a",IF(B20="","",IF(B20>1,1,B20))) -> 0 | C51: =IF(C20="n/a","n/a",IF(C20="","",IF(C20>1,1,C20))) -> #DIV/0! | D51: =IF(D20="n/a","n/a",IF(D20="","",IF(D20>1,1,D20))) -> 0.2211365 | E51: =IF(E20="n/a","n/a",IF(E20="","",IF(E20>1,1,E20))) -> 1 | F51: =IF(F20="n/a","n/a",IF(F20="","",IF(F20>1,1,F20))) -> 0.27777778 | G51: =IF(G20="n/a","n/a",IF(G20="","",IF(G20>1,1,G20))) -> 0.10647308 | H51: =IF(H20="n/a","n/a",IF(H20="","",IF(H20>1,1,H20))) -> 0.081349444 | I51: =IF(I20="n/a","n/a",IF(I20="","",IF(I20>1,1,I20))) -> 0.27263182 | ... S51: =IF(S20="n/a","n/a",IF(S20="","",IF(S20>1,1,S20))) -> 0 | T51: =IF(T20="n/a","n/a",IF(T20="SI",1,0)) -> 0
A52: MONTE PATRIA | B52: =IF(B21="n/a","n/a",IF(B21="","",IF(B21>1,1,B21))) -> 0 | C52: =IF(C21="n/a","n/a",IF(C21="","",IF(C21>1,1,C21))) -> 1 | D52: =IF(D21="n/a","n/a",IF(D21="","",IF(D21>1,1,D21))) -> 0.22142531 | E52: =IF(E21="n/a","n/a",IF(E21="","",IF(E21>1,1,E21))) -> 1 | F52: =IF(F21="n/a","n/a",IF(F21="","",IF(F21>1,1,F21))) -> 0.1712417 | G52: =IF(G21="n/a","n/a",IF(G21="","",IF(G21>1,1,G21))) -> 0.11159721 | H52: =IF(H21="n/a","n/a",IF(H21="","",IF(H21>1,1,H21))) -> 0.17568798 | I52: =IF(I21="n/a","n/a",IF(I21="","",IF(I21>1,1,I21))) -> 0.32188642 | ... S52: =IF(S21="n/a","n/a",IF(S21="","",IF(S21>1,1,S21))) -> 0 | T52: =IF(T21="n/a","n/a",IF(T21="SI",1,0)) -> 0
A53: PUNITAQUI | B53: =IF(B22="n/a","n/a",IF(B22="","",IF(B22>1,1,B22))) -> 0 | C53: =IF(C22="n/a","n/a",IF(C22="","",IF(C22>1,1,C22))) -> 1 | D53: =IF(D22="n/a","n/a",IF(D22="","",IF(D22>1,1,D22))) -> 0.20783029 | E53: =IF(E22="n/a","n/a",IF(E22="","",IF(E22>1,1,E22))) -> 1 | F53: =IF(F22="n/a","n/a",IF(F22="","",IF(F22>1,1,F22))) -> 0.21014842 | G53: =IF(G22="n/a","n/a",IF(G22="","",IF(G22>1,1,G22))) -> 0.01197853 | H53: =IF(H22="n/a","n/a",IF(H22="","",IF(H22>1,1,H22))) -> 0.087809847 | I53: =IF(I22="n/a","n/a",IF(I22="","",IF(I22>1,1,I22))) -> 0.1930598 | ... S53: =IF(S22="n/a","n/a",IF(S22="","",IF(S22>1,1,S22))) -> 0 | T53: =IF(T22="n/a","n/a",IF(T22="SI",1,0)) -> 0
A54: RIO HURTADO | B54: =IF(B23="n/a","n/a",IF(B23="","",IF(B23>1,1,B23))) -> 0 | C54: =IF(C23="n/a","n/a",IF(C23="","",IF(C23>1,1,C23))) -> #DIV/0! | D54: =IF(D23="n/a","n/a",IF(D23="","",IF(D23>1,1,D23))) -> 0.24552372 | E54: =IF(E23="n/a","n/a",IF(E23="","",IF(E23>1,1,E23))) -> 1 | F54: =IF(F23="n/a","n/a",IF(F23="","",IF(F23>1,1,F23))) -> 0.29391373 | G54: =IF(G23="n/a","n/a",IF(G23="","",IF(G23>1,1,G23))) -> 0.081714858 | H54: =IF(H23="n/a","n/a",IF(H23="","",IF(H23>1,1,H23))) -> 0.043953508 | I54: =IF(I23="n/a","n/a",IF(I23="","",IF(I23>1,1,I23))) -> 0.15093384 | ... S54: =IF(S23="n/a","n/a",IF(S23="","",IF(S23>1,1,S23))) -> 0 | T54: =IF(T23="n/a","n/a",IF(T23="SI",1,0)) -> 0

Sheet META 2
A1: COMUNA | B1: ESTABLECIMIENTO | C1: CUMPLIMIENTO | D1: Indicador | E1: META 2 : FAMILIAS EVALUADAS SEGÚN RIESGO FAMILIAR
E2: NUMERADOR | G2: DENOMINADOR
E10: Nº de familias evaluadas según riesgo familiar | G10: Total de familias Insciritas (población inscrita/3,3)
D11: Resultado | E11: A JUNIO | F11: A DICBRE
A12: 04101-LA SERENA | B12: 105300-CES. CARDENAL CARO
A13: 04101-LA SERENA | B13: 105301-CES. LAS COMPAÑIAS
A14: 04101-LA SERENA | B14: 105302-CES. PEDRO AGUIRRE C.
A15: 04101-LA SERENA | B15: 105313-CES. SCHAFFHAUSER
A16: 04101-LA SERENA | B16: 105319-CES. CARDENAL R.S.H.
A17: 04101-LA SERENA | B17: 105325-CESFAM JUAN PABLO II
A18: 04101-LA SERENA | B18: 105400-P.S.R. ALGARROBITO
A19: 04101-LA SERENA | B19: 105401-P.S.R. LAS ROJAS
A20: 04101-LA SERENA | B20: 105402-P.S.R. EL ROMERO
A21: 04101-LA SERENA | B21: 105499-P.S.R. LAMBERT
A22: 04101-LA SERENA | B22: 105700-CECOF VILLA EL INDIO
A23: 04101-LA SERENA | B23: 105701-CECOF VILLA ALEMANIA
... A25: 04101-LA SERENA | B25: 200402-CECOF ARCOS DE PINAMAR
A26: TOTAL LA SERENA | C26: =+D26/Metas!G10 -> 0 | D26: =+E26/G26 -> 0 | E26: =SUM(E12:E25) -> 0 | F26: =SUM(F12:F25) -> 0 | G26: 57927
A27: 04102-COQUIMBO | B27: 105303-CES. SAN JUAN
A28: 04102-COQUIMBO | B28: 105304-CES. SANTA CECILIA
A29: 04102-COQUIMBO | B29: 105305-CES. TIERRAS BLANCAS
A30: 04102-COQUIMBO | B30: 105321-CES. RURAL TONGOY
A31: 04102-COQUIMBO | B31: 105323-CES. DR. SERGIO AGUILAR
A32: 04102-COQUIMBO | B32: 105404-P.S.R. EL TANGUE
A33: 04102-COQUIMBO | B33: 105405-P.S.R. GUANAQUEROS
A34: 04102-COQUIMBO | B34: 105406-P.S.R. PAN DE AZUCAR
A35: 04102-COQUIMBO | B35: 105407-P.S.R. TAMBILLOS
A36: 04102-COQUIMBO | B36: 105705-CECOF EL ALBA
A37: 04102-COQUIMBO | B37: 200273-CECOF PUNTA MIRA
A38: TOTAL COQUIMBO | C38: =+D38/Metas!G8 -> 0 | D38: =+E38/G38 -> 0 | E38: =SUM(E27:E37) -> 0 | F38: =SUM(F27:F37) -> 0 | G38: 56504
A39: 04106-VICUÑA | B39: 105467-P.S.R. DIAGUITAS
A40: 04106-VICUÑA | B40: 105468-P.S.R. EL MOLLE
A41: 04106-VICUÑA | B41: 105469-P.S.R. EL TAMBO
A42: 04106-VICUÑA | B42: 105470-P.S.R. HUANTA
A43: 04106-VICUÑA | B43: 105471-P.S.R. PERALILLO
A44: 04106-VICUÑA | B44: 105472-P.S.R. RIVADAVIA
A45: 04106-VICUÑA | B45: 105473-P.S.R. TALCUNA
A46: 04106-VICUÑA | B46: 105474-P.S.R. CHAPILCA
A47: 04106-VICUÑA | B47: 105502-P.S.R. CALINGASTA
A48: 04106-VICUÑA | B48: 105509-P.S.R. GUALLIGUAICA
A49: TOTAL VICUÑA | C49: =+D49/Metas!G17 -> 0 | D49: =+E49/G49 -> 0 | E49: =SUM(E39:E48) -> 0 | F49: =SUM(F39:F48) -> 0 | G49: 4472
A50: 04201-ILLAPEL | B50: 105326-CESFAM SAN RAFAEL
A51: 04201-ILLAPEL | B51: 105443-P.S.R. CARCAMO
A52: 04201-ILLAPEL | B52: 105444-P.S.R. HUINTIL
A53: 04201-ILLAPEL | B53: 105445-P.S.R. LIMAHUIDA
A54: 04201-ILLAPEL | B54: 105446-P.S.R. MATANCILLA
A55: 04201-ILLAPEL | B55: 105447-P.S.R. PERALILLO
A56: 04201-ILLAPEL | B56: 105448-P.S.R. SANTA VIRGINIA
A57: 04201-ILLAPEL | B57: 105449-P.S.R. TUNGA NORTE
A58: 04201-ILLAPEL | B58: 105485-P.S.R. PLAN DE HORNOS
A59: 04201-ILLAPEL | B59: 105486-P.S.R. TUNGA SUR
A60: 04201-ILLAPEL | B60: 105487-P.S.R. CAÑAS UNO
A61: 04201-ILLAPEL | B61: 105496-P.S.R. PINTACURA SUR
... A63: 04201-ILLAPEL | B63: 200366-CESFAM URBANO II
A64: TOTAL ILLAPEL | C64: =+D64/Metas!G9 -> 0 | D64: =+E64/G64 -> 0 | E64: =SUM(E50:E63) -> 0 | F64: =SUM(F50:F63) -> 0 | G64: 6038
A65: 04202-CANELA | B65: 105309-CES. RURAL CANELA
A66: 04202-CANELA | B66: 105450-P.S.R. MINCHA NORTE
A67: 04202-CANELA | B67: 105451-P.S.R. AGUA FRIA
A68: 04202-CANELA | B68: 105482-P.S.R. CANELA ALTA
A69: 04202-CANELA | B69: 105483-P.S.R. LOS RULOS
A70: 04202-CANELA | B70: 105484-P.S.R. HUENTELAUQUEN
A71: 04202-CANELA | B71: 105488-P.S.R. ESPIRITU SANTO
A72: 04202-CANELA | B72: 105493-P.S.R. MINCHA SUR
A73: 04202-CANELA | B73: 105497-P.S.R. JABONERIA
A74: 04202-CANELA | B74: 105498-P.S.R. QUEBRADA DE LINARES
A75: TOTAL CANELA | C75: =+D75/Metas!G6 -> 0 | D75: =+E75/G75 -> 0 | E75: =SUM(E65:E74) -> 0 | F75: =SUM(F65:F74) -> 0 | G75: 2821
A76: 04203-LOS VILOS | B76: 105478-P.S.R. CAIMANES
A77: 04203-LOS VILOS | B77: 105479-P.S.R. GUANGUALI
A78: 04203-LOS VILOS | B78: 105480-P.S.R. QUILIMARI
A79: 04203-LOS VILOS | B79: 105481-P.S.R. TILAMA
A80: 04203-LOS VILOS | B80: 105511-P.S.R. LOS CONDORES
A81: TOTAL LOS VILOS | C81: =+D81/Metas!G11 -> 0 | D81: =+E81/G81 -> 0 | E81: =SUM(E76:E80) -> 0 | F81: =SUM(F76:F80) -> 0 | G81: 1839
A82: 04204-SALAMANCA | B82: 105452-P.S.R. CUNCUMEN
A83: 04204-SALAMANCA | B83: 105453-P.S.R. TRANQUILLA
A84: 04204-SALAMANCA | B84: 105454-P.S.R. CUNLAGUA
A85: 04204-SALAMANCA | B85: 105455-P.S.R. CHILLEPIN
A86: 04204-SALAMANCA | B86: 105456-P.S.R. LLIMPO
A87: 04204-SALAMANCA | B87: 105457-P.S.R. SAN AGUSTIN
A88: 04204-SALAMANCA | B88: 105458-P.S.R. TAHUINCO
A89: 04204-SALAMANCA | B89: 105491-P.S.R. QUELEN BAJO
A90: 04204-SALAMANCA | B90: 105492-P.S.R. CAMISA
A91: 04204-SALAMANCA | B91: 105501-P.S.R. ARBOLEDA GRANDE
A92: TOTAL SALAMANCA | C92: =+D92/Metas!G16 -> 0 | D92: =+E92/G92 -> 0 | E92: =SUM(E82:E91) -> 0 | F92: =SUM(F82:F91) -> 0 | G92: 3915
A93: 04301-OVALLE | B93: 105315-CES. RURAL C. DE TAMAYA
A94: 04301-OVALLE | B94: 105317-CES. JORGE JORDAN D.
A95: 04301-OVALLE | B95: 105322-CES. MARCOS MACUADA
A96: 04301-OVALLE | B96: 105324-CES. SOTAQUI
A97: 04301-OVALLE | B97: 105415-P.S.R. BARRAZA
A98: 04301-OVALLE | B98: 105416-P.S.R. CAMARICO
A99: 04301-OVALLE | B99: 105417-P.S.R. ALCONES BAJOS
A100: 04301-OVALLE | B100: 105419-P.S.R. LAS SOSSAS
A101: 04301-OVALLE | B101: 105420-P.S.R. LIMARI
A102: 04301-OVALLE | B102: 105422-P.S.R. HORNILLOS
A103: 04301-OVALLE | B103: 105437-P.S.R. CHALINGA
A104: 04301-OVALLE | B104: 105439-P.S.R. CERRO BLANCO
... A110: 04301-OVALLE | B110: 200367-CECOF COLONIA LIMARÍ
A111: TOTAL OVALLE | C111: =+D111/Metas!G13 -> 0 | D111: =+E111/G111 -> 0 | E111: =SUM(E93:E110) -> 0 | F111: =SUM(F93:F110) -> 0 | G111: 29823
A112: 04302-COMBARBALÁ | B112: 105433-P.S.R. SAN LORENZO
A113: 04302-COMBARBALÁ | B113: 105434-P.S.R. SAN MARCOS
A114: 04302-COMBARBALÁ | B114: 105441-P.S.R. MANQUEHUA
...

Sheet META 3.1
A1: COMUNA | B1: ESTABLECIMIENTO | C1: CUMPLIMIENTO | D1: Indicador | E1: META 3.1: GESTION DE RECLAMOS EN APS
E2: NUMERADOR | R2: DENOMINADOR
E10: Nº total de reclamos respondidos con solución dentro de los plazos legales establecidos (15 días hábiles) | R10: Nº total de reclamos
D11: Resultado | E11: ENERO | F11: FEBRERO | G11: MARZO | H11: ABRIL | I11: MAYO | J11: JUNIO | K11: JULIO | L11: AGOSTO | M11: SEPBRE | N11: OCTBRE | O11: NOVBRE | P11: DICBRE | Q11: TOTAL | R11: ENERO | S11: FEBRERO | T11: MARZO | U11: ABRIL | V11: MAYO | W11: JUNIO | X11: JULIO | Y11: AGOSTO | Z11: SEPBRE | AA11: OCTBRE | AB11: NOVBRE | AC11: DICBRE | AD11: TOTAL
A12: 04101-LA SERENA | B12: 105300-CES. CARDENAL CARO | E12: =IFERROR(VLOOKUP(B12,'[1]NUM3.1'!$H$3:$L$72,2,FALSE),0) -> 40 | F12: =IFERROR(VLOOKUP(B12,'[1]NUM3.1'!$H$3:$L$72,3,FALSE),0) -> 45 | G12: =IFERROR(VLOOKUP(B12,'[1]NUM3.1'!$H$3:$L$72,4,FALSE),0) -> 51 | Q12: =SUM(E12:P12) -> 136 | R12: =IFERROR(VLOOKUP(B12,'[1]DEN3.1'!$H$3:$L$72,2,FALSE),0) -> 40 | S12: =IFERROR(VLOOKUP(B12,'[1]DEN3.1'!$H$3:$L$72,3,FALSE),0) -> 45 | T12: =IFERROR(VLOOKUP(B12,'[1]DEN3.1'!$H$3:$L$72,4,FALSE),0) -> 51 | AD12: =SUM(R12:AC12) -> 136
A13: 04101-LA SERENA | B13: 105301-CES. LAS COMPAÑIAS | E13: =IFERROR(VLOOKUP(B13,'[1]NUM3.1'!$H$3:$L$72,2,FALSE),0) -> 4 | F13: =IFERROR(VLOOKUP(B13,'[1]NUM3.1'!$H$3:$L$72,3,FALSE),0) -> 5 | G13: =IFERROR(VLOOKUP(B13,'[1]NUM3.1'!$H$3:$L$72,4,FALSE),0) -> 0 | Q13: =SUM(E13:P13) -> 9 | R13: =IFERROR(VLOOKUP(B13,'[1]DEN3.1'!$H$3:$L$72,2,FALSE),0) -> 4 | S13: =IFERROR(VLOOKUP(B13,'[1]DEN3.1'!$H$3:$L$72,3,FALSE),0) -> 5 | T13: =IFERROR(VLOOKUP(B13,'[1]DEN3.1'!$H$3:$L$72,4,FALSE),0) -> 0 | AD13: =SUM(R13:AC13) -> 9
A14: 04101-LA SERENA | B14: 105302-CES. PEDRO AGUIRRE C. | E14: =IFERROR(VLOOKUP(B14,'[1]NUM3.1'!$H$3:$L$72,2,FALSE),0) -> 7 | F14: =IFERROR(VLOOKUP(B14,'[1]NUM3.1'!$H$3:$L$72,3,FALSE),0) -> 13 | G14: =IFERROR(VLOOKUP(B14,'[1]NUM3.1'!$H$3:$L$72,4,FALSE),0) -> 10 | Q14: =SUM(E14:P14) -> 30 | R14: =IFERROR(VLOOKUP(B14,'[1]DEN3.1'!$H$3:$L$72,2,FALSE),0) -> 7 | S14: =IFERROR(VLOOKUP(B14,'[1]DEN3.1'!$H$3:$L$72,3,FALSE),0) -> 13 | T14: =IFERROR(VLOOKUP(B14,'[1]DEN3.1'!$H$3:$L$72,4,FALSE),0) -> 10 | AD14: =SUM(R14:AC14) -> 30
A15: 04101-LA SERENA | B15: 105313-CES. SCHAFFHAUSER | E15: =IFERROR(VLOOKUP(B15,'[1]NUM3.1'!$H$3:$L$72,2,FALSE),0) -> 4 | F15: =IFERROR(VLOOKUP(B15,'[1]NUM3.1'!$H$3:$L$72,3,FALSE),0) -> 1 | G15: =IFERROR(VLOOKUP(B15,'[1]NUM3.1'!$H$3:$L$72,4,FALSE),0) -> 5 | Q15: =SUM(E15:P15) -> 10 | R15: =IFERROR(VLOOKUP(B15,'[1]DEN3.1'!$H$3:$L$72,2,FALSE),0) -> 4 | S15: =IFERROR(VLOOKUP(B15,'[1]DEN3.1'!$H$3:$L$72,3,FALSE),0) -> 1 | T15: =IFERROR(VLOOKUP(B15,'[1]DEN3.1'!$H$3:$L$72,4,FALSE),0) -> 5 | AD15: =SUM(R15:AC15) -> 10
A16: 04101-LA SERENA | B16: 105319-CES. CARDENAL R.S.H. | E16: =IFERROR(VLOOKUP(B16,'[1]NUM3.1'!$H$3:$L$72,2,FALSE),0) -> 11 | F16: =IFERROR(VLOOKUP(B16,'[1]NUM3.1'!$H$3:$L$72,3,FALSE),0) -> 9 | G16: =IFERROR(VLOOKUP(B16,'[1]NUM3.1'!$H$3:$L$72,4,FALSE),0) -> 3 | Q16: =SUM(E16:P16) -> 23 | R16: =IFERROR(VLOOKUP(B16,'[1]DEN3.1'!$H$3:$L$72,2,FALSE),0) -> 11 | S16: =IFERROR(VLOOKUP(B16,'[1]DEN3.1'!$H$3:$L$72,3,FALSE),0) -> 9 | T16: =IFERROR(VLOOKUP(B16,'[1]DEN3.1'!$H$3:$L$72,4,FALSE),0) -> 3 | AD16: =SUM(R16:AC16) -> 23
A17: 04101-LA SERENA | B17: 105325-CESFAM JUAN PABLO II | E17: =IFERROR(VLOOKUP(B17,'[1]NUM3.1'!$H$3:$L$72,2,FALSE),0) -> 4 | F17: =IFERROR(VLOOKUP(B17,'[1]NUM3.1'!$H$3:$L$72,3,FALSE),0) -> 4 | G17: =IFERROR(VLOOKUP(B17,'[1]NUM3.1'!$H$3:$L$72,4,FALSE),0) -> 7 | Q17: =SUM(E17:P17) -> 15 | R17: =IFERROR(VLOOKUP(B17,'[1]DEN3.1'!$H$3:$L$72,2,FALSE),0) -> 4 | S17: =IFERROR(VLOOKUP(B17,'[1]DEN3.1'!$H$3:$L$72,3,FALSE),0) -> 4 | T17: =IFERROR(VLOOKUP(B17,'[1]DEN3.1'!$H$3:$L$72,4,FALSE),0) -> 7 | AD17: =SUM(R17:AC17) -> 15
A18: 04101-LA SERENA | B18: 105400-P.S.R. ALGARROBITO | E18: =IFERROR(VLOOKUP(B18,'[1]NUM3.1'!$H$3:$L$72,2,FALSE),0) -> 2 | F18: =IFERROR(VLOOKUP(B18,'[1]NUM3.1'!$H$3:$L$72,3,FALSE),0) -> 0 | G18: =IFERROR(VLOOKUP(B18,'[1]NUM3.1'!$H$3:$L$72,4,FALSE),0) -> 2 | Q18: =SUM(E18:P18) -> 4 | R18: =IFERROR(VLOOKUP(B18,'[1]DEN3.1'!$H$3:$L$72,2,FALSE),0) -> 2 | S18: =IFERROR(VLOOKUP(B18,'[1]DEN3.1'!$H$3:$L$72,3,FALSE),0) -> 0 | T18: =IFERROR(VLOOKUP(B18,'[1]DEN3.1'!$H$3:$L$72,4,FALSE),0) -> 2 | AD18: =SUM(R18:AC18) -> 4
A19: 04101-LA SERENA | B19: 105401-P.S.R. LAS ROJAS | E19: =IFERROR(VLOOKUP(B19,'[1]NUM3.1'!$H$3:$L$72,2,FALSE),0) -> 1 | F19: =IFERROR(VLOOKUP(B19,'[1]NUM3.1'!$H$3:$L$72,3,FALSE),0) -> 1 | G19: =IFERROR(VLOOKUP(B19,'[1]NUM3.1'!$H$3:$L$72,4,FALSE),0) -> 1 | Q19: =SUM(E19:P19) -> 3 | R19: =IFERROR(VLOOKUP(B19,'[1]DEN3.1'!$H$3:$L$72,2,FALSE),0) -> 1 | S19: =IFERROR(VLOOKUP(B19,'[1]DEN3.1'!$H$3:$L$72,3,FALSE),0) -> 1 | T19: =IFERROR(VLOOKUP(B19,'[1]DEN3.1'!$H$3:$L$72,4,FALSE),0) -> 1 | AD19: =SUM(R19:AC19) -> 3
A20: 04101-LA SERENA | B20: 105402-P.S.R. EL ROMERO | E20: =IFERROR(VLOOKUP(B20,'[1]NUM3.1'!$H$3:$L$72,2,FALSE),0) -> 0 | F20: =IFERROR(VLOOKUP(B20,'[1]NUM3.1'!$H$3:$L$72,3,FALSE),0) -> 0 | G20: =IFERROR(VLOOKUP(B20,'[1]NUM3.1'!$H$3:$L$72,4,FALSE),0) -> 0 | Q20: =SUM(E20:P20) -> 0 | R20: =IFERROR(VLOOKUP(B20,'[1]DEN3.1'!$H$3:$L$72,2,FALSE),0) -> 0 | S20: =IFERROR(VLOOKUP(B20,'[1]DEN3.1'!$H$3:$L$72,3,FALSE),0) -> 0 | T20: =IFERROR(VLOOKUP(B20,'[1]DEN3.1'!$H$3:$L$72,4,FALSE),0) -> 0 | AD20: =SUM(R20:AC20) -> 0
A21: 04101-LA SERENA | B21: 105499-P.S.R. LAMBERT | E21: =IFERROR(VLOOKUP(B21,'[1]NUM3.1'!$H$3:$L$72,2,FALSE),0) -> 0 | F21: =IFERROR(VLOOKUP(B21,'[1]NUM3.1'!$H$3:$L$72,3,FALSE),0) -> 0 | G21: =IFERROR(VLOOKUP(B21,'[1]NUM3.1'!$H$3:$L$72,4,FALSE),0) -> 0 | Q21: =SUM(E21:P21) -> 0 | R21: =IFERROR(VLOOKUP(B21,'[1]DEN3.1'!$H$3:$L$72,2,FALSE),0) -> 0 | S21: =IFERROR(VLOOKUP(B21,'[1]DEN3.1'!$H$3:$L$72,3,FALSE),0) -> 0 | T21: =IFERROR(VLOOKUP(B21,'[1]DEN3.1'!$H$3:$L$72,4,FALSE),0) -> 0 | AD21: =SUM(R21:AC21) -> 0
A22: 04101-LA SERENA | B22: 105700-CECOF VILLA EL INDIO | E22: =IFERROR(VLOOKUP(B22,'[1]NUM3.1'!$H$3:$L$72,2,FALSE),0) -> 3 | F22: =IFERROR(VLOOKUP(B22,'[1]NUM3.1'!$H$3:$L$72,3,FALSE),0) -> 3 | G22: =IFERROR(VLOOKUP(B22,'[1]NUM3.1'!$H$3:$L$72,4,FALSE),0) -> 3 | Q22: =SUM(E22:P22) -> 9 | R22: =IFERROR(VLOOKUP(B22,'[1]DEN3.1'!$H$3:$L$72,2,FALSE),0) -> 3 | S22: =IFERROR(VLOOKUP(B22,'[1]DEN3.1'!$H$3:$L$72,3,FALSE),0) -> 3 | T22: =IFERROR(VLOOKUP(B22,'[1]DEN3.1'!$H$3:$L$72,4,FALSE),0) -> 3 | AD22: =SUM(R22:AC22) -> 9
A23: 04101-LA SERENA | B23: 105701-CECOF VILLA ALEMANIA | E23: =IFERROR(VLOOKUP(B23,'[1]NUM3.1'!$H$3:$L$72,2,FALSE),0) -> 0 | F23: =IFERROR(VLOOKUP(B23,'[1]NUM3.1'!$H$3:$L$72,3,FALSE),0) -> 0 | G23: =IFERROR(VLOOKUP(B23,'[1]NUM3.1'!$H$3:$L$72,4,FALSE),0) -> 0 | Q23: =SUM(E23:P23) -> 0 | R23: =IFERROR(VLOOKUP(B23,'[1]DEN3.1'!$H$3:$L$72,2,FALSE),0) -> 0 | S23: =IFERROR(VLOOKUP(B23,'[1]DEN3.1'!$H$3:$L$72,3,FALSE),0) -> 0 | T23: =IFERROR(VLOOKUP(B23,'[1]DEN3.1'!$H$3:$L$72,4,FALSE),0) -> 0 | AD23: =SUM(R23:AC23) -> 0
... A25: 04101-LA SERENA | B25: 200402-CECOF ARCOS DE PINAMAR | E25: =IFERROR(VLOOKUP(B25,'[1]NUM3.1'!$H$3:$L$72,2,FALSE),0) -> 1 | F25: =IFERROR(VLOOKUP(B25,'[1]NUM3.1'!$H$3:$L$72,3,FALSE),0) -> 0 | G25: =IFERROR(VLOOKUP(B25,'[1]NUM3.1'!$H$3:$L$72,4,FALSE),0) -> 0 | Q25: =SUM(E25:P25) -> 1 | R25: =IFERROR(VLOOKUP(B25,'[1]DEN3.1'!$H$3:$L$72,2,FALSE),0) -> 1 | S25: =IFERROR(VLOOKUP(B25,'[1]DEN3.1'!$H$3:$L$72,3,FALSE),0) -> 0 | T25: =IFERROR(VLOOKUP(B25,'[1]DEN3.1'!$H$3:$L$72,4,FALSE),0) -> 0 | AD25: =SUM(R25:AC25) -> 1
A26: TOTAL LA SERENA | C26: =+D26/Metas!H10 -> 1.0194719 | D26: =+Q26/AD26 -> 1 | E26: =SUM(E12:E25) -> 77 | F26: =SUM(F12:F25) -> 81 | G26: =SUM(G12:G25) -> 82 | H26: =SUM(H12:H25) -> 0 | I26: =SUM(I12:I25) -> 0 | J26: =SUM(J12:J25) -> 0 | K26: =SUM(K12:K25) -> 0 | L26: =SUM(L12:L25) -> 0 | ... AD26: =SUM(AD12:AD25) -> 240
A27: 04102-COQUIMBO | B27: 105303-CES. SAN JUAN | E27: =IFERROR(VLOOKUP(B27,'[1]NUM3.1'!$H$3:$L$72,2,FALSE),0) -> 10 | F27: =IFERROR(VLOOKUP(B27,'[1]NUM3.1'!$H$3:$L$72,3,FALSE),0) -> 9 | G27: =IFERROR(VLOOKUP(B27,'[1]NUM3.1'!$H$3:$L$72,4,FALSE),0) -> 9 | Q27: =SUM(E27:P27) -> 28 | R27: =IFERROR(VLOOKUP(B27,'[1]DEN3.1'!$H$3:$L$72,2,FALSE),0) -> 10 | S27: =IFERROR(VLOOKUP(B27,'[1]DEN3.1'!$H$3:$L$72,3,FALSE),0) -> 9 | T27: =IFERROR(VLOOKUP(B27,'[1]DEN3.1'!$H$3:$L$72,4,FALSE),0) -> 9 | AD27: =SUM(R27:AC27) -> 28
A28: 04102-COQUIMBO | B28: 105304-CES. SANTA CECILIA | E28: =IFERROR(VLOOKUP(B28,'[1]NUM3.1'!$H$3:$L$72,2,FALSE),0) -> 5 | F28: =IFERROR(VLOOKUP(B28,'[1]NUM3.1'!$H$3:$L$72,3,FALSE),0) -> 7 | G28: =IFERROR(VLOOKUP(B28,'[1]NUM3.1'!$H$3:$L$72,4,FALSE),0) -> 15 | Q28: =SUM(E28:P28) -> 27 | R28: =IFERROR(VLOOKUP(B28,'[1]DEN3.1'!$H$3:$L$72,2,FALSE),0) -> 5 | S28: =IFERROR(VLOOKUP(B28,'[1]DEN3.1'!$H$3:$L$72,3,FALSE),0) -> 7 | T28: =IFERROR(VLOOKUP(B28,'[1]DEN3.1'!$H$3:$L$72,4,FALSE),0) -> 15 | AD28: =SUM(R28:AC28) -> 27
A29: 04102-COQUIMBO | B29: 105305-CES. TIERRAS BLANCAS | E29: =IFERROR(VLOOKUP(B29,'[1]NUM3.1'!$H$3:$L$72,2,FALSE),0) -> 12 | F29: =IFERROR(VLOOKUP(B29,'[1]NUM3.1'!$H$3:$L$72,3,FALSE),0) -> 11 | G29: =IFERROR(VLOOKUP(B29,'[1]NUM3.1'!$H$3:$L$72,4,FALSE),0) -> 6 | Q29: =SUM(E29:P29) -> 29 | R29: =IFERROR(VLOOKUP(B29,'[1]DEN3.1'!$H$3:$L$72,2,FALSE),0) -> 12 | S29: =IFERROR(VLOOKUP(B29,'[1]DEN3.1'!$H$3:$L$72,3,FALSE),0) -> 11 | T29: =IFERROR(VLOOKUP(B29,'[1]DEN3.1'!$H$3:$L$72,4,FALSE),0) -> 6 | AD29: =SUM(R29:AC29) -> 29
A30: 04102-COQUIMBO | B30: 105321-CES. RURAL TONGOY | E30: =IFERROR(VLOOKUP(B30,'[1]NUM3.1'!$H$3:$L$72,2,FALSE),0) -> 2 | F30: =IFERROR(VLOOKUP(B30,'[1]NUM3.1'!$H$3:$L$72,3,FALSE),0) -> 1 | G30: =IFERROR(VLOOKUP(B30,'[1]NUM3.1'!$H$3:$L$72,4,FALSE),0) -> 2 | Q30: =SUM(E30:P30) -> 5 | R30: =IFERROR(VLOOKUP(B30,'[1]DEN3.1'!$H$3:$L$72,2,FALSE),0) -> 2 | S30: =IFERROR(VLOOKUP(B30,'[1]DEN3.1'!$H$3:$L$72,3,FALSE),0) -> 1 | T30: =IFERROR(VLOOKUP(B30,'[1]DEN3.1'!$H$3:$L$72,4,FALSE),0) -> 2 | AD30: =SUM(R30:AC30) -> 5
A31: 04102-COQUIMBO | B31: 105323-CES. DR. SERGIO AGUILAR | E31: =IFERROR(VLOOKUP(B31,'[1]NUM3.1'!$H$3:$L$72,2,FALSE),0) -> 11 | F31: =IFERROR(VLOOKUP(B31,'[1]NUM3.1'!$H$3:$L$72,3,FALSE),0) -> 18 | G31: =IFERROR(VLOOKUP(B31,'[1]NUM3.1'!$H$3:$L$72,4,FALSE),0) -> 50 | Q31: =SUM(E31:P31) -> 79 | R31: =IFERROR(VLOOKUP(B31,'[1]DEN3.1'!$H$3:$L$72,2,FALSE),0) -> 11 | S31: =IFERROR(VLOOKUP(B31,'[1]DEN3.1'!$H$3:$L$72,3,FALSE),0) -> 18 | T31: =IFERROR(VLOOKUP(B31,'[1]DEN3.1'!$H$3:$L$72,4,FALSE),0) -> 50 | AD31: =SUM(R31:AC31) -> 79
A32: 04102-COQUIMBO | B32: 105404-P.S.R. EL TANGUE | E32: =IFERROR(VLOOKUP(B32,'[1]NUM3.1'!$H$3:$L$72,2,FALSE),0) -> 0 | F32: =IFERROR(VLOOKUP(B32,'[1]NUM3.1'!$H$3:$L$72,3,FALSE),0) -> 0 | G32: =IFERROR(VLOOKUP(B32,'[1]NUM3.1'!$H$3:$L$72,4,FALSE),0) -> 0 | Q32: =SUM(E32:P32) -> 0 | R32: =IFERROR(VLOOKUP(B32,'[1]DEN3.1'!$H$3:$L$72,2,FALSE),0) -> 0 | S32: =IFERROR(VLOOKUP(B32,'[1]DEN3.1'!$H$3:$L$72,3,FALSE),0) -> 0 | T32: =IFERROR(VLOOKUP(B32,'[1]DEN3.1'!$H$3:$L$72,4,FALSE),0) -> 0 | AD32: =SUM(R32:AC32) -> 0
A33: 04102-COQUIMBO | B33: 105405-P.S.R. GUANAQUEROS | E33: =IFERROR(VLOOKUP(B33,'[1]NUM3.1'!$H$3:$L$72,2,FALSE),0) -> 0 | F33: =IFERROR(VLOOKUP(B33,'[1]NUM3.1'!$H$3:$L$72,3,FALSE),0) -> 3 | G33: =IFERROR(VLOOKUP(B33,'[1]NUM3.1'!$H$3:$L$72,4,FALSE),0) -> 0 | Q33: =SUM(E33:P33) -> 3 | R33: =IFERROR(VLOOKUP(B33,'[1]DEN3.1'!$H$3:$L$72,2,FALSE),0) -> 0 | S33: =IFERROR(VLOOKUP(B33,'[1]DEN3.1'!$H$3:$L$72,3,FALSE),0) -> 3 | T33: =IFERROR(VLOOKUP(B33,'[1]DEN3.1'!$H$3:$L$72,4,FALSE),0) -> 0 | AD33: =SUM(R33:AC33) -> 3
A34: 04102-COQUIMBO | B34: 105406-P.S.R. PAN DE AZUCAR | E34: =IFERROR(VLOOKUP(B34,'[1]NUM3.1'!$H$3:$L$72,2,FALSE),0) -> 0 | F34: =IFERROR(VLOOKUP(B34,'[1]NUM3.1'!$H$3:$L$72,3,FALSE),0) -> 2 | G34: =IFERROR(VLOOKUP(B34,'[1]NUM3.1'!$H$3:$L$72,4,FALSE),0) -> 5 | Q34: =SUM(E34:P34) -> 7 | R34: =IFERROR(VLOOKUP(B34,'[1]DEN3.1'!$H$3:$L$72,2,FALSE),0) -> 0 | S34: =IFERROR(VLOOKUP(B34,'[1]DEN3.1'!$H$3:$L$72,3,FALSE),0) -> 2 | T34: =IFERROR(VLOOKUP(B34,'[1]DEN3.1'!$H$3:$L$72,4,FALSE),0) -> 5 | AD34: =SUM(R34:AC34) -> 7
A35: 04102-COQUIMBO | B35: 105407-P.S.R. TAMBILLOS | E35: =IFERROR(VLOOKUP(B35,'[1]NUM3.1'!$H$3:$L$72,2,FALSE),0) -> 0 | F35: =IFERROR(VLOOKUP(B35,'[1]NUM3.1'!$H$3:$L$72,3,FALSE),0) -> 0 | G35: =IFERROR(VLOOKUP(B35,'[1]NUM3.1'!$H$3:$L$72,4,FALSE),0) -> 0 | Q35: =SUM(E35:P35) -> 0 | R35: =IFERROR(VLOOKUP(B35,'[1]DEN3.1'!$H$3:$L$72,2,FALSE),0) -> 0 | S35: =IFERROR(VLOOKUP(B35,'[1]DEN3.1'!$H$3:$L$72,3,FALSE),0) -> 0 | T35: =IFERROR(VLOOKUP(B35,'[1]DEN3.1'!$H$3:$L$72,4,FALSE),0) -> 0 | AD35: =SUM(R35:AC35) -> 0
A36: 04102-COQUIMBO | B36: 105705-CECOF EL ALBA | E36: =IFERROR(VLOOKUP(B36,'[1]NUM3.1'!$H$3:$L$72,2,FALSE),0) -> 0 | F36: =IFERROR(VLOOKUP(B36,'[1]NUM3.1'!$H$3:$L$72,3,FALSE),0) -> 0 | G36: =IFERROR(VLOOKUP(B36,'[1]NUM3.1'!$H$3:$L$72,4,FALSE),0) -> 1 | Q36: =SUM(E36:P36) -> 1 | R36: =IFERROR(VLOOKUP(B36,'[1]DEN3.1'!$H$3:$L$72,2,FALSE),0) -> 0 | S36: =IFERROR(VLOOKUP(B36,'[1]DEN3.1'!$H$3:$L$72,3,FALSE),0) -> 0 | T36: =IFERROR(VLOOKUP(B36,'[1]DEN3.1'!$H$3:$L$72,4,FALSE),0) -> 1 | AD36: =SUM(R36:AC36) -> 1
A37: 04102-COQUIMBO | B37: 200273-CECOF PUNTA MIRA | E37: =IFERROR(VLOOKUP(B37,'[1]NUM3.1'!$H$3:$L$72,2,FALSE),0) -> 0 | F37: =IFERROR(VLOOKUP(B37,'[1]NUM3.1'!$H$3:$L$72,3,FALSE),0) -> 0 | G37: =IFERROR(VLOOKUP(B37,'[1]NUM3.1'!$H$3:$L$72,4,FALSE),0) -> 3 | Q37: =SUM(E37:P37) -> 3 | R37: =IFERROR(VLOOKUP(B37,'[1]DEN3.1'!$H$3:$L$72,2,FALSE),0) -> 0 | S37: =IFERROR(VLOOKUP(B37,'[1]DEN3.1'!$H$3:$L$72,3,FALSE),0) -> 0 | T37: =IFERROR(VLOOKUP(B37,'[1]DEN3.1'!$H$3:$L$72,4,FALSE),0) -> 3 | AD37: =SUM(R37:AC37) -> 3
A38: TOTAL COQUIMBO | C38: =+D38/Metas!H8 -> 1.0196798 | D38: =+Q38/AD38 -> 1 | E38: =SUM(E27:E37) -> 40 | F38: =SUM(F27:F37) -> 51 | G38: =SUM(G27:G37) -> 91 | H38: =SUM(H27:H37) -> 0 | I38: =SUM(I27:I37) -> 0 | J38: =SUM(J27:J37) -> 0 | K38: =SUM(K27:K37) -> 0 | L38: =SUM(L27:L37) -> 0 | ... AD38: =SUM(AD27:AD37) -> 182
A39: 04106-VICUÑA | B39: 105467-P.S.R. DIAGUITAS | E39: =IFERROR(VLOOKUP(B39,'[1]NUM3.1'!$H$3:$L$72,2,FALSE),0) -> 0 | F39: =IFERROR(VLOOKUP(B39,'[1]NUM3.1'!$H$3:$L$72,3,FALSE),0) -> 0 | G39: =IFERROR(VLOOKUP(B39,'[1]NUM3.1'!$H$3:$L$72,4,FALSE),0) -> 0 | Q39: =SUM(E39:P39) -> 0 | R39: =IFERROR(VLOOKUP(B39,'[1]DEN3.1'!$H$3:$L$72,2,FALSE),0) -> 0 | S39: =IFERROR(VLOOKUP(B39,'[1]DEN3.1'!$H$3:$L$72,3,FALSE),0) -> 0 | T39: =IFERROR(VLOOKUP(B39,'[1]DEN3.1'!$H$3:$L$72,4,FALSE),0) -> 0 | AD39: =SUM(R39:AC39) -> 0
A40: 04106-VICUÑA | B40: 105468-P.S.R. EL MOLLE | E40: =IFERROR(VLOOKUP(B40,'[1]NUM3.1'!$H$3:$L$72,2,FALSE),0) -> 0 | F40: =IFERROR(VLOOKUP(B40,'[1]NUM3.1'!$H$3:$L$72,3,FALSE),0) -> 0 | G40: =IFERROR(VLOOKUP(B40,'[1]NUM3.1'!$H$3:$L$72,4,FALSE),0) -> 0 | Q40: =SUM(E40:P40) -> 0 | R40: =IFERROR(VLOOKUP(B40,'[1]DEN3.1'!$H$3:$L$72,2,FALSE),0) -> 0 | S40: =IFERROR(VLOOKUP(B40,'[1]DEN3.1'!$H$3:$L$72,3,FALSE),0) -> 0 | T40: =IFERROR(VLOOKUP(B40,'[1]DEN3.1'!$H$3:$L$72,4,FALSE),0) -> 0 | AD40: =SUM(R40:AC40) -> 0
A41: 04106-VICUÑA | B41: 105469-P.S.R. EL TAMBO | E41: =IFERROR(VLOOKUP(B41,'[1]NUM3.1'!$H$3:$L$72,2,FALSE),0) -> 0 | F41: =IFERROR(VLOOKUP(B41,'[1]NUM3.1'!$H$3:$L$72,3,FALSE),0) -> 0 | G41: =IFERROR(VLOOKUP(B41,'[1]NUM3.1'!$H$3:$L$72,4,FALSE),0) -> 0 | Q41: =SUM(E41:P41) -> 0 | R41: =IFERROR(VLOOKUP(B41,'[1]DEN3.1'!$H$3:$L$72,2,FALSE),0) -> 0 | S41: =IFERROR(VLOOKUP(B41,'[1]DEN3.1'!$H$3:$L$72,3,FALSE),0) -> 0 | T41: =IFERROR(VLOOKUP(B41,'[1]DEN3.1'!$H$3:$L$72,4,FALSE),0) -> 0 | AD41: =SUM(R41:AC41) -> 0
A42: 04106-VICUÑA | B42: 105470-P.S.R. HUANTA | E42: =IFERROR(VLOOKUP(B42,'[1]NUM3.1'!$H$3:$L$72,2,FALSE),0) -> 0 | F42: =IFERROR(VLOOKUP(B42,'[1]NUM3.1'!$H$3:$L$72,3,FALSE),0) -> 1 | G42: =IFERROR(VLOOKUP(B42,'[1]NUM3.1'!$H$3:$L$72,4,FALSE),0) -> 1 | Q42: =SUM(E42:P42) -> 2 | R42: =IFERROR(VLOOKUP(B42,'[1]DEN3.1'!$H$3:$L$72,2,FALSE),0) -> 0 | S42: =IFERROR(VLOOKUP(B42,'[1]DEN3.1'!$H$3:$L$72,3,FALSE),0) -> 1 | T42: =IFERROR(VLOOKUP(B42,'[1]DEN3.1'!$H$3:$L$72,4,FALSE),0) -> 1 | AD42: =SUM(R42:AC42) -> 2
A43: 04106-VICUÑA | B43: 105471-P.S.R. PERALILLO | E43: =IFERROR(VLOOKUP(B43,'[1]NUM3.1'!$H$3:$L$72,2,FALSE),0) -> 0 | F43: =IFERROR(VLOOKUP(B43,'[1]NUM3.1'!$H$3:$L$72,3,FALSE),0) -> 0 | G43: =IFERROR(VLOOKUP(B43,'[1]NUM3.1'!$H$3:$L$72,4,FALSE),0) -> 0 | Q43: =SUM(E43:P43) -> 0 | R43: =IFERROR(VLOOKUP(B43,'[1]DEN3.1'!$H$3:$L$72,2,FALSE),0) -> 0 | S43: =IFERROR(VLOOKUP(B43,'[1]DEN3.1'!$H$3:$L$72,3,FALSE),0) -> 0 | T43: =IFERROR(VLOOKUP(B43,'[1]DEN3.1'!$H$3:$L$72,4,FALSE),0) -> 0 | AD43: =SUM(R43:AC43) -> 0
A44: 04106-VICUÑA | B44: 105472-P.S.R. RIVADAVIA | E44: =IFERROR(VLOOKUP(B44,'[1]NUM3.1'!$H$3:$L$72,2,FALSE),0) -> 0 | F44: =IFERROR(VLOOKUP(B44,'[1]NUM3.1'!$H$3:$L$72,3,FALSE),0) -> 0 | G44: =IFERROR(VLOOKUP(B44,'[1]NUM3.1'!$H$3:$L$72,4,FALSE),0) -> 0 | Q44: =SUM(E44:P44) -> 0 | R44: =IFERROR(VLOOKUP(B44,'[1]DEN3.1'!$H$3:$L$72,2,FALSE),0) -> 0 | S44: =IFERROR(VLOOKUP(B44,'[1]DEN3.1'!$H$3:$L$72,3,FALSE),0) -> 0 | T44: =IFERROR(VLOOKUP(B44,'[1]DEN3.1'!$H$3:$L$72,4,FALSE),0) -> 0 | AD44: =SUM(R44:AC44) -> 0
A45: 04106-VICUÑA | B45: 105473-P.S.R. TALCUNA | E45: =IFERROR(VLOOKUP(B45,'[1]NUM3.1'!$H$3:$L$72,2,FALSE),0) -> 0 | F45: =IFERROR(VLOOKUP(B45,'[1]NUM3.1'!$H$3:$L$72,3,FALSE),0) -> 1 | G45: =IFERROR(VLOOKUP(B45,'[1]NUM3.1'!$H$3:$L$72,4,FALSE),0) -> 0 | Q45: =SUM(E45:P45) -> 1 | R45: =IFERROR(VLOOKUP(B45,'[1]DEN3.1'!$H$3:$L$72,2,FALSE),0) -> 0 | S45: =IFERROR(VLOOKUP(B45,'[1]DEN3.1'!$H$3:$L$72,3,FALSE),0) -> 1 | T45: =IFERROR(VLOOKUP(B45,'[1]DEN3.1'!$H$3:$L$72,4,FALSE),0) -> 0 | AD45: =SUM(R45:AC45) -> 1
A46: 04106-VICUÑA | B46: 105474-P.S.R. CHAPILCA | E46: =IFERROR(VLOOKUP(B46,'[1]NUM3.1'!$H$3:$L$72,2,FALSE),0) -> 0 | F46: =IFERROR(VLOOKUP(B46,'[1]NUM3.1'!$H$3:$L$72,3,FALSE),0) -> 0 | G46: =IFERROR(VLOOKUP(B46,'[1]NUM3.1'!$H$3:$L$72,4,FALSE),0) -> 0 | Q46: =SUM(E46:P46) -> 0 | R46: =IFERROR(VLOOKUP(B46,'[1]DEN3.1'!$H$3:$L$72,2,FALSE),0) -> 0 | S46: =IFERROR(VLOOKUP(B46,'[1]DEN3.1'!$H$3:$L$72,3,FALSE),0) -> 0 | T46: =IFERROR(VLOOKUP(B46,'[1]DEN3.1'!$H$3:$L$72,4,FALSE),0) -> 0 | AD46: =SUM(R46:AC46) -> 0
A47: 04106-VICUÑA | B47: 105502-P.S.R. CALINGASTA | E47: =IFERROR(VLOOKUP(B47,'[1]NUM3.1'!$H$3:$L$72,2,FALSE),0) -> 0 | F47: =IFERROR(VLOOKUP(B47,'[1]NUM3.1'!$H$3:$L$72,3,FALSE),0) -> 0 | G47: =IFERROR(VLOOKUP(B47,'[1]NUM3.1'!$H$3:$L$72,4,FALSE),0) -> 0 | Q47: =SUM(E47:P47) -> 0 | R47: =IFERROR(VLOOKUP(B47,'[1]DEN3.1'!$H$3:$L$72,2,FALSE),0) -> 0 | S47: =IFERROR(VLOOKUP(B47,'[1]DEN3.1'!$H$3:$L$72,3,FALSE),0) -> 0 | T47: =IFERROR(VLOOKUP(B47,'[1]DEN3.1'!$H$3:$L$72,4,FALSE),0) -> 0 | AD47: =SUM(R47:AC47) -> 0
A48: 04106-VICUÑA | B48: 105509-P.S.R. GUALLIGUAICA | E48: =IFERROR(VLOOKUP(B48,'[1]NUM3.1'!$H$3:$L$72,2,FALSE),0) -> 0 | F48: =IFERROR(VLOOKUP(B48,'[1]NUM3.1'!$H$3:$L$72,3,FALSE),0) -> 0 | G48: =IFERROR(VLOOKUP(B48,'[1]NUM3.1'!$H$3:$L$72,4,FALSE),0) -> 0 | Q48: =SUM(E48:P48) -> 0 | R48: =IFERROR(VLOOKUP(B48,'[1]DEN3.1'!$H$3:$L$72,2,FALSE),0) -> 0 | S48: =IFERROR(VLOOKUP(B48,'[1]DEN3.1'!$H$3:$L$72,3,FALSE),0) -> 0 | T48: =IFERROR(VLOOKUP(B48,'[1]DEN3.1'!$H$3:$L$72,4,FALSE),0) -> 0 | AD48: =SUM(R48:AC48) -> 0
A49: TOTAL VICUÑA | C49: =+D49/Metas!H17 -> 1.0187449 | D49: =+Q49/AD49 -> 1 | E49: =SUM(E39:E48) -> 0 | F49: =SUM(F39:F48) -> 2 | G49: =SUM(G39:G48) -> 1 | H49: =SUM(H39:H48) -> 0 | I49: =SUM(I39:I48) -> 0 | J49: =SUM(J39:J48) -> 0 | K49: =SUM(K39:K48) -> 0 | L49: =SUM(L39:L48) -> 0 | ... AD49: =SUM(AD39:AD48) -> 3
A50: 04201-ILLAPEL | B50: 105326-CESFAM SAN RAFAEL | E50: =IFERROR(VLOOKUP(B50,'[1]NUM3.1'!$H$3:$L$72,2,FALSE),0) -> 1 | F50: =IFERROR(VLOOKUP(B50,'[1]NUM3.1'!$H$3:$L$72,3,FALSE),0) -> 3 | G50: =IFERROR(VLOOKUP(B50,'[1]NUM3.1'!$H$3:$L$72,4,FALSE),0) -> 5 | Q50: =SUM(E50:P50) -> 9 | R50: =IFERROR(VLOOKUP(B50,'[1]DEN3.1'!$H$3:$L$72,2,FALSE),0) -> 1 | S50: =IFERROR(VLOOKUP(B50,'[1]DEN3.1'!$H$3:$L$72,3,FALSE),0) -> 3 | T50: =IFERROR(VLOOKUP(B50,'[1]DEN3.1'!$H$3:$L$72,4,FALSE),0) -> 5 | AD50: =SUM(R50:AC50) -> 9
A51: 04201-ILLAPEL | B51: 105443-P.S.R. CARCAMO | E51: =IFERROR(VLOOKUP(B51,'[1]NUM3.1'!$H$3:$L$72,2,FALSE),0) -> 0 | F51: =IFERROR(VLOOKUP(B51,'[1]NUM3.1'!$H$3:$L$72,3,FALSE),0) -> 0 | G51: =IFERROR(VLOOKUP(B51,'[1]NUM3.1'!$H$3:$L$72,4,FALSE),0) -> 0 | Q51: =SUM(E51:P51) -> 0 | R51: =IFERROR(VLOOKUP(B51,'[1]DEN3.1'!$H$3:$L$72,2,FALSE),0) -> 0 | S51: =IFERROR(VLOOKUP(B51,'[1]DEN3.1'!$H$3:$L$72,3,FALSE),0) -> 0 | T51: =IFERROR(VLOOKUP(B51,'[1]DEN3.1'!$H$3:$L$72,4,FALSE),0) -> 0 | AD51: =SUM(R51:AC51) -> 0
A52: 04201-ILLAPEL | B52: 105444-P.S.R. HUINTIL | E52: =IFERROR(VLOOKUP(B52,'[1]NUM3.1'!$H$3:$L$72,2,FALSE),0) -> 0 | F52: =IFERROR(VLOOKUP(B52,'[1]NUM3.1'!$H$3:$L$72,3,FALSE),0) -> 0 | G52: =IFERROR(VLOOKUP(B52,'[1]NUM3.1'!$H$3:$L$72,4,FALSE),0) -> 0 | Q52: =SUM(E52:P52) -> 0 | R52: =IFERROR(VLOOKUP(B52,'[1]DEN3.1'!$H$3:$L$72,2,FALSE),0) -> 0 | S52: =IFERROR(VLOOKUP(B52,'[1]DEN3.1'!$H$3:$L$72,3,FALSE),0) -> 0 | T52: =IFERROR(VLOOKUP(B52,'[1]DEN3.1'!$H$3:$L$72,4,FALSE),0) -> 0 | AD52: =SUM(R52:AC52) -> 0
A53: 04201-ILLAPEL | B53: 105445-P.S.R. LIMAHUIDA | E53: =IFERROR(VLOOKUP(B53,'[1]NUM3.1'!$H$3:$L$72,2,FALSE),0) -> 0 | F53: =IFERROR(VLOOKUP(B53,'[1]NUM3.1'!$H$3:$L$72,3,FALSE),0) -> 0 | G53: =IFERROR(VLOOKUP(B53,'[1]NUM3.1'!$H$3:$L$72,4,FALSE),0) -> 0 | Q53: =SUM(E53:P53) -> 0 | R53: =IFERROR(VLOOKUP(B53,'[1]DEN3.1'!$H$3:$L$72,2,FALSE),0) -> 0 | S53: =IFERROR(VLOOKUP(B53,'[1]DEN3.1'!$H$3:$L$72,3,FALSE),0) -> 0 | T53: =IFERROR(VLOOKUP(B53,'[1]DEN3.1'!$H$3:$L$72,4,FALSE),0) -> 0 | AD53: =SUM(R53:AC53) -> 0
A54: 04201-ILLAPEL | B54: 105446-P.S.R. MATANCILLA | E54: =IFERROR(VLOOKUP(B54,'[1]NUM3.1'!$H$3:$L$72,2,FALSE),0) -> 0 | F54: =IFERROR(VLOOKUP(B54,'[1]NUM3.1'!$H$3:$L$72,3,FALSE),0) -> 0 | G54: =IFERROR(VLOOKUP(B54,'[1]NUM3.1'!$H$3:$L$72,4,FALSE),0) -> 0 | Q54: =SUM(E54:P54) -> 0 | R54: =IFERROR(VLOOKUP(B54,'[1]DEN3.1'!$H$3:$L$72,2,FALSE),0) -> 0 | S54: =IFERROR(VLOOKUP(B54,'[1]DEN3.1'!$H$3:$L$72,3,FALSE),0) -> 0 | T54: =IFERROR(VLOOKUP(B54,'[1]DEN3.1'!$H$3:$L$72,4,FALSE),0) -> 0 | AD54: =SUM(R54:AC54) -> 0
A55: 04201-ILLAPEL | B55: 105447-P.S.R. PERALILLO | E55: =IFERROR(VLOOKUP(B55,'[1]NUM3.1'!$H$3:$L$72,2,FALSE),0) -> 0 | F55: =IFERROR(VLOOKUP(B55,'[1]NUM3.1'!$H$3:$L$72,3,FALSE),0) -> 0 | G55: =IFERROR(VLOOKUP(B55,'[1]NUM3.1'!$H$3:$L$72,4,FALSE),0) -> 0 | Q55: =SUM(E55:P55) -> 0 | R55: =IFERROR(VLOOKUP(B55,'[1]DEN3.1'!$H$3:$L$72,2,FALSE),0) -> 0 | S55: =IFERROR(VLOOKUP(B55,'[1]DEN3.1'!$H$3:$L$72,3,FALSE),0) -> 0 | T55: =IFERROR(VLOOKUP(B55,'[1]DEN3.1'!$H$3:$L$72,4,FALSE),0) -> 0 | AD55: =SUM(R55:AC55) -> 0
A56: 04201-ILLAPEL | B56: 105448-P.S.R. SANTA VIRGINIA | E56: =IFERROR(VLOOKUP(B56,'[1]NUM3.1'!$H$3:$L$72,2,FALSE),0) -> 0 | F56: =IFERROR(VLOOKUP(B56,'[1]NUM3.1'!$H$3:$L$72,3,FALSE),0) -> 0 | G56: =IFERROR(VLOOKUP(B56,'[1]NUM3.1'!$H$3:$L$72,4,FALSE),0) -> 0 | Q56: =SUM(E56:P56) -> 0 | R56: =IFERROR(VLOOKUP(B56,'[1]DEN3.1'!$H$3:$L$72,2,FALSE),0) -> 0 | S56: =IFERROR(VLOOKUP(B56,'[1]DEN3.1'!$H$3:$L$72,3,FALSE),0) -> 0 | T56: =IFERROR(VLOOKUP(B56,'[1]DEN3.1'!$H$3:$L$72,4,FALSE),0) -> 0 | AD56: =SUM(R56:AC56) -> 0
A57: 04201-ILLAPEL | B57: 105449-P.S.R. TUNGA NORTE | E57: =IFERROR(VLOOKUP(B57,'[1]NUM3.1'!$H$3:$L$72,2,FALSE),0) -> 0 | F57: =IFERROR(VLOOKUP(B57,'[1]NUM3.1'!$H$3:$L$72,3,FALSE),0) -> 0 | G57: =IFERROR(VLOOKUP(B57,'[1]NUM3.1'!$H$3:$L$72,4,FALSE),0) -> 0 | Q57: =SUM(E57:P57) -> 0 | R57: =IFERROR(VLOOKUP(B57,'[1]DEN3.1'!$H$3:$L$72,2,FALSE),0) -> 0 | S57: =IFERROR(VLOOKUP(B57,'[1]DEN3.1'!$H$3:$L$72,3,FALSE),0) -> 0 | T57: =IFERROR(VLOOKUP(B57,'[1]DEN3.1'!$H$3:$L$72,4,FALSE),0) -> 0 | AD57: =SUM(R57:AC57) -> 0
A58: 04201-ILLAPEL | B58: 105485-P.S.R. PLAN DE HORNOS | E58: =IFERROR(VLOOKUP(B58,'[1]NUM3.1'!$H$3:$L$72,2,FALSE),0) -> 0 | F58: =IFERROR(VLOOKUP(B58,'[1]NUM3.1'!$H$3:$L$72,3,FALSE),0) -> 0 | G58: =IFERROR(VLOOKUP(B58,'[1]NUM3.1'!$H$3:$L$72,4,FALSE),0) -> 0 | Q58: =SUM(E58:P58) -> 0 | R58: =IFERROR(VLOOKUP(B58,'[1]DEN3.1'!$H$3:$L$72,2,FALSE),0) -> 0 | S58: =IFERROR(VLOOKUP(B58,'[1]DEN3.1'!$H$3:$L$72,3,FALSE),0) -> 0 | T58: =IFERROR(VLOOKUP(B58,'[1]DEN3.1'!$H$3:$L$72,4,FALSE),0) -> 0 | AD58: =SUM(R58:AC58) -> 0
A59: 04201-ILLAPEL | B59: 105486-P.S.R. TUNGA SUR | E59: =IFERROR(VLOOKUP(B59,'[1]NUM3.1'!$H$3:$L$72,2,FALSE),0) -> 0 | F59: =IFERROR(VLOOKUP(B59,'[1]NUM3.1'!$H$3:$L$72,3,FALSE),0) -> 0 | G59: =IFERROR(VLOOKUP(B59,'[1]NUM3.1'!$H$3:$L$72,4,FALSE),0) -> 0 | Q59: =SUM(E59:P59) -> 0 | R59: =IFERROR(VLOOKUP(B59,'[1]DEN3.1'!$H$3:$L$72,2,FALSE),0) -> 0 | S59: =IFERROR(VLOOKUP(B59,'[1]DEN3.1'!$H$3:$L$72,3,FALSE),0) -> 0 | T59: =IFERROR(VLOOKUP(B59,'[1]DEN3.1'!$H$3:$L$72,4,FALSE),0) -> 0 | AD59: =SUM(R59:AC59) -> 0
A60: 04201-ILLAPEL | B60: 105487-P.S.R. CAÑAS UNO | E60: =IFERROR(VLOOKUP(B60,'[1]NUM3.1'!$H$3:$L$72,2,FALSE),0) -> 0 | F60: =IFERROR(VLOOKUP(B60,'[1]NUM3.1'!$H$3:$L$72,3,FALSE),0) -> 0 | G60: =IFERROR(VLOOKUP(B60,'[1]NUM3.1'!$H$3:$L$72,4,FALSE),0) -> 1 | Q60: =SUM(E60:P60) -> 1 | R60: =IFERROR(VLOOKUP(B60,'[1]DEN3.1'!$H$3:$L$72,2,FALSE),0) -> 0 | S60: =IFERROR(VLOOKUP(B60,'[1]DEN3.1'!$H$3:$L$72,3,FALSE),0) -> 0 | T60: =IFERROR(VLOOKUP(B60,'[1]DEN3.1'!$H$3:$L$72,4,FALSE),0) -> 1 | AD60: =SUM(R60:AC60) -> 1
A61: 04201-ILLAPEL | B61: 105496-P.S.R. PINTACURA SUR | E61: =IFERROR(VLOOKUP(B61,'[1]NUM3.1'!$H$3:$L$72,2,FALSE),0) -> 0 | F61: =IFERROR(VLOOKUP(B61,'[1]NUM3.1'!$H$3:$L$72,3,FALSE),0) -> 0 | G61: =IFERROR(VLOOKUP(B61,'[1]NUM3.1'!$H$3:$L$72,4,FALSE),0) -> 0 | Q61: =SUM(E61:P61) -> 0 | R61: =IFERROR(VLOOKUP(B61,'[1]DEN3.1'!$H$3:$L$72,2,FALSE),0) -> 0 | S61: =IFERROR(VLOOKUP(B61,'[1]DEN3.1'!$H$3:$L$72,3,FALSE),0) -> 0 | T61: =IFERROR(VLOOKUP(B61,'[1]DEN3.1'!$H$3:$L$72,4,FALSE),0) -> 0 | AD61: =SUM(R61:AC61) -> 0
... A63: 04201-ILLAPEL | B63: 200366-CESFAM URBANO II | E63: =IFERROR(VLOOKUP(B63,'[1]NUM3.1'!$H$3:$L$72,2,FALSE),0) -> 0 | F63: =IFERROR(VLOOKUP(B63,'[1]NUM3.1'!$H$3:$L$72,3,FALSE),0) -> 4 | G63: =IFERROR(VLOOKUP(B63,'[1]NUM3.1'!$H$3:$L$72,4,FALSE),0) -> 0 | Q63: =SUM(E63:P63) -> 4 | R63: =IFERROR(VLOOKUP(B63,'[1]DEN3.1'!$H$3:$L$72,2,FALSE),0) -> 0 | S63: =IFERROR(VLOOKUP(B63,'[1]DEN3.1'!$H$3:$L$72,3,FALSE),0) -> 4 | T63: =IFERROR(VLOOKUP(B63,'[1]DEN3.1'!$H$3:$L$72,4,FALSE),0) -> 0 | AD63: =SUM(R63:AC63) -> 4
A64: TOTAL ILLAPEL | C64: =+D64/Metas!H9 -> 1.0177081 | D64: =+Q64/AD64 -> 1 | E64: =SUM(E50:E63) -> 1 | F64: =SUM(F50:F63) -> 7 | G64: =SUM(G50:G63) -> 6 | H64: =SUM(H50:H63) -> 0 | I64: =SUM(I50:I63) -> 0 | J64: =SUM(J50:J63) -> 0 | K64: =SUM(K50:K63) -> 0 | L64: =SUM(L50:L63) -> 0 | ... AD64: =SUM(AD50:AD63) -> 14
A65: 04202-CANELA | B65: 105309-CES. RURAL CANELA | E65: =IFERROR(VLOOKUP(B65,'[1]NUM3.1'!$H$3:$L$72,2,FALSE),0) -> 2 | F65: =IFERROR(VLOOKUP(B65,'[1]NUM3.1'!$H$3:$L$72,3,FALSE),0) -> 3 | G65: =IFERROR(VLOOKUP(B65,'[1]NUM3.1'!$H$3:$L$72,4,FALSE),0) -> 2 | Q65: =SUM(E65:P65) -> 7 | R65: =IFERROR(VLOOKUP(B65,'[1]DEN3.1'!$H$3:$L$72,2,FALSE),0) -> 2 | S65: =IFERROR(VLOOKUP(B65,'[1]DEN3.1'!$H$3:$L$72,3,FALSE),0) -> 3 | T65: =IFERROR(VLOOKUP(B65,'[1]DEN3.1'!$H$3:$L$72,4,FALSE),0) -> 2 | AD65: =SUM(R65:AC65) -> 7
A66: 04202-CANELA | B66: 105450-P.S.R. MINCHA NORTE | E66: =IFERROR(VLOOKUP(B66,'[1]NUM3.1'!$H$3:$L$72,2,FALSE),0) -> 0 | F66: =IFERROR(VLOOKUP(B66,'[1]NUM3.1'!$H$3:$L$72,3,FALSE),0) -> 0 | G66: =IFERROR(VLOOKUP(B66,'[1]NUM3.1'!$H$3:$L$72,4,FALSE),0) -> 0 | Q66: =SUM(E66:P66) -> 0 | R66: =IFERROR(VLOOKUP(B66,'[1]DEN3.1'!$H$3:$L$72,2,FALSE),0) -> 0 | S66: =IFERROR(VLOOKUP(B66,'[1]DEN3.1'!$H$3:$L$72,3,FALSE),0) -> 0 | T66: =IFERROR(VLOOKUP(B66,'[1]DEN3.1'!$H$3:$L$72,4,FALSE),0) -> 0 | AD66: =SUM(R66:AC66) -> 0
A67: 04202-CANELA | B67: 105451-P.S.R. AGUA FRIA | E67: =IFERROR(VLOOKUP(B67,'[1]NUM3.1'!$H$3:$L$72,2,FALSE),0) -> 0 | F67: =IFERROR(VLOOKUP(B67,'[1]NUM3.1'!$H$3:$L$72,3,FALSE),0) -> 0 | G67: =IFERROR(VLOOKUP(B67,'[1]NUM3.1'!$H$3:$L$72,4,FALSE),0) -> 0 | Q67: =SUM(E67:P67) -> 0 | R67: =IFERROR(VLOOKUP(B67,'[1]DEN3.1'!$H$3:$L$72,2,FALSE),0) -> 0 | S67: =IFERROR(VLOOKUP(B67,'[1]DEN3.1'!$H$3:$L$72,3,FALSE),0) -> 0 | T67: =IFERROR(VLOOKUP(B67,'[1]DEN3.1'!$H$3:$L$72,4,FALSE),0) -> 0 | AD67: =SUM(R67:AC67) -> 0
A68: 04202-CANELA | B68: 105482-P.S.R. CANELA ALTA | E68: =IFERROR(VLOOKUP(B68,'[1]NUM3.1'!$H$3:$L$72,2,FALSE),0) -> 0 | F68: =IFERROR(VLOOKUP(B68,'[1]NUM3.1'!$H$3:$L$72,3,FALSE),0) -> 0 | G68: =IFERROR(VLOOKUP(B68,'[1]NUM3.1'!$H$3:$L$72,4,FALSE),0) -> 0 | Q68: =SUM(E68:P68) -> 0 | R68: =IFERROR(VLOOKUP(B68,'[1]DEN3.1'!$H$3:$L$72,2,FALSE),0) -> 0 | S68: =IFERROR(VLOOKUP(B68,'[1]DEN3.1'!$H$3:$L$72,3,FALSE),0) -> 0 | T68: =IFERROR(VLOOKUP(B68,'[1]DEN3.1'!$H$3:$L$72,4,FALSE),0) -> 0 | AD68: =SUM(R68:AC68) -> 0
A69: 04202-CANELA | B69: 105483-P.S.R. LOS RULOS | E69: =IFERROR(VLOOKUP(B69,'[1]NUM3.1'!$H$3:$L$72,2,FALSE),0) -> 0 | F69: =IFERROR(VLOOKUP(B69,'[1]NUM3.1'!$H$3:$L$72,3,FALSE),0) -> 0 | G69: =IFERROR(VLOOKUP(B69,'[1]NUM3.1'!$H$3:$L$72,4,FALSE),0) -> 0 | Q69: =SUM(E69:P69) -> 0 | R69: =IFERROR(VLOOKUP(B69,'[1]DEN3.1'!$H$3:$L$72,2,FALSE),0) -> 0 | S69: =IFERROR(VLOOKUP(B69,'[1]DEN3.1'!$H$3:$L$72,3,FALSE),0) -> 0 | T69: =IFERROR(VLOOKUP(B69,'[1]DEN3.1'!$H$3:$L$72,4,FALSE),0) -> 0 | AD69: =SUM(R69:AC69) -> 0
A70: 04202-CANELA | B70: 105484-P.S.R. HUENTELAUQUEN | E70: =IFERROR(VLOOKUP(B70,'[1]NUM3.1'!$H$3:$L$72,2,FALSE),0) -> 0 | F70: =IFERROR(VLOOKUP(B70,'[1]NUM3.1'!$H$3:$L$72,3,FALSE),0) -> 0 | G70: =IFERROR(VLOOKUP(B70,'[1]NUM3.1'!$H$3:$L$72,4,FALSE),0) -> 0 | Q70: =SUM(E70:P70) -> 0 | R70: =IFERROR(VLOOKUP(B70,'[1]DEN3.1'!$H$3:$L$72,2,FALSE),0) -> 0 | S70: =IFERROR(VLOOKUP(B70,'[1]DEN3.1'!$H$3:$L$72,3,FALSE),0) -> 0 | T70: =IFERROR(VLOOKUP(B70,'[1]DEN3.1'!$H$3:$L$72,4,FALSE),0) -> 0 | AD70: =SUM(R70:AC70) -> 0
A71: 04202-CANELA | B71: 105488-P.S.R. ESPIRITU SANTO | E71: =IFERROR(VLOOKUP(B71,'[1]NUM3.1'!$H$3:$L$72,2,FALSE),0) -> 0 | F71: =IFERROR(VLOOKUP(B71,'[1]NUM3.1'!$H$3:$L$72,3,FALSE),0) -> 0 | G71: =IFERROR(VLOOKUP(B71,'[1]NUM3.1'!$H$3:$L$72,4,FALSE),0) -> 0 | Q71: =SUM(E71:P71) -> 0 | R71: =IFERROR(VLOOKUP(B71,'[1]DEN3.1'!$H$3:$L$72,2,FALSE),0) -> 0 | S71: =IFERROR(VLOOKUP(B71,'[1]DEN3.1'!$H$3:$L$72,3,FALSE),0) -> 0 | T71: =IFERROR(VLOOKUP(B71,'[1]DEN3.1'!$H$3:$L$72,4,FALSE),0) -> 0 | AD71: =SUM(R71:AC71) -> 0
A72: 04202-CANELA | B72: 105493-P.S.R. MINCHA SUR | E72: =IFERROR(VLOOKUP(B72,'[1]NUM3.1'!$H$3:$L$72,2,FALSE),0) -> 0 | F72: =IFERROR(VLOOKUP(B72,'[1]NUM3.1'!$H$3:$L$72,3,FALSE),0) -> 0 | G72: =IFERROR(VLOOKUP(B72,'[1]NUM3.1'!$H$3:$L$72,4,FALSE),0) -> 0 | Q72: =SUM(E72:P72) -> 0 | R72: =IFERROR(VLOOKUP(B72,'[1]DEN3.1'!$H$3:$L$72,2,FALSE),0) -> 0 | S72: =IFERROR(VLOOKUP(B72,'[1]DEN3.1'!$H$3:$L$72,3,FALSE),0) -> 0 | T72: =IFERROR(VLOOKUP(B72,'[1]DEN3.1'!$H$3:$L$72,4,FALSE),0) -> 0 | AD72: =SUM(R72:AC72) -> 0
A73: 04202-CANELA | B73: 105497-P.S.R. JABONERIA | E73: =IFERROR(VLOOKUP(B73,'[1]NUM3.1'!$H$3:$L$72,2,FALSE),0) -> 0 | F73: =IFERROR(VLOOKUP(B73,'[1]NUM3.1'!$H$3:$L$72,3,FALSE),0) -> 0 | G73: =IFERROR(VLOOKUP(B73,'[1]NUM3.1'!$H$3:$L$72,4,FALSE),0) -> 0 | Q73: =SUM(E73:P73) -> 0 | R73: =IFERROR(VLOOKUP(B73,'[1]DEN3.1'!$H$3:$L$72,2,FALSE),0) -> 0 | S73: =IFERROR(VLOOKUP(B73,'[1]DEN3.1'!$H$3:$L$72,3,FALSE),0) -> 0 | T73: =IFERROR(VLOOKUP(B73,'[1]DEN3.1'!$H$3:$L$72,4,FALSE),0) -> 0 | AD73: =SUM(R73:AC73) -> 0
A74: 04202-CANELA | B74: 105498-P.S.R. QUEBRADA DE LINARES | E74: =IFERROR(VLOOKUP(B74,'[1]NUM3.1'!$H$3:$L$72,2,FALSE),0) -> 0 | F74: =IFERROR(VLOOKUP(B74,'[1]NUM3.1'!$H$3:$L$72,3,FALSE),0) -> 0 | G74: =IFERROR(VLOOKUP(B74,'[1]NUM3.1'!$H$3:$L$72,4,FALSE),0) -> 0 | Q74: =SUM(E74:P74) -> 0 | R74: =IFERROR(VLOOKUP(B74,'[1]DEN3.1'!$H$3:$L$72,2,FALSE),0) -> 0 | S74: =IFERROR(VLOOKUP(B74,'[1]DEN3.1'!$H$3:$L$72,3,FALSE),0) -> 0 | T74: =IFERROR(VLOOKUP(B74,'[1]DEN3.1'!$H$3:$L$72,4,FALSE),0) -> 0 | AD74: =SUM(R74:AC74) -> 0
A75: TOTAL CANELA | C75: =+D75/Metas!H6 -> 1.0147133 | D75: =+Q75/AD75 -> 1 | E75: =SUM(E65:E74) -> 2 | F75: =SUM(F65:F74) -> 3 | G75: =SUM(G65:G74) -> 2 | H75: =SUM(H65:H74) -> 0 | I75: =SUM(I65:I74) -> 0 | J75: =SUM(J65:J74) -> 0 | K75: =SUM(K65:K74) -> 0 | L75: =SUM(L65:L74) -> 0 | ... AD75: =SUM(AD65:AD74) -> 7
A76: 04203-LOS VILOS | B76: 105478-P.S.R. CAIMANES | E76: =IFERROR(VLOOKUP(B76,'[1]NUM3.1'!$H$3:$L$72,2,FALSE),0) -> 1 | F76: =IFERROR(VLOOKUP(B76,'[1]NUM3.1'!$H$3:$L$72,3,FALSE),0) -> 1 | G76: =IFERROR(VLOOKUP(B76,'[1]NUM3.1'!$H$3:$L$72,4,FALSE),0) -> 0 | Q76: =SUM(E76:P76) -> 2 | R76: =IFERROR(VLOOKUP(B76,'[1]DEN3.1'!$H$3:$L$72,2,FALSE),0) -> 1 | S76: =IFERROR(VLOOKUP(B76,'[1]DEN3.1'!$H$3:$L$72,3,FALSE),0) -> 1 | T76: =IFERROR(VLOOKUP(B76,'[1]DEN3.1'!$H$3:$L$72,4,FALSE),0) -> 0 | AD76: =SUM(R76:AC76) -> 2
A77: 04203-LOS VILOS | B77: 105479-P.S.R. GUANGUALI | E77: =IFERROR(VLOOKUP(B77,'[1]NUM3.1'!$H$3:$L$72,2,FALSE),0) -> 0 | F77: =IFERROR(VLOOKUP(B77,'[1]NUM3.1'!$H$3:$L$72,3,FALSE),0) -> 0 | G77: =IFERROR(VLOOKUP(B77,'[1]NUM3.1'!$H$3:$L$72,4,FALSE),0) -> 0 | Q77: =SUM(E77:P77) -> 0 | R77: =IFERROR(VLOOKUP(B77,'[1]DEN3.1'!$H$3:$L$72,2,FALSE),0) -> 0 | S77: =IFERROR(VLOOKUP(B77,'[1]DEN3.1'!$H$3:$L$72,3,FALSE),0) -> 0 | T77: =IFERROR(VLOOKUP(B77,'[1]DEN3.1'!$H$3:$L$72,4,FALSE),0) -> 0 | AD77: =SUM(R77:AC77) -> 0
A78: 04203-LOS VILOS | B78: 105480-P.S.R. QUILIMARI | E78: =IFERROR(VLOOKUP(B78,'[1]NUM3.1'!$H$3:$L$72,2,FALSE),0) -> 3 | F78: =IFERROR(VLOOKUP(B78,'[1]NUM3.1'!$H$3:$L$72,3,FALSE),0) -> 0 | G78: =IFERROR(VLOOKUP(B78,'[1]NUM3.1'!$H$3:$L$72,4,FALSE),0) -> 0 | Q78: =SUM(E78:P78) -> 3 | R78: =IFERROR(VLOOKUP(B78,'[1]DEN3.1'!$H$3:$L$72,2,FALSE),0) -> 3 | S78: =IFERROR(VLOOKUP(B78,'[1]DEN3.1'!$H$3:$L$72,3,FALSE),0) -> 0 | T78: =IFERROR(VLOOKUP(B78,'[1]DEN3.1'!$H$3:$L$72,4,FALSE),0) -> 0 | AD78: =SUM(R78:AC78) -> 3
A79: 04203-LOS VILOS | B79: 105481-P.S.R. TILAMA | E79: =IFERROR(VLOOKUP(B79,'[1]NUM3.1'!$H$3:$L$72,2,FALSE),0) -> 0 | F79: =IFERROR(VLOOKUP(B79,'[1]NUM3.1'!$H$3:$L$72,3,FALSE),0) -> 0 | G79: =IFERROR(VLOOKUP(B79,'[1]NUM3.1'!$H$3:$L$72,4,FALSE),0) -> 0 | Q79: =SUM(E79:P79) -> 0 | R79: =IFERROR(VLOOKUP(B79,'[1]DEN3.1'!$H$3:$L$72,2,FALSE),0) -> 0 | S79: =IFERROR(VLOOKUP(B79,'[1]DEN3.1'!$H$3:$L$72,3,FALSE),0) -> 0 | T79: =IFERROR(VLOOKUP(B79,'[1]DEN3.1'!$H$3:$L$72,4,FALSE),0) -> 0 | AD79: =SUM(R79:AC79) -> 0
A80: 04203-LOS VILOS | B80: 105511-P.S.R. LOS CONDORES | E80: =IFERROR(VLOOKUP(B80,'[1]NUM3.1'!$H$3:$L$72,2,FALSE),0) -> 0 | F80: =IFERROR(VLOOKUP(B80,'[1]NUM3.1'!$H$3:$L$72,3,FALSE),0) -> 0 | G80: =IFERROR(VLOOKUP(B80,'[1]NUM3.1'!$H$3:$L$72,4,FALSE),0) -> 0 | Q80: =SUM(E80:P80) -> 0 | R80: =IFERROR(VLOOKUP(B80,'[1]DEN3.1'!$H$3:$L$72,2,FALSE),0) -> 0 | S80: =IFERROR(VLOOKUP(B80,'[1]DEN3.1'!$H$3:$L$72,3,FALSE),0) -> 0 | T80: =IFERROR(VLOOKUP(B80,'[1]DEN3.1'!$H$3:$L$72,4,FALSE),0) -> 0 | AD80: =SUM(R80:AC80) -> 0
A81: TOTAL LOS VILOS | C81: =+D81/Metas!H11 -> 1.0204082 | D81: =+Q81/AD81 -> 1 | E81: =SUM(E76:E80) -> 4 | F81: =SUM(F76:F80) -> 1 | G81: =SUM(G76:G80) -> 0 | H81: =SUM(H76:H80) -> 0 | I81: =SUM(I76:I80) -> 0 | J81: =SUM(J76:J80) -> 0 | K81: =SUM(K76:K80) -> 0 | L81: =SUM(L76:L80) -> 0 | ... AD81: =SUM(AD76:AD80) -> 5
A82: 04204-SALAMANCA | B82: 105452-P.S.R. CUNCUMEN | E82: =IFERROR(VLOOKUP(B82,'[1]NUM3.1'!$H$3:$L$72,2,FALSE),0) -> 0 | F82: =IFERROR(VLOOKUP(B82,'[1]NUM3.1'!$H$3:$L$72,3,FALSE),0) -> 0 | G82: =IFERROR(VLOOKUP(B82,'[1]NUM3.1'!$H$3:$L$72,4,FALSE),0) -> 0 | Q82: =SUM(E82:P82) -> 0 | R82: =IFERROR(VLOOKUP(B82,'[1]DEN3.1'!$H$3:$L$72,2,FALSE),0) -> 0 | S82: =IFERROR(VLOOKUP(B82,'[1]DEN3.1'!$H$3:$L$72,3,FALSE),0) -> 0 | T82: =IFERROR(VLOOKUP(B82,'[1]DEN3.1'!$H$3:$L$72,4,FALSE),0) -> 0 | AD82: =SUM(R82:AC82) -> 0
A83: 04204-SALAMANCA | B83: 105453-P.S.R. TRANQUILLA | E83: =IFERROR(VLOOKUP(B83,'[1]NUM3.1'!$H$3:$L$72,2,FALSE),0) -> 0 | F83: =IFERROR(VLOOKUP(B83,'[1]NUM3.1'!$H$3:$L$72,3,FALSE),0) -> 0 | G83: =IFERROR(VLOOKUP(B83,'[1]NUM3.1'!$H$3:$L$72,4,FALSE),0) -> 0 | Q83: =SUM(E83:P83) -> 0 | R83: =IFERROR(VLOOKUP(B83,'[1]DEN3.1'!$H$3:$L$72,2,FALSE),0) -> 0 | S83: =IFERROR(VLOOKUP(B83,'[1]DEN3.1'!$H$3:$L$72,3,FALSE),0) -> 0 | T83: =IFERROR(VLOOKUP(B83,'[1]DEN3.1'!$H$3:$L$72,4,FALSE),0) -> 0 | AD83: =SUM(R83:AC83) -> 0
A84: 04204-SALAMANCA | B84: 105454-P.S.R. CUNLAGUA | E84: =IFERROR(VLOOKUP(B84,'[1]NUM3.1'!$H$3:$L$72,2,FALSE),0) -> 0 | F84: =IFERROR(VLOOKUP(B84,'[1]NUM3.1'!$H$3:$L$72,3,FALSE),0) -> 0 | G84: =IFERROR(VLOOKUP(B84,'[1]NUM3.1'!$H$3:$L$72,4,FALSE),0) -> 0 | Q84: =SUM(E84:P84) -> 0 | R84: =IFERROR(VLOOKUP(B84,'[1]DEN3.1'!$H$3:$L$72,2,FALSE),0) -> 0 | S84: =IFERROR(VLOOKUP(B84,'[1]DEN3.1'!$H$3:$L$72,3,FALSE),0) -> 0 | T84: =IFERROR(VLOOKUP(B84,'[1]DEN3.1'!$H$3:$L$72,4,FALSE),0) -> 0 | AD84: =SUM(R84:AC84) -> 0
A85: 04204-SALAMANCA | B85: 105455-P.S.R. CHILLEPIN | E85: =IFERROR(VLOOKUP(B85,'[1]NUM3.1'!$H$3:$L$72,2,FALSE),0) -> 0 | F85: =IFERROR(VLOOKUP(B85,'[1]NUM3.1'!$H$3:$L$72,3,FALSE),0) -> 0 | G85: =IFERROR(VLOOKUP(B85,'[1]NUM3.1'!$H$3:$L$72,4,FALSE),0) -> 0 | Q85: =SUM(E85:P85) -> 0 | R85: =IFERROR(VLOOKUP(B85,'[1]DEN3.1'!$H$3:$L$72,2,FALSE),0) -> 0 | S85: =IFERROR(VLOOKUP(B85,'[1]DEN3.1'!$H$3:$L$72,3,FALSE),0) -> 0 | T85: =IFERROR(VLOOKUP(B85,'[1]DEN3.1'!$H$3:$L$72,4,FALSE),0) -> 0 | AD85: =SUM(R85:AC85) -> 0
A86: 04204-SALAMANCA | B86: 105456-P.S.R. LLIMPO | E86: =IFERROR(VLOOKUP(B86,'[1]NUM3.1'!$H$3:$L$72,2,FALSE),0) -> 0 | F86: =IFERROR(VLOOKUP(B86,'[1]NUM3.1'!$H$3:$L$72,3,FALSE),0) -> 0 | G86: =IFERROR(VLOOKUP(B86,'[1]NUM3.1'!$H$3:$L$72,4,FALSE),0) -> 0 | Q86: =SUM(E86:P86) -> 0 | R86: =IFERROR(VLOOKUP(B86,'[1]DEN3.1'!$H$3:$L$72,2,FALSE),0) -> 0 | S86: =IFERROR(VLOOKUP(B86,'[1]DEN3.1'!$H$3:$L$72,3,FALSE),0) -> 0 | T86: =IFERROR(VLOOKUP(B86,'[1]DEN3.1'!$H$3:$L$72,4,FALSE),0) -> 0 | AD86: =SUM(R86:AC86) -> 0
A87: 04204-SALAMANCA | B87: 105457-P.S.R. SAN AGUSTIN | E87: =IFERROR(VLOOKUP(B87,'[1]NUM3.1'!$H$3:$L$72,2,FALSE),0) -> 0 | F87: =IFERROR(VLOOKUP(B87,'[1]NUM3.1'!$H$3:$L$72,3,FALSE),0) -> 0 | G87: =IFERROR(VLOOKUP(B87,'[1]NUM3.1'!$H$3:$L$72,4,FALSE),0) -> 0 | Q87: =SUM(E87:P87) -> 0 | R87: =IFERROR(VLOOKUP(B87,'[1]DEN3.1'!$H$3:$L$72,2,FALSE),0) -> 0 | S87: =IFERROR(VLOOKUP(B87,'[1]DEN3.1'!$H$3:$L$72,3,FALSE),0) -> 0 | T87: =IFERROR(VLOOKUP(B87,'[1]DEN3.1'!$H$3:$L$72,4,FALSE),0) -> 0 | AD87: =SUM(R87:AC87) -> 0
A88: 04204-SALAMANCA | B88: 105458-P.S.R. TAHUINCO | E88: =IFERROR(VLOOKUP(B88,'[1]NUM3.1'!$H$3:$L$72,2,FALSE),0) -> 0 | F88: =IFERROR(VLOOKUP(B88,'[1]NUM3.1'!$H$3:$L$72,3,FALSE),0) -> 0 | G88: =IFERROR(VLOOKUP(B88,'[1]NUM3.1'!$H$3:$L$72,4,FALSE),0) -> 0 | Q88: =SUM(E88:P88) -> 0 | R88: =IFERROR(VLOOKUP(B88,'[1]DEN3.1'!$H$3:$L$72,2,FALSE),0) -> 0 | S88: =IFERROR(VLOOKUP(B88,'[1]DEN3.1'!$H$3:$L$72,3,FALSE),0) -> 0 | T88: =IFERROR(VLOOKUP(B88,'[1]DEN3.1'!$H$3:$L$72,4,FALSE),0) -> 0 | AD88: =SUM(R88:AC88) -> 0
A89: 04204-SALAMANCA | B89: 105491-P.S.R. QUELEN BAJO | E89: =IFERROR(VLOOKUP(B89,'[1]NUM3.1'!$H$3:$L$72,2,FALSE),0) -> 0 | F89: =IFERROR(VLOOKUP(B89,'[1]NUM3.1'!$H$3:$L$72,3,FALSE),0) -> 0 | G89: =IFERROR(VLOOKUP(B89,'[1]NUM3.1'!$H$3:$L$72,4,FALSE),0) -> 0 | Q89: =SUM(E89:P89) -> 0 | R89: =IFERROR(VLOOKUP(B89,'[1]DEN3.1'!$H$3:$L$72,2,FALSE),0) -> 0 | S89: =IFERROR(VLOOKUP(B89,'[1]DEN3.1'!$H$3:$L$72,3,FALSE),0) -> 0 | T89: =IFERROR(VLOOKUP(B89,'[1]DEN3.1'!$H$3:$L$72,4,FALSE),0) -> 0 | AD89: =SUM(R89:AC89) -> 0
A90: 04204-SALAMANCA | B90: 105492-P.S.R. CAMISA | E90: =IFERROR(VLOOKUP(B90,'[1]NUM3.1'!$H$3:$L$72,2,FALSE),0) -> 0 | F90: =IFERROR(VLOOKUP(B90,'[1]NUM3.1'!$H$3:$L$72,3,FALSE),0) -> 0 | G90: =IFERROR(VLOOKUP(B90,'[1]NUM3.1'!$H$3:$L$72,4,FALSE),0) -> 0 | Q90: =SUM(E90:P90) -> 0 | R90: =IFERROR(VLOOKUP(B90,'[1]DEN3.1'!$H$3:$L$72,2,FALSE),0) -> 0 | S90: =IFERROR(VLOOKUP(B90,'[1]DEN3.1'!$H$3:$L$72,3,FALSE),0) -> 0 | T90: =IFERROR(VLOOKUP(B90,'[1]DEN3.1'!$H$3:$L$72,4,FALSE),0) -> 0 | AD90: =SUM(R90:AC90) -> 0
A91: 04204-SALAMANCA | B91: 105501-P.S.R. ARBOLEDA GRANDE | E91: =IFERROR(VLOOKUP(B91,'[1]NUM3.1'!$H$3:$L$72,2,FALSE),0) -> 0 | F91: =IFERROR(VLOOKUP(B91,'[1]NUM3.1'!$H$3:$L$72,3,FALSE),0) -> 0 | G91: =IFERROR(VLOOKUP(B91,'[1]NUM3.1'!$H$3:$L$72,4,FALSE),0) -> 0 | Q91: =SUM(E91:P91) -> 0 | R91: =IFERROR(VLOOKUP(B91,'[1]DEN3.1'!$H$3:$L$72,2,FALSE),0) -> 0 | S91: =IFERROR(VLOOKUP(B91,'[1]DEN3.1'!$H$3:$L$72,3,FALSE),0) -> 0 | T91: =IFERROR(VLOOKUP(B91,'[1]DEN3.1'!$H$3:$L$72,4,FALSE),0) -> 0 | AD91: =SUM(R91:AC91) -> 0
A92: TOTAL SALAMANCA | C92: =+D92/Metas!H16 -> #DIV/0! | D92: =+Q92/AD92 -> #DIV/0! | E92: =SUM(E82:E91) -> 0 | F92: =SUM(F82:F91) -> 0 | G92: =SUM(G82:G91) -> 0 | H92: =SUM(H82:H91) -> 0 | I92: =SUM(I82:I91) -> 0 | J92: =SUM(J82:J91) -> 0 | K92: =SUM(K82:K91) -> 0 | L92: =SUM(L82:L91) -> 0 | ... AD92: =SUM(AD82:AD91) -> 0
A93: 04301-OVALLE | B93: 105315-CES. RURAL C. DE TAMAYA | E93: =IFERROR(VLOOKUP(B93,'[1]NUM3.1'!$H$3:$L$72,2,FALSE),0) -> 0 | F93: =IFERROR(VLOOKUP(B93,'[1]NUM3.1'!$H$3:$L$72,3,FALSE),0) -> 0 | G93: =IFERROR(VLOOKUP(B93,'[1]NUM3.1'!$H$3:$L$72,4,FALSE),0) -> 0 | Q93: =SUM(E93:P93) -> 0 | R93: =IFERROR(VLOOKUP(B93,'[1]DEN3.1'!$H$3:$L$72,2,FALSE),0) -> 0 | S93: =IFERROR(VLOOKUP(B93,'[1]DEN3.1'!$H$3:$L$72,3,FALSE),0) -> 0 | T93: =IFERROR(VLOOKUP(B93,'[1]DEN3.1'!$H$3:$L$72,4,FALSE),0) -> 0 | AD93: =SUM(R93:AC93) -> 0
A94: 04301-OVALLE | B94: 105317-CES. JORGE JORDAN D. | E94: =IFERROR(VLOOKUP(B94,'[1]NUM3.1'!$H$3:$L$72,2,FALSE),0) -> 9 | F94: =IFERROR(VLOOKUP(B94,'[1]NUM3.1'!$H$3:$L$72,3,FALSE),0) -> 12 | G94: =IFERROR(VLOOKUP(B94,'[1]NUM3.1'!$H$3:$L$72,4,FALSE),0) -> 4 | Q94: =SUM(E94:P94) -> 25 | R94: =IFERROR(VLOOKUP(B94,'[1]DEN3.1'!$H$3:$L$72,2,FALSE),0) -> 9 | S94: =IFERROR(VLOOKUP(B94,'[1]DEN3.1'!$H$3:$L$72,3,FALSE),0) -> 12 | T94: =IFERROR(VLOOKUP(B94,'[1]DEN3.1'!$H$3:$L$72,4,FALSE),0) -> 4 | AD94: =SUM(R94:AC94) -> 25
A95: 04301-OVALLE | B95: 105322-CES. MARCOS MACUADA | E95: =IFERROR(VLOOKUP(B95,'[1]NUM3.1'!$H$3:$L$72,2,FALSE),0) -> 11 | F95: =IFERROR(VLOOKUP(B95,'[1]NUM3.1'!$H$3:$L$72,3,FALSE),0) -> 0 | G95: =IFERROR(VLOOKUP(B95,'[1]NUM3.1'!$H$3:$L$72,4,FALSE),0) -> 3 | Q95: =SUM(E95:P95) -> 14 | R95: =IFERROR(VLOOKUP(B95,'[1]DEN3.1'!$H$3:$L$72,2,FALSE),0) -> 11 | S95: =IFERROR(VLOOKUP(B95,'[1]DEN3.1'!$H$3:$L$72,3,FALSE),0) -> 0 | T95: =IFERROR(VLOOKUP(B95,'[1]DEN3.1'!$H$3:$L$72,4,FALSE),0) -> 3 | AD95: =SUM(R95:AC95) -> 14
A96: 04301-OVALLE | B96: 105324-CES. SOTAQUI | E96: =IFERROR(VLOOKUP(B96,'[1]NUM3.1'!$H$3:$L$72,2,FALSE),0) -> 0 | F96: =IFERROR(VLOOKUP(B96,'[1]NUM3.1'!$H$3:$L$72,3,FALSE),0) -> 0 | G96: =IFERROR(VLOOKUP(B96,'[1]NUM3.1'!$H$3:$L$72,4,FALSE),0) -> 4 | Q96: =SUM(E96:P96) -> 4 | R96: =IFERROR(VLOOKUP(B96,'[1]DEN3.1'!$H$3:$L$72,2,FALSE),0) -> 0 | S96: =IFERROR(VLOOKUP(B96,'[1]DEN3.1'!$H$3:$L$72,3,FALSE),0) -> 0 | T96: =IFERROR(VLOOKUP(B96,'[1]DEN3.1'!$H$3:$L$72,4,FALSE),0) -> 4 | AD96: =SUM(R96:AC96) -> 4
A97: 04301-OVALLE | B97: 105415-P.S.R. BARRAZA | E97: =IFERROR(VLOOKUP(B97,'[1]NUM3.1'!$H$3:$L$72,2,FALSE),0) -> 0 | F97: =IFERROR(VLOOKUP(B97,'[1]NUM3.1'!$H$3:$L$72,3,FALSE),0) -> 0 | G97: =IFERROR(VLOOKUP(B97,'[1]NUM3.1'!$H$3:$L$72,4,FALSE),0) -> 0 | Q97: =SUM(E97:P97) -> 0 | R97: =IFERROR(VLOOKUP(B97,'[1]DEN3.1'!$H$3:$L$72,2,FALSE),0) -> 0 | S97: =IFERROR(VLOOKUP(B97,'[1]DEN3.1'!$H$3:$L$72,3,FALSE),0) -> 0 | T97: =IFERROR(VLOOKUP(B97,'[1]DEN3.1'!$H$3:$L$72,4,FALSE),0) -> 0 | AD97: =SUM(R97:AC97) -> 0
A98: 04301-OVALLE | B98: 105416-P.S.R. CAMARICO | E98: =IFERROR(VLOOKUP(B98,'[1]NUM3.1'!$H$3:$L$72,2,FALSE),0) -> 0 | F98: =IFERROR(VLOOKUP(B98,'[1]NUM3.1'!$H$3:$L$72,3,FALSE),0) -> 0 | G98: =IFERROR(VLOOKUP(B98,'[1]NUM3.1'!$H$3:$L$72,4,FALSE),0) -> 0 | Q98: =SUM(E98:P98) -> 0 | R98: =IFERROR(VLOOKUP(B98,'[1]DEN3.1'!$H$3:$L$72,2,FALSE),0) -> 0 | S98: =IFERROR(VLOOKUP(B98,'[1]DEN3.1'!$H$3:$L$72,3,FALSE),0) -> 0 | T98: =IFERROR(VLOOKUP(B98,'[1]DEN3.1'!$H$3:$L$72,4,FALSE),0) -> 0 | AD98: =SUM(R98:AC98) -> 0
A99: 04301-OVALLE | B99: 105417-P.S.R. ALCONES BAJOS | E99: =IFERROR(VLOOKUP(B99,'[1]NUM3.1'!$H$3:$L$72,2,FALSE),0) -> 0 | F99: =IFERROR(VLOOKUP(B99,'[1]NUM3.1'!$H$3:$L$72,3,FALSE),0) -> 0 | G99: =IFERROR(VLOOKUP(B99,'[1]NUM3.1'!$H$3:$L$72,4,FALSE),0) -> 0 | Q99: =SUM(E99:P99) -> 0 | R99: =IFERROR(VLOOKUP(B99,'[1]DEN3.1'!$H$3:$L$72,2,FALSE),0) -> 0 | S99: =IFERROR(VLOOKUP(B99,'[1]DEN3.1'!$H$3:$L$72,3,FALSE),0) -> 0 | T99: =IFERROR(VLOOKUP(B99,'[1]DEN3.1'!$H$3:$L$72,4,FALSE),0) -> 0 | AD99: =SUM(R99:AC99) -> 0
A100: 04301-OVALLE | B100: 105419-P.S.R. LAS SOSSAS | E100: =IFERROR(VLOOKUP(B100,'[1]NUM3.1'!$H$3:$L$72,2,FALSE),0) -> 0 | F100: =IFERROR(VLOOKUP(B100,'[1]NUM3.1'!$H$3:$L$72,3,FALSE),0) -> 0 | G100: =IFERROR(VLOOKUP(B100,'[1]NUM3.1'!$H$3:$L$72,4,FALSE),0) -> 0 | Q100: =SUM(E100:P100) -> 0 | R100: =IFERROR(VLOOKUP(B100,'[1]DEN3.1'!$H$3:$L$72,2,FALSE),0) -> 0 | S100: =IFERROR(VLOOKUP(B100,'[1]DEN3.1'!$H$3:$L$72,3,FALSE),0) -> 0 | T100: =IFERROR(VLOOKUP(B100,'[1]DEN3.1'!$H$3:$L$72,4,FALSE),0) -> 0 | AD100: =SUM(R100:AC100) -> 0
A101: 04301-OVALLE | B101: 105420-P.S.R. LIMARI | E101: =IFERROR(VLOOKUP(B101,'[1]NUM3.1'!$H$3:$L$72,2,FALSE),0) -> 0 | F101: =IFERROR(VLOOKUP(B101,'[1]NUM3.1'!$H$3:$L$72,3,FALSE),0) -> 0 | G101: =IFERROR(VLOOKUP(B101,'[1]NUM3.1'!$H$3:$L$72,4,FALSE),0) -> 0 | Q101: =SUM(E101:P101) -> 0 | R101: =IFERROR(VLOOKUP(B101,'[1]DEN3.1'!$H$3:$L$72,2,FALSE),0) -> 0 | S101: =IFERROR(VLOOKUP(B101,'[1]DEN3.1'!$H$3:$L$72,3,FALSE),0) -> 0 | T101: =IFERROR(VLOOKUP(B101,'[1]DEN3.1'!$H$3:$L$72,4,FALSE),0) -> 0 | AD101: =SUM(R101:AC101) -> 0
A102: 04301-OVALLE | B102: 105422-P.S.R. HORNILLOS | E102: =IFERROR(VLOOKUP(B102,'[1]NUM3.1'!$H$3:$L$72,2,FALSE),0) -> 0 | F102: =IFERROR(VLOOKUP(B102,'[1]NUM3.1'!$H$3:$L$72,3,FALSE),0) -> 0 | G102: =IFERROR(VLOOKUP(B102,'[1]NUM3.1'!$H$3:$L$72,4,FALSE),0) -> 0 | Q102: =SUM(E102:P102) -> 0 | R102: =IFERROR(VLOOKUP(B102,'[1]DEN3.1'!$H$3:$L$72,2,FALSE),0) -> 0 | S102: =IFERROR(VLOOKUP(B102,'[1]DEN3.1'!$H$3:$L$72,3,FALSE),0) -> 0 | T102: =IFERROR(VLOOKUP(B102,'[1]DEN3.1'!$H$3:$L$72,4,FALSE),0) -> 0 | AD102: =SUM(R102:AC102) -> 0
A103: 04301-OVALLE | B103: 105437-P.S.R. CHALINGA | E103: =IFERROR(VLOOKUP(B103,'[1]NUM3.1'!$H$3:$L$72,2,FALSE),0) -> 0 | F103: =IFERROR(VLOOKUP(B103,'[1]NUM3.1'!$H$3:$L$72,3,FALSE),0) -> 0 | G103: =IFERROR(VLOOKUP(B103,'[1]NUM3.1'!$H$3:$L$72,4,FALSE),0) -> 0 | Q103: =SUM(E103:P103) -> 0 | R103: =IFERROR(VLOOKUP(B103,'[1]DEN3.1'!$H$3:$L$72,2,FALSE),0) -> 0 | S103: =IFERROR(VLOOKUP(B103,'[1]DEN3.1'!$H$3:$L$72,3,FALSE),0) -> 0 | T103: =IFERROR(VLOOKUP(B103,'[1]DEN3.1'!$H$3:$L$72,4,FALSE),0) -> 0 | AD103: =SUM(R103:AC103) -> 0
A104: 04301-OVALLE | B104: 105439-P.S.R. CERRO BLANCO | E104: =IFERROR(VLOOKUP(B104,'[1]NUM3.1'!$H$3:$L$72,2,FALSE),0) -> 0 | F104: =IFERROR(VLOOKUP(B104,'[1]NUM3.1'!$H$3:$L$72,3,FALSE),0) -> 0 | G104: =IFERROR(VLOOKUP(B104,'[1]NUM3.1'!$H$3:$L$72,4,FALSE),0) -> 0 | Q104: =SUM(E104:P104) -> 0 | R104: =IFERROR(VLOOKUP(B104,'[1]DEN3.1'!$H$3:$L$72,2,FALSE),0) -> 0 | S104: =IFERROR(VLOOKUP(B104,'[1]DEN3.1'!$H$3:$L$72,3,FALSE),0) -> 0 | T104: =IFERROR(VLOOKUP(B104,'[1]DEN3.1'!$H$3:$L$72,4,FALSE),0) -> 0 | AD104: =SUM(R104:AC104) -> 0
... A110: 04301-OVALLE | B110: 200367-CECOF COLONIA LIMARÍ | E110: =IFERROR(VLOOKUP(B110,'[1]NUM3.1'!$H$3:$L$72,2,FALSE),0) -> 0 | F110: =IFERROR(VLOOKUP(B110,'[1]NUM3.1'!$H$3:$L$72,3,FALSE),0) -> 0 | G110: =IFERROR(VLOOKUP(B110,'[1]NUM3.1'!$H$3:$L$72,4,FALSE),0) -> 1 | Q110: =SUM(E110:P110) -> 1 | R110: =IFERROR(VLOOKUP(B110,'[1]DEN3.1'!$H$3:$L$72,2,FALSE),0) -> 0 | S110: =IFERROR(VLOOKUP(B110,'[1]DEN3.1'!$H$3:$L$72,3,FALSE),0) -> 0 | T110: =IFERROR(VLOOKUP(B110,'[1]DEN3.1'!$H$3:$L$72,4,FALSE),0) -> 1 | AD110: =SUM(R110:AC110) -> 1
A111: TOTAL OVALLE | C111: =+D111/Metas!H13 -> 1.017501 | D111: =+Q111/AD111 -> 1 | E111: =SUM(E93:E110) -> 21 | F111: =SUM(F93:F110) -> 13 | G111: =SUM(G93:G110) -> 14 | H111: =SUM(H93:H110) -> 0 | I111: =SUM(I93:I110) -> 0 | J111: =SUM(J93:J110) -> 0 | K111: =SUM(K93:K110) -> 0 | L111: =SUM(L93:L110) -> 0 | ... AD111: =SUM(AD93:AD110) -> 48
A112: 04302-COMBARBALÁ | B112: 105433-P.S.R. SAN LORENZO | E112: =IFERROR(VLOOKUP(B112,'[1]NUM3.1'!$H$3:$L$72,2,FALSE),0) -> 0 | F112: =IFERROR(VLOOKUP(B112,'[1]NUM3.1'!$H$3:$L$72,3,FALSE),0) -> 0 | G112: =IFERROR(VLOOKUP(B112,'[1]NUM3.1'!$H$3:$L$72,4,FALSE),0) -> 0 | Q112: =SUM(E112:P112) -> 0 | R112: =IFERROR(VLOOKUP(B112,'[1]DEN3.1'!$H$3:$L$72,2,FALSE),0) -> 0 | S112: =IFERROR(VLOOKUP(B112,'[1]DEN3.1'!$H$3:$L$72,3,FALSE),0) -> 0 | T112: =IFERROR(VLOOKUP(B112,'[1]DEN3.1'!$H$3:$L$72,4,FALSE),0) -> 0 | AD112: =SUM(R112:AC112) -> 0
A113: 04302-COMBARBALÁ | B113: 105434-P.S.R. SAN MARCOS | E113: =IFERROR(VLOOKUP(B113,'[1]NUM3.1'!$H$3:$L$72,2,FALSE),0) -> 0 | F113: =IFERROR(VLOOKUP(B113,'[1]NUM3.1'!$H$3:$L$72,3,FALSE),0) -> 0 | G113: =IFERROR(VLOOKUP(B113,'[1]NUM3.1'!$H$3:$L$72,4,FALSE),0) -> 0 | Q113: =SUM(E113:P113) -> 0 | R113: =IFERROR(VLOOKUP(B113,'[1]DEN3.1'!$H$3:$L$72,2,FALSE),0) -> 0 | S113: =IFERROR(VLOOKUP(B113,'[1]DEN3.1'!$H$3:$L$72,3,FALSE),0) -> 0 | T113: =IFERROR(VLOOKUP(B113,'[1]DEN3.1'!$H$3:$L$72,4,FALSE),0) -> 0 | AD113: =SUM(R113:AC113) -> 0
A114: 04302-COMBARBALÁ | B114: 105441-P.S.R. MANQUEHUA | E114: =IFERROR(VLOOKUP(B114,'[1]NUM3.1'!$H$3:$L$72,2,FALSE),0) -> 0 | F114: =IFERROR(VLOOKUP(B114,'[1]NUM3.1'!$H$3:$L$72,3,FALSE),0) -> 0 | G114: =IFERROR(VLOOKUP(B114,'[1]NUM3.1'!$H$3:$L$72,4,FALSE),0) -> 0 | Q114: =SUM(E114:P114) -> 0 | R114: =IFERROR(VLOOKUP(B114,'[1]DEN3.1'!$H$3:$L$72,2,FALSE),0) -> 0 | S114: =IFERROR(VLOOKUP(B114,'[1]DEN3.1'!$H$3:$L$72,3,FALSE),0) -> 0 | T114: =IFERROR(VLOOKUP(B114,'[1]DEN3.1'!$H$3:$L$72,4,FALSE),0) -> 0 | AD114: =SUM(R114:AC114) -> 0
...

Sheet META 5 
A1: COMUNA | B1: ESTABLECIMIENTO | C1: CUMPLIMIENTO | D1: Indicador | E1: META 5: TASA DE CONSULTAS DE MORBILIDAD Y CONTROLES MEDICOS POR HABITANTE/AÑO
E2: NUMERADOR | R2: DENOMINADOR
E10: Nº de consultas de morbilidad y controles médicos realizadas | R10: Población Inscrita
D11: Resultado | E11: ENERO | F11: FEBRERO | G11: MARZO | H11: ABRIL | I11: MAYO | J11: JUNIO | K11: JULIO | L11: AGOSTO | M11: SEPBRE | N11: OCTBRE | O11: NOVBRE | P11: DICBRE | Q11: TOTAL
A12: 04101-LA SERENA | B12: 105300-CES. CARDENAL CARO | E12: =IFERROR(VLOOKUP(B12,[1]NUM5!$H$3:$L$165,2,FALSE),0) -> 2113 | F12: =IFERROR(VLOOKUP(B12,[1]NUM5!$H$3:$L$165,3,FALSE),0) -> 1609 | G12: =IFERROR(VLOOKUP(B12,[1]NUM5!$H$3:$L$165,4,FALSE),0) -> 1993 | Q12: =SUM(E12:P12) -> 5715
A13: 04101-LA SERENA | B13: 105301-CES. LAS COMPAÑIAS | E13: =IFERROR(VLOOKUP(B13,[1]NUM5!$H$3:$L$165,2,FALSE),0) -> 2264 | F13: =IFERROR(VLOOKUP(B13,[1]NUM5!$H$3:$L$165,3,FALSE),0) -> 2250 | G13: =IFERROR(VLOOKUP(B13,[1]NUM5!$H$3:$L$165,4,FALSE),0) -> 2721 | Q13: =SUM(E13:P13) -> 7235
A14: 04101-LA SERENA | B14: 105302-CES. PEDRO AGUIRRE C. | E14: =IFERROR(VLOOKUP(B14,[1]NUM5!$H$3:$L$165,2,FALSE),0) -> 1988 | F14: =IFERROR(VLOOKUP(B14,[1]NUM5!$H$3:$L$165,3,FALSE),0) -> 1764 | G14: =IFERROR(VLOOKUP(B14,[1]NUM5!$H$3:$L$165,4,FALSE),0) -> 1810 | Q14: =SUM(E14:P14) -> 5562
A15: 04101-LA SERENA | B15: 105313-CES. SCHAFFHAUSER | E15: =IFERROR(VLOOKUP(B15,[1]NUM5!$H$3:$L$165,2,FALSE),0) -> 2364 | F15: =IFERROR(VLOOKUP(B15,[1]NUM5!$H$3:$L$165,3,FALSE),0) -> 1225 | G15: =IFERROR(VLOOKUP(B15,[1]NUM5!$H$3:$L$165,4,FALSE),0) -> 1201 | Q15: =SUM(E15:P15) -> 4790
A16: 04101-LA SERENA | B16: 105319-CES. CARDENAL R.S.H. | E16: =IFERROR(VLOOKUP(B16,[1]NUM5!$H$3:$L$165,2,FALSE),0) -> 3277 | F16: =IFERROR(VLOOKUP(B16,[1]NUM5!$H$3:$L$165,3,FALSE),0) -> 2869 | G16: =IFERROR(VLOOKUP(B16,[1]NUM5!$H$3:$L$165,4,FALSE),0) -> 2830 | Q16: =SUM(E16:P16) -> 8976
A17: 04101-LA SERENA | B17: 105325-CESFAM JUAN PABLO II | E17: =IFERROR(VLOOKUP(B17,[1]NUM5!$H$3:$L$165,2,FALSE),0) -> 1589 | F17: =IFERROR(VLOOKUP(B17,[1]NUM5!$H$3:$L$165,3,FALSE),0) -> 1388 | G17: =IFERROR(VLOOKUP(B17,[1]NUM5!$H$3:$L$165,4,FALSE),0) -> 1544 | Q17: =SUM(E17:P17) -> 4521
A18: 04101-LA SERENA | B18: 105400-P.S.R. ALGARROBITO | E18: =IFERROR(VLOOKUP(B18,[1]NUM5!$H$3:$L$165,2,FALSE),0) -> 272 | F18: =IFERROR(VLOOKUP(B18,[1]NUM5!$H$3:$L$165,3,FALSE),0) -> 324 | G18: =IFERROR(VLOOKUP(B18,[1]NUM5!$H$3:$L$165,4,FALSE),0) -> 229 | Q18: =SUM(E18:P18) -> 825
A19: 04101-LA SERENA | B19: 105401-P.S.R. LAS ROJAS | E19: =IFERROR(VLOOKUP(B19,[1]NUM5!$H$3:$L$165,2,FALSE),0) -> 37 | F19: =IFERROR(VLOOKUP(B19,[1]NUM5!$H$3:$L$165,3,FALSE),0) -> 33 | G19: =IFERROR(VLOOKUP(B19,[1]NUM5!$H$3:$L$165,4,FALSE),0) -> 49 | Q19: =SUM(E19:P19) -> 119
A20: 04101-LA SERENA | B20: 105402-P.S.R. EL ROMERO | E20: =IFERROR(VLOOKUP(B20,[1]NUM5!$H$3:$L$165,2,FALSE),0) -> 29 | F20: =IFERROR(VLOOKUP(B20,[1]NUM5!$H$3:$L$165,3,FALSE),0) -> 42 | G20: =IFERROR(VLOOKUP(B20,[1]NUM5!$H$3:$L$165,4,FALSE),0) -> 22 | Q20: =SUM(E20:P20) -> 93
A21: 04101-LA SERENA | B21: 105499-P.S.R. LAMBERT | E21: =IFERROR(VLOOKUP(B21,[1]NUM5!$H$3:$L$165,2,FALSE),0) -> 25 | F21: =IFERROR(VLOOKUP(B21,[1]NUM5!$H$3:$L$165,3,FALSE),0) -> 50 | G21: =IFERROR(VLOOKUP(B21,[1]NUM5!$H$3:$L$165,4,FALSE),0) -> 37 | Q21: =SUM(E21:P21) -> 112
A22: 04101-LA SERENA | B22: 105700-CECOF VILLA EL INDIO | E22: =IFERROR(VLOOKUP(B22,[1]NUM5!$H$3:$L$165,2,FALSE),0) -> 256 | F22: =IFERROR(VLOOKUP(B22,[1]NUM5!$H$3:$L$165,3,FALSE),0) -> 142 | G22: =IFERROR(VLOOKUP(B22,[1]NUM5!$H$3:$L$165,4,FALSE),0) -> 248 | Q22: =SUM(E22:P22) -> 646
A23: 04101-LA SERENA | B23: 105701-CECOF VILLA ALEMANIA | E23: =IFERROR(VLOOKUP(B23,[1]NUM5!$H$3:$L$165,2,FALSE),0) -> 129 | F23: =IFERROR(VLOOKUP(B23,[1]NUM5!$H$3:$L$165,3,FALSE),0) -> 61 | G23: =IFERROR(VLOOKUP(B23,[1]NUM5!$H$3:$L$165,4,FALSE),0) -> 234 | Q23: =SUM(E23:P23) -> 424
... A25: 04101-LA SERENA | B25: 200402-CECOF ARCOS DE PINAMAR | E25: =IFERROR(VLOOKUP(B25,[1]NUM5!$H$3:$L$165,2,FALSE),0) -> 177 | F25: =IFERROR(VLOOKUP(B25,[1]NUM5!$H$3:$L$165,3,FALSE),0) -> 225 | G25: =IFERROR(VLOOKUP(B25,[1]NUM5!$H$3:$L$165,4,FALSE),0) -> 242 | Q25: =SUM(E25:P25) -> 644
A26: TOTAL LA SERENA | C26: =+D26/Metas!I10 -> 0.23036004 | D26: =+Q26/R26 -> 0.20962764 | E26: =SUM(E12:E25) -> 14705 | F26: =SUM(F12:F25) -> 12052 | G26: =SUM(G12:G25) -> 13315 | H26: =SUM(H12:H25) -> 0 | I26: =SUM(I12:I25) -> 0 | J26: =SUM(J12:J25) -> 0 | K26: =SUM(K12:K25) -> 0 | L26: =SUM(L12:L25) -> 0 | ... Q26: =SUM(Q12:Q25) -> 40072 | R26: 191158 | Z26: =SUM(Z12:Z25) -> 0 | AA26: =SUM(AA12:AA25) -> 0 | AB26: =SUM(AB12:AB25) -> 0 | AC26: =SUM(AC12:AC25) -> 0 | AD26: =SUM(AD12:AD25) -> 0
A27: 04102-COQUIMBO | B27: 105303-CES. SAN JUAN | E27: =IFERROR(VLOOKUP(B27,[1]NUM5!$H$3:$L$165,2,FALSE),0) -> 2438 | F27: =IFERROR(VLOOKUP(B27,[1]NUM5!$H$3:$L$165,3,FALSE),0) -> 3777 | G27: =IFERROR(VLOOKUP(B27,[1]NUM5!$H$3:$L$165,4,FALSE),0) -> 3062 | Q27: =SUM(E27:P27) -> 9277
A28: 04102-COQUIMBO | B28: 105304-CES. SANTA CECILIA | E28: =IFERROR(VLOOKUP(B28,[1]NUM5!$H$3:$L$165,2,FALSE),0) -> 3492 | F28: =IFERROR(VLOOKUP(B28,[1]NUM5!$H$3:$L$165,3,FALSE),0) -> 3431 | G28: =IFERROR(VLOOKUP(B28,[1]NUM5!$H$3:$L$165,4,FALSE),0) -> 3871 | Q28: =SUM(E28:P28) -> 10794
A29: 04102-COQUIMBO | B29: 105305-CES. TIERRAS BLANCAS | E29: =IFERROR(VLOOKUP(B29,[1]NUM5!$H$3:$L$165,2,FALSE),0) -> 3908 | F29: =IFERROR(VLOOKUP(B29,[1]NUM5!$H$3:$L$165,3,FALSE),0) -> 3676 | G29: =IFERROR(VLOOKUP(B29,[1]NUM5!$H$3:$L$165,4,FALSE),0) -> 3240 | Q29: =SUM(E29:P29) -> 10824
A30: 04102-COQUIMBO | B30: 105321-CES. RURAL TONGOY | E30: =IFERROR(VLOOKUP(B30,[1]NUM5!$H$3:$L$165,2,FALSE),0) -> 693 | F30: =IFERROR(VLOOKUP(B30,[1]NUM5!$H$3:$L$165,3,FALSE),0) -> 646 | G30: =IFERROR(VLOOKUP(B30,[1]NUM5!$H$3:$L$165,4,FALSE),0) -> 714 | Q30: =SUM(E30:P30) -> 2053
A31: 04102-COQUIMBO | B31: 105323-CES. DR. SERGIO AGUILAR | E31: =IFERROR(VLOOKUP(B31,[1]NUM5!$H$3:$L$165,2,FALSE),0) -> 2979 | F31: =IFERROR(VLOOKUP(B31,[1]NUM5!$H$3:$L$165,3,FALSE),0) -> 1047 | G31: =IFERROR(VLOOKUP(B31,[1]NUM5!$H$3:$L$165,4,FALSE),0) -> 3076 | Q31: =SUM(E31:P31) -> 7102
A32: 04102-COQUIMBO | B32: 105404-P.S.R. EL TANGUE | E32: =IFERROR(VLOOKUP(B32,[1]NUM5!$H$3:$L$165,2,FALSE),0) -> 18 | F32: =IFERROR(VLOOKUP(B32,[1]NUM5!$H$3:$L$165,3,FALSE),0) -> 0 | G32: =IFERROR(VLOOKUP(B32,[1]NUM5!$H$3:$L$165,4,FALSE),0) -> 13 | Q32: =SUM(E32:P32) -> 31
A33: 04102-COQUIMBO | B33: 105405-P.S.R. GUANAQUEROS | E33: =IFERROR(VLOOKUP(B33,[1]NUM5!$H$3:$L$165,2,FALSE),0) -> 218 | F33: =IFERROR(VLOOKUP(B33,[1]NUM5!$H$3:$L$165,3,FALSE),0) -> 226 | G33: =IFERROR(VLOOKUP(B33,[1]NUM5!$H$3:$L$165,4,FALSE),0) -> 279 | Q33: =SUM(E33:P33) -> 723
A34: 04102-COQUIMBO | B34: 105406-P.S.R. PAN DE AZUCAR | E34: =IFERROR(VLOOKUP(B34,[1]NUM5!$H$3:$L$165,2,FALSE),0) -> 976 | F34: =IFERROR(VLOOKUP(B34,[1]NUM5!$H$3:$L$165,3,FALSE),0) -> 703 | G34: =IFERROR(VLOOKUP(B34,[1]NUM5!$H$3:$L$165,4,FALSE),0) -> 942 | Q34: =SUM(E34:P34) -> 2621
A35: 04102-COQUIMBO | B35: 105407-P.S.R. TAMBILLOS | E35: =IFERROR(VLOOKUP(B35,[1]NUM5!$H$3:$L$165,2,FALSE),0) -> 55 | F35: =IFERROR(VLOOKUP(B35,[1]NUM5!$H$3:$L$165,3,FALSE),0) -> 27 | G35: =IFERROR(VLOOKUP(B35,[1]NUM5!$H$3:$L$165,4,FALSE),0) -> 44 | Q35: =SUM(E35:P35) -> 126
A36: 04102-COQUIMBO | B36: 105705-CECOF EL ALBA | E36: =IFERROR(VLOOKUP(B36,[1]NUM5!$H$3:$L$165,2,FALSE),0) -> 419 | F36: =IFERROR(VLOOKUP(B36,[1]NUM5!$H$3:$L$165,3,FALSE),0) -> 345 | G36: =IFERROR(VLOOKUP(B36,[1]NUM5!$H$3:$L$165,4,FALSE),0) -> 401 | Q36: =SUM(E36:P36) -> 1165
A37: 04102-COQUIMBO | B37: 200273-CECOF PUNTA MIRA | E37: =IFERROR(VLOOKUP(B37,[1]NUM5!$H$3:$L$165,2,FALSE),0) -> 759 | F37: =IFERROR(VLOOKUP(B37,[1]NUM5!$H$3:$L$165,3,FALSE),0) -> 514 | G37: =IFERROR(VLOOKUP(B37,[1]NUM5!$H$3:$L$165,4,FALSE),0) -> 364 | Q37: =SUM(E37:P37) -> 1637
A38: TOTAL COQUIMBO | C38: =+D38/Metas!I8 -> 0.24859221 | D38: =+Q38/R38 -> 0.24859221 | E38: =SUM(E27:E37) -> 15955 | F38: =SUM(F27:F37) -> 14392 | G38: =SUM(G27:G37) -> 16006 | H38: =SUM(H27:H37) -> 0 | I38: =SUM(I27:I37) -> 0 | J38: =SUM(J27:J37) -> 0 | K38: =SUM(K27:K37) -> 0 | L38: =SUM(L27:L37) -> 0 | ... Q38: =SUM(Q27:Q37) -> 46353 | R38: 186462
A39: 04106-VICUÑA | B39: 105467-P.S.R. DIAGUITAS | E39: =IFERROR(VLOOKUP(B39,[1]NUM5!$H$3:$L$165,2,FALSE),0) -> 157 | F39: =IFERROR(VLOOKUP(B39,[1]NUM5!$H$3:$L$165,3,FALSE),0) -> 92 | G39: =IFERROR(VLOOKUP(B39,[1]NUM5!$H$3:$L$165,4,FALSE),0) -> 125 | Q39: =SUM(E39:P39) -> 374
A40: 04106-VICUÑA | B40: 105468-P.S.R. EL MOLLE | E40: =IFERROR(VLOOKUP(B40,[1]NUM5!$H$3:$L$165,2,FALSE),0) -> 88 | F40: =IFERROR(VLOOKUP(B40,[1]NUM5!$H$3:$L$165,3,FALSE),0) -> 60 | G40: =IFERROR(VLOOKUP(B40,[1]NUM5!$H$3:$L$165,4,FALSE),0) -> 65 | Q40: =SUM(E40:P40) -> 213
A41: 04106-VICUÑA | B41: 105469-P.S.R. EL TAMBO | E41: =IFERROR(VLOOKUP(B41,[1]NUM5!$H$3:$L$165,2,FALSE),0) -> 129 | F41: =IFERROR(VLOOKUP(B41,[1]NUM5!$H$3:$L$165,3,FALSE),0) -> 110 | G41: =IFERROR(VLOOKUP(B41,[1]NUM5!$H$3:$L$165,4,FALSE),0) -> 114 | Q41: =SUM(E41:P41) -> 353
A42: 04106-VICUÑA | B42: 105470-P.S.R. HUANTA | E42: =IFERROR(VLOOKUP(B42,[1]NUM5!$H$3:$L$165,2,FALSE),0) -> 19 | F42: =IFERROR(VLOOKUP(B42,[1]NUM5!$H$3:$L$165,3,FALSE),0) -> 21 | G42: =IFERROR(VLOOKUP(B42,[1]NUM5!$H$3:$L$165,4,FALSE),0) -> 19 | Q42: =SUM(E42:P42) -> 59
A43: 04106-VICUÑA | B43: 105471-P.S.R. PERALILLO | E43: =IFERROR(VLOOKUP(B43,[1]NUM5!$H$3:$L$165,2,FALSE),0) -> 94 | F43: =IFERROR(VLOOKUP(B43,[1]NUM5!$H$3:$L$165,3,FALSE),0) -> 147 | G43: =IFERROR(VLOOKUP(B43,[1]NUM5!$H$3:$L$165,4,FALSE),0) -> 140 | Q43: =SUM(E43:P43) -> 381
A44: 04106-VICUÑA | B44: 105472-P.S.R. RIVADAVIA | E44: =IFERROR(VLOOKUP(B44,[1]NUM5!$H$3:$L$165,2,FALSE),0) -> 127 | F44: =IFERROR(VLOOKUP(B44,[1]NUM5!$H$3:$L$165,3,FALSE),0) -> 75 | G44: =IFERROR(VLOOKUP(B44,[1]NUM5!$H$3:$L$165,4,FALSE),0) -> 90 | Q44: =SUM(E44:P44) -> 292
A45: 04106-VICUÑA | B45: 105473-P.S.R. TALCUNA | E45: =IFERROR(VLOOKUP(B45,[1]NUM5!$H$3:$L$165,2,FALSE),0) -> 113 | F45: =IFERROR(VLOOKUP(B45,[1]NUM5!$H$3:$L$165,3,FALSE),0) -> 112 | G45: =IFERROR(VLOOKUP(B45,[1]NUM5!$H$3:$L$165,4,FALSE),0) -> 99 | Q45: =SUM(E45:P45) -> 324
A46: 04106-VICUÑA | B46: 105474-P.S.R. CHAPILCA | E46: =IFERROR(VLOOKUP(B46,[1]NUM5!$H$3:$L$165,2,FALSE),0) -> 16 | F46: =IFERROR(VLOOKUP(B46,[1]NUM5!$H$3:$L$165,3,FALSE),0) -> 36 | G46: =IFERROR(VLOOKUP(B46,[1]NUM5!$H$3:$L$165,4,FALSE),0) -> 33 | Q46: =SUM(E46:P46) -> 85
A47: 04106-VICUÑA | B47: 105502-P.S.R. CALINGASTA | E47: =IFERROR(VLOOKUP(B47,[1]NUM5!$H$3:$L$165,2,FALSE),0) -> 192 | F47: =IFERROR(VLOOKUP(B47,[1]NUM5!$H$3:$L$165,3,FALSE),0) -> 220 | G47: =IFERROR(VLOOKUP(B47,[1]NUM5!$H$3:$L$165,4,FALSE),0) -> 210 | Q47: =SUM(E47:P47) -> 622
A48: 04106-VICUÑA | B48: 105509-P.S.R. GUALLIGUAICA | E48: =IFERROR(VLOOKUP(B48,[1]NUM5!$H$3:$L$165,2,FALSE),0) -> 25 | F48: =IFERROR(VLOOKUP(B48,[1]NUM5!$H$3:$L$165,3,FALSE),0) -> 30 | G48: =IFERROR(VLOOKUP(B48,[1]NUM5!$H$3:$L$165,4,FALSE),0) -> 18 | Q48: =SUM(E48:P48) -> 73
A49: TOTAL VICUÑA | C49: =+D49/Metas!I17 -> 0.20901568 | D49: =+Q49/R49 -> 0.18811412 | E49: =SUM(E39:E48) -> 960 | F49: =SUM(F39:F48) -> 903 | G49: =SUM(G39:G48) -> 913 | H49: =SUM(H39:H48) -> 0 | I49: =SUM(I39:I48) -> 0 | J49: =SUM(J39:J48) -> 0 | K49: =SUM(K39:K48) -> 0 | L49: =SUM(L39:L48) -> 0 | ... Q49: =SUM(Q39:Q48) -> 2776 | R49: 14757
A50: 04201-ILLAPEL | B50: 105326-CESFAM SAN RAFAEL | E50: =IFERROR(VLOOKUP(B50,[1]NUM5!$H$3:$L$165,2,FALSE),0) -> 434 | F50: =IFERROR(VLOOKUP(B50,[1]NUM5!$H$3:$L$165,3,FALSE),0) -> 1153 | G50: =IFERROR(VLOOKUP(B50,[1]NUM5!$H$3:$L$165,4,FALSE),0) -> 734 | Q50: =SUM(E50:P50) -> 2321
A51: 04201-ILLAPEL | B51: 105443-P.S.R. CARCAMO | E51: =IFERROR(VLOOKUP(B51,[1]NUM5!$H$3:$L$165,2,FALSE),0) -> 26 | F51: =IFERROR(VLOOKUP(B51,[1]NUM5!$H$3:$L$165,3,FALSE),0) -> 61 | G51: =IFERROR(VLOOKUP(B51,[1]NUM5!$H$3:$L$165,4,FALSE),0) -> 71 | Q51: =SUM(E51:P51) -> 158
A52: 04201-ILLAPEL | B52: 105444-P.S.R. HUINTIL | E52: =IFERROR(VLOOKUP(B52,[1]NUM5!$H$3:$L$165,2,FALSE),0) -> 34 | F52: =IFERROR(VLOOKUP(B52,[1]NUM5!$H$3:$L$165,3,FALSE),0) -> 44 | G52: =IFERROR(VLOOKUP(B52,[1]NUM5!$H$3:$L$165,4,FALSE),0) -> 57 | Q52: =SUM(E52:P52) -> 135
A53: 04201-ILLAPEL | B53: 105445-P.S.R. LIMAHUIDA | E53: =IFERROR(VLOOKUP(B53,[1]NUM5!$H$3:$L$165,2,FALSE),0) -> 0 | F53: =IFERROR(VLOOKUP(B53,[1]NUM5!$H$3:$L$165,3,FALSE),0) -> 46 | G53: =IFERROR(VLOOKUP(B53,[1]NUM5!$H$3:$L$165,4,FALSE),0) -> 36 | Q53: =SUM(E53:P53) -> 82
A54: 04201-ILLAPEL | B54: 105446-P.S.R. MATANCILLA | E54: =IFERROR(VLOOKUP(B54,[1]NUM5!$H$3:$L$165,2,FALSE),0) -> 19 | F54: =IFERROR(VLOOKUP(B54,[1]NUM5!$H$3:$L$165,3,FALSE),0) -> 11 | G54: =IFERROR(VLOOKUP(B54,[1]NUM5!$H$3:$L$165,4,FALSE),0) -> 9 | Q54: =SUM(E54:P54) -> 39
A55: 04201-ILLAPEL | B55: 105447-P.S.R. PERALILLO | E55: =IFERROR(VLOOKUP(B55,[1]NUM5!$H$3:$L$165,2,FALSE),0) -> 50 | F55: =IFERROR(VLOOKUP(B55,[1]NUM5!$H$3:$L$165,3,FALSE),0) -> 46 | G55: =IFERROR(VLOOKUP(B55,[1]NUM5!$H$3:$L$165,4,FALSE),0) -> 38 | Q55: =SUM(E55:P55) -> 134
A56: 04201-ILLAPEL | B56: 105448-P.S.R. SANTA VIRGINIA | E56: =IFERROR(VLOOKUP(B56,[1]NUM5!$H$3:$L$165,2,FALSE),0) -> 32 | F56: =IFERROR(VLOOKUP(B56,[1]NUM5!$H$3:$L$165,3,FALSE),0) -> 31 | G56: =IFERROR(VLOOKUP(B56,[1]NUM5!$H$3:$L$165,4,FALSE),0) -> 61 | Q56: =SUM(E56:P56) -> 124
A57: 04201-ILLAPEL | B57: 105449-P.S.R. TUNGA NORTE | E57: =IFERROR(VLOOKUP(B57,[1]NUM5!$H$3:$L$165,2,FALSE),0) -> 9 | F57: =IFERROR(VLOOKUP(B57,[1]NUM5!$H$3:$L$165,3,FALSE),0) -> 20 | G57: =IFERROR(VLOOKUP(B57,[1]NUM5!$H$3:$L$165,4,FALSE),0) -> 21 | Q57: =SUM(E57:P57) -> 50
A58: 04201-ILLAPEL | B58: 105485-P.S.R. PLAN DE HORNOS | E58: =IFERROR(VLOOKUP(B58,[1]NUM5!$H$3:$L$165,2,FALSE),0) -> 84 | F58: =IFERROR(VLOOKUP(B58,[1]NUM5!$H$3:$L$165,3,FALSE),0) -> 51 | G58: =IFERROR(VLOOKUP(B58,[1]NUM5!$H$3:$L$165,4,FALSE),0) -> 73 | Q58: =SUM(E58:P58) -> 208
A59: 04201-ILLAPEL | B59: 105486-P.S.R. TUNGA SUR | E59: =IFERROR(VLOOKUP(B59,[1]NUM5!$H$3:$L$165,2,FALSE),0) -> 19 | F59: =IFERROR(VLOOKUP(B59,[1]NUM5!$H$3:$L$165,3,FALSE),0) -> 31 | G59: =IFERROR(VLOOKUP(B59,[1]NUM5!$H$3:$L$165,4,FALSE),0) -> 0 | Q59: =SUM(E59:P59) -> 50
A60: 04201-ILLAPEL | B60: 105487-P.S.R. CAÑAS UNO | E60: =IFERROR(VLOOKUP(B60,[1]NUM5!$H$3:$L$165,2,FALSE),0) -> 118 | F60: =IFERROR(VLOOKUP(B60,[1]NUM5!$H$3:$L$165,3,FALSE),0) -> 142 | G60: =IFERROR(VLOOKUP(B60,[1]NUM5!$H$3:$L$165,4,FALSE),0) -> 140 | Q60: =SUM(E60:P60) -> 400
A61: 04201-ILLAPEL | B61: 105496-P.S.R. PINTACURA SUR | E61: =IFERROR(VLOOKUP(B61,[1]NUM5!$H$3:$L$165,2,FALSE),0) -> 22 | F61: =IFERROR(VLOOKUP(B61,[1]NUM5!$H$3:$L$165,3,FALSE),0) -> 39 | G61: =IFERROR(VLOOKUP(B61,[1]NUM5!$H$3:$L$165,4,FALSE),0) -> 47 | Q61: =SUM(E61:P61) -> 108
... A63: 04201-ILLAPEL | B63: 200366-CESFAM URBANO II | E63: =IFERROR(VLOOKUP(B63,[1]NUM5!$H$3:$L$165,2,FALSE),0) -> 1332 | F63: =IFERROR(VLOOKUP(B63,[1]NUM5!$H$3:$L$165,3,FALSE),0) -> 903 | G63: =IFERROR(VLOOKUP(B63,[1]NUM5!$H$3:$L$165,4,FALSE),0) -> 1006 | Q63: =SUM(E63:P63) -> 3241
A64: TOTAL ILLAPEL | C64: =+D64/Metas!I9 -> 0.35929737 | D64: =+Q64/R64 -> 0.35929737 | E64: =SUM(E50:E63) -> 2223 | F64: =SUM(F50:F63) -> 2608 | G64: =SUM(G50:G63) -> 2328 | H64: =SUM(H50:H63) -> 0 | I64: =SUM(I50:I63) -> 0 | J64: =SUM(J50:J63) -> 0 | K64: =SUM(K50:K63) -> 0 | L64: =SUM(L50:L63) -> 0 | ... Q64: =SUM(Q50:Q63) -> 7159 | R64: 19925
A65: 04202-CANELA | B65: 105309-CES. RURAL CANELA | E65: =IFERROR(VLOOKUP(B65,[1]NUM5!$H$3:$L$165,2,FALSE),0) -> 578 | F65: =IFERROR(VLOOKUP(B65,[1]NUM5!$H$3:$L$165,3,FALSE),0) -> 580 | G65: =IFERROR(VLOOKUP(B65,[1]NUM5!$H$3:$L$165,4,FALSE),0) -> 572 | Q65: =SUM(E65:P65) -> 1730
A66: 04202-CANELA | B66: 105450-P.S.R. MINCHA NORTE | E66: =IFERROR(VLOOKUP(B66,[1]NUM5!$H$3:$L$165,2,FALSE),0) -> 99 | F66: =IFERROR(VLOOKUP(B66,[1]NUM5!$H$3:$L$165,3,FALSE),0) -> 135 | G66: =IFERROR(VLOOKUP(B66,[1]NUM5!$H$3:$L$165,4,FALSE),0) -> 62 | Q66: =SUM(E66:P66) -> 296
A67: 04202-CANELA | B67: 105451-P.S.R. AGUA FRIA | E67: =IFERROR(VLOOKUP(B67,[1]NUM5!$H$3:$L$165,2,FALSE),0) -> 33 | F67: =IFERROR(VLOOKUP(B67,[1]NUM5!$H$3:$L$165,3,FALSE),0) -> 16 | G67: =IFERROR(VLOOKUP(B67,[1]NUM5!$H$3:$L$165,4,FALSE),0) -> 16 | Q67: =SUM(E67:P67) -> 65
A68: 04202-CANELA | B68: 105482-P.S.R. CANELA ALTA | E68: =IFERROR(VLOOKUP(B68,[1]NUM5!$H$3:$L$165,2,FALSE),0) -> 48 | F68: =IFERROR(VLOOKUP(B68,[1]NUM5!$H$3:$L$165,3,FALSE),0) -> 50 | G68: =IFERROR(VLOOKUP(B68,[1]NUM5!$H$3:$L$165,4,FALSE),0) -> 16 | Q68: =SUM(E68:P68) -> 114
A69: 04202-CANELA | B69: 105483-P.S.R. LOS RULOS | E69: =IFERROR(VLOOKUP(B69,[1]NUM5!$H$3:$L$165,2,FALSE),0) -> 14 | F69: =IFERROR(VLOOKUP(B69,[1]NUM5!$H$3:$L$165,3,FALSE),0) -> 12 | G69: =IFERROR(VLOOKUP(B69,[1]NUM5!$H$3:$L$165,4,FALSE),0) -> 0 | Q69: =SUM(E69:P69) -> 26
A70: 04202-CANELA | B70: 105484-P.S.R. HUENTELAUQUEN | E70: =IFERROR(VLOOKUP(B70,[1]NUM5!$H$3:$L$165,2,FALSE),0) -> 29 | F70: =IFERROR(VLOOKUP(B70,[1]NUM5!$H$3:$L$165,3,FALSE),0) -> 51 | G70: =IFERROR(VLOOKUP(B70,[1]NUM5!$H$3:$L$165,4,FALSE),0) -> 29 | Q70: =SUM(E70:P70) -> 109
A71: 04202-CANELA | B71: 105488-P.S.R. ESPIRITU SANTO | E71: =IFERROR(VLOOKUP(B71,[1]NUM5!$H$3:$L$165,2,FALSE),0) -> 10 | F71: =IFERROR(VLOOKUP(B71,[1]NUM5!$H$3:$L$165,3,FALSE),0) -> 12 | G71: =IFERROR(VLOOKUP(B71,[1]NUM5!$H$3:$L$165,4,FALSE),0) -> 0 | Q71: =SUM(E71:P71) -> 22
A72: 04202-CANELA | B72: 105493-P.S.R. MINCHA SUR | E72: =IFERROR(VLOOKUP(B72,[1]NUM5!$H$3:$L$165,2,FALSE),0) -> 12 | F72: =IFERROR(VLOOKUP(B72,[1]NUM5!$H$3:$L$165,3,FALSE),0) -> 16 | G72: =IFERROR(VLOOKUP(B72,[1]NUM5!$H$3:$L$165,4,FALSE),0) -> 0 | Q72: =SUM(E72:P72) -> 28
A73: 04202-CANELA | B73: 105497-P.S.R. JABONERIA | E73: =IFERROR(VLOOKUP(B73,[1]NUM5!$H$3:$L$165,2,FALSE),0) -> 11 | F73: =IFERROR(VLOOKUP(B73,[1]NUM5!$H$3:$L$165,3,FALSE),0) -> 9 | G73: =IFERROR(VLOOKUP(B73,[1]NUM5!$H$3:$L$165,4,FALSE),0) -> 14 | Q73: =SUM(E73:P73) -> 34
A74: 04202-CANELA | B74: 105498-P.S.R. QUEBRADA DE LINARES | E74: =IFERROR(VLOOKUP(B74,[1]NUM5!$H$3:$L$165,2,FALSE),0) -> 9 | F74: =IFERROR(VLOOKUP(B74,[1]NUM5!$H$3:$L$165,3,FALSE),0) -> 13 | G74: =IFERROR(VLOOKUP(B74,[1]NUM5!$H$3:$L$165,4,FALSE),0) -> 16 | Q74: =SUM(E74:P74) -> 38
A75: TOTAL CANELA | C75: =+D75/Metas!I6 -> 0.20186781 | D75: =+Q75/R75 -> 0.26444683 | E75: =SUM(E65:E74) -> 843 | F75: =SUM(F65:F74) -> 894 | G75: =SUM(G65:G74) -> 725 | H75: =SUM(H65:H74) -> 0 | I75: =SUM(I65:I74) -> 0 | J75: =SUM(J65:J74) -> 0 | K75: =SUM(K65:K74) -> 0 | L75: =SUM(L65:L74) -> 0 | ... Q75: =SUM(Q65:Q74) -> 2462 | R75: 9310
A76: 04203-LOS VILOS | B76: 105478-P.S.R. CAIMANES | E76: =IFERROR(VLOOKUP(B76,[1]NUM5!$H$3:$L$165,2,FALSE),0) -> 100 | F76: =IFERROR(VLOOKUP(B76,[1]NUM5!$H$3:$L$165,3,FALSE),0) -> 58 | G76: =IFERROR(VLOOKUP(B76,[1]NUM5!$H$3:$L$165,4,FALSE),0) -> 84 | Q76: =SUM(E76:P76) -> 242
A77: 04203-LOS VILOS | B77: 105479-P.S.R. GUANGUALI | E77: =IFERROR(VLOOKUP(B77,[1]NUM5!$H$3:$L$165,2,FALSE),0) -> 77 | F77: =IFERROR(VLOOKUP(B77,[1]NUM5!$H$3:$L$165,3,FALSE),0) -> 42 | G77: =IFERROR(VLOOKUP(B77,[1]NUM5!$H$3:$L$165,4,FALSE),0) -> 62 | Q77: =SUM(E77:P77) -> 181
A78: 04203-LOS VILOS | B78: 105480-P.S.R. QUILIMARI | E78: =IFERROR(VLOOKUP(B78,[1]NUM5!$H$3:$L$165,2,FALSE),0) -> 360 | F78: =IFERROR(VLOOKUP(B78,[1]NUM5!$H$3:$L$165,3,FALSE),0) -> 369 | G78: =IFERROR(VLOOKUP(B78,[1]NUM5!$H$3:$L$165,4,FALSE),0) -> 295 | Q78: =SUM(E78:P78) -> 1024
A79: 04203-LOS VILOS | B79: 105481-P.S.R. TILAMA | E79: =IFERROR(VLOOKUP(B79,[1]NUM5!$H$3:$L$165,2,FALSE),0) -> 24 | F79: =IFERROR(VLOOKUP(B79,[1]NUM5!$H$3:$L$165,3,FALSE),0) -> 36 | G79: =IFERROR(VLOOKUP(B79,[1]NUM5!$H$3:$L$165,4,FALSE),0) -> 27 | Q79: =SUM(E79:P79) -> 87
A80: 04203-LOS VILOS | B80: 105511-P.S.R. LOS CONDORES | E80: =IFERROR(VLOOKUP(B80,[1]NUM5!$H$3:$L$165,2,FALSE),0) -> 69 | F80: =IFERROR(VLOOKUP(B80,[1]NUM5!$H$3:$L$165,3,FALSE),0) -> 79 | G80: =IFERROR(VLOOKUP(B80,[1]NUM5!$H$3:$L$165,4,FALSE),0) -> 67 | Q80: =SUM(E80:P80) -> 215
A81: TOTAL LOS VILOS | C81: =+D81/Metas!I11 -> 0.33904219 | D81: =+Q81/R81 -> 0.28818586 | E81: =SUM(E76:E80) -> 630 | F81: =SUM(F76:F80) -> 584 | G81: =SUM(G76:G80) -> 535 | H81: =SUM(H76:H80) -> 0 | I81: =SUM(I76:I80) -> 0 | J81: =SUM(J76:J80) -> 0 | K81: =SUM(K76:K80) -> 0 | L81: =SUM(L76:L80) -> 0 | ... Q81: =SUM(Q76:Q80) -> 1749 | R81: 6069
A82: 04204-SALAMANCA | B82: 105452-P.S.R. CUNCUMEN | E82: =IFERROR(VLOOKUP(B82,[1]NUM5!$H$3:$L$165,2,FALSE),0) -> 24 | F82: =IFERROR(VLOOKUP(B82,[1]NUM5!$H$3:$L$165,3,FALSE),0) -> 21 | G82: =IFERROR(VLOOKUP(B82,[1]NUM5!$H$3:$L$165,4,FALSE),0) -> 64 | Q82: =SUM(E82:P82) -> 109
A83: 04204-SALAMANCA | B83: 105453-P.S.R. TRANQUILLA | E83: =IFERROR(VLOOKUP(B83,[1]NUM5!$H$3:$L$165,2,FALSE),0) -> 192 | F83: =IFERROR(VLOOKUP(B83,[1]NUM5!$H$3:$L$165,3,FALSE),0) -> 90 | G83: =IFERROR(VLOOKUP(B83,[1]NUM5!$H$3:$L$165,4,FALSE),0) -> 184 | Q83: =SUM(E83:P83) -> 466
A84: 04204-SALAMANCA | B84: 105454-P.S.R. CUNLAGUA | E84: =IFERROR(VLOOKUP(B84,[1]NUM5!$H$3:$L$165,2,FALSE),0) -> 55 | F84: =IFERROR(VLOOKUP(B84,[1]NUM5!$H$3:$L$165,3,FALSE),0) -> 42 | G84: =IFERROR(VLOOKUP(B84,[1]NUM5!$H$3:$L$165,4,FALSE),0) -> 33 | Q84: =SUM(E84:P84) -> 130
A85: 04204-SALAMANCA | B85: 105455-P.S.R. CHILLEPIN | E85: =IFERROR(VLOOKUP(B85,[1]NUM5!$H$3:$L$165,2,FALSE),0) -> 71 | F85: =IFERROR(VLOOKUP(B85,[1]NUM5!$H$3:$L$165,3,FALSE),0) -> 22 | G85: =IFERROR(VLOOKUP(B85,[1]NUM5!$H$3:$L$165,4,FALSE),0) -> 50 | Q85: =SUM(E85:P85) -> 143
A86: 04204-SALAMANCA | B86: 105456-P.S.R. LLIMPO | E86: =IFERROR(VLOOKUP(B86,[1]NUM5!$H$3:$L$165,2,FALSE),0) -> 78 | F86: =IFERROR(VLOOKUP(B86,[1]NUM5!$H$3:$L$165,3,FALSE),0) -> 83 | G86: =IFERROR(VLOOKUP(B86,[1]NUM5!$H$3:$L$165,4,FALSE),0) -> 78 | Q86: =SUM(E86:P86) -> 239
A87: 04204-SALAMANCA | B87: 105457-P.S.R. SAN AGUSTIN | E87: =IFERROR(VLOOKUP(B87,[1]NUM5!$H$3:$L$165,2,FALSE),0) -> 0 | F87: =IFERROR(VLOOKUP(B87,[1]NUM5!$H$3:$L$165,3,FALSE),0) -> 72 | G87: =IFERROR(VLOOKUP(B87,[1]NUM5!$H$3:$L$165,4,FALSE),0) -> 93 | Q87: =SUM(E87:P87) -> 165
A88: 04204-SALAMANCA | B88: 105458-P.S.R. TAHUINCO | E88: =IFERROR(VLOOKUP(B88,[1]NUM5!$H$3:$L$165,2,FALSE),0) -> 131 | F88: =IFERROR(VLOOKUP(B88,[1]NUM5!$H$3:$L$165,3,FALSE),0) -> 228 | G88: =IFERROR(VLOOKUP(B88,[1]NUM5!$H$3:$L$165,4,FALSE),0) -> 158 | Q88: =SUM(E88:P88) -> 517
A89: 04204-SALAMANCA | B89: 105491-P.S.R. QUELEN BAJO | E89: =IFERROR(VLOOKUP(B89,[1]NUM5!$H$3:$L$165,2,FALSE),0) -> 173 | F89: =IFERROR(VLOOKUP(B89,[1]NUM5!$H$3:$L$165,3,FALSE),0) -> 145 | G89: =IFERROR(VLOOKUP(B89,[1]NUM5!$H$3:$L$165,4,FALSE),0) -> 228 | Q89: =SUM(E89:P89) -> 546
A90: 04204-SALAMANCA | B90: 105492-P.S.R. CAMISA | E90: =IFERROR(VLOOKUP(B90,[1]NUM5!$H$3:$L$165,2,FALSE),0) -> 80 | F90: =IFERROR(VLOOKUP(B90,[1]NUM5!$H$3:$L$165,3,FALSE),0) -> 64 | G90: =IFERROR(VLOOKUP(B90,[1]NUM5!$H$3:$L$165,4,FALSE),0) -> 77 | Q90: =SUM(E90:P90) -> 221
A91: 04204-SALAMANCA | B91: 105501-P.S.R. ARBOLEDA GRANDE | E91: =IFERROR(VLOOKUP(B91,[1]NUM5!$H$3:$L$165,2,FALSE),0) -> 84 | F91: =IFERROR(VLOOKUP(B91,[1]NUM5!$H$3:$L$165,3,FALSE),0) -> 101 | G91: =IFERROR(VLOOKUP(B91,[1]NUM5!$H$3:$L$165,4,FALSE),0) -> 179 | Q91: =SUM(E91:P91) -> 364
A92: TOTAL SALAMANCA | C92: =+D92/Metas!I16 -> 0.22447558 | D92: =+Q92/R92 -> 0.22447558 | E92: =SUM(E82:E91) -> 888 | F92: =SUM(F82:F91) -> 868 | G92: =SUM(G82:G91) -> 1144 | H92: =SUM(H82:H91) -> 0 | I92: =SUM(I82:I91) -> 0 | J92: =SUM(J82:J91) -> 0 | K92: =SUM(K82:K91) -> 0 | L92: =SUM(L82:L91) -> 0 | ... Q92: =SUM(Q82:Q91) -> 2900 | R92: 12919
A93: 04301-OVALLE | B93: 105315-CES. RURAL C. DE TAMAYA | E93: =IFERROR(VLOOKUP(B93,[1]NUM5!$H$3:$L$165,2,FALSE),0) -> 521 | F93: =IFERROR(VLOOKUP(B93,[1]NUM5!$H$3:$L$165,3,FALSE),0) -> 664 | G93: =IFERROR(VLOOKUP(B93,[1]NUM5!$H$3:$L$165,4,FALSE),0) -> 587 | Q93: =SUM(E93:P93) -> 1772
A94: 04301-OVALLE | B94: 105317-CES. JORGE JORDAN D. | E94: =IFERROR(VLOOKUP(B94,[1]NUM5!$H$3:$L$165,2,FALSE),0) -> 1732 | F94: =IFERROR(VLOOKUP(B94,[1]NUM5!$H$3:$L$165,3,FALSE),0) -> 1677 | G94: =IFERROR(VLOOKUP(B94,[1]NUM5!$H$3:$L$165,4,FALSE),0) -> 1801 | Q94: =SUM(E94:P94) -> 5210
A95: 04301-OVALLE | B95: 105322-CES. MARCOS MACUADA | E95: =IFERROR(VLOOKUP(B95,[1]NUM5!$H$3:$L$165,2,FALSE),0) -> 3027 | F95: =IFERROR(VLOOKUP(B95,[1]NUM5!$H$3:$L$165,3,FALSE),0) -> 2794 | G95: =IFERROR(VLOOKUP(B95,[1]NUM5!$H$3:$L$165,4,FALSE),0) -> 2803 | Q95: =SUM(E95:P95) -> 8624
A96: 04301-OVALLE | B96: 105324-CES. SOTAQUI | E96: =IFERROR(VLOOKUP(B96,[1]NUM5!$H$3:$L$165,2,FALSE),0) -> 530 | F96: =IFERROR(VLOOKUP(B96,[1]NUM5!$H$3:$L$165,3,FALSE),0) -> 648 | G96: =IFERROR(VLOOKUP(B96,[1]NUM5!$H$3:$L$165,4,FALSE),0) -> 667 | Q96: =SUM(E96:P96) -> 1845
A97: 04301-OVALLE | B97: 105415-P.S.R. BARRAZA | E97: =IFERROR(VLOOKUP(B97,[1]NUM5!$H$3:$L$165,2,FALSE),0) -> 109 | F97: =IFERROR(VLOOKUP(B97,[1]NUM5!$H$3:$L$165,3,FALSE),0) -> 153 | G97: =IFERROR(VLOOKUP(B97,[1]NUM5!$H$3:$L$165,4,FALSE),0) -> 91 | Q97: =SUM(E97:P97) -> 353
A98: 04301-OVALLE | B98: 105416-P.S.R. CAMARICO | E98: =IFERROR(VLOOKUP(B98,[1]NUM5!$H$3:$L$165,2,FALSE),0) -> 220 | F98: =IFERROR(VLOOKUP(B98,[1]NUM5!$H$3:$L$165,3,FALSE),0) -> 174 | G98: =IFERROR(VLOOKUP(B98,[1]NUM5!$H$3:$L$165,4,FALSE),0) -> 184 | Q98: =SUM(E98:P98) -> 578
A99: 04301-OVALLE | B99: 105417-P.S.R. ALCONES BAJOS | E99: =IFERROR(VLOOKUP(B99,[1]NUM5!$H$3:$L$165,2,FALSE),0) -> 99 | F99: =IFERROR(VLOOKUP(B99,[1]NUM5!$H$3:$L$165,3,FALSE),0) -> 180 | G99: =IFERROR(VLOOKUP(B99,[1]NUM5!$H$3:$L$165,4,FALSE),0) -> 116 | Q99: =SUM(E99:P99) -> 395
A100: 04301-OVALLE | B100: 105419-P.S.R. LAS SOSSAS | E100: =IFERROR(VLOOKUP(B100,[1]NUM5!$H$3:$L$165,2,FALSE),0) -> 11 | F100: =IFERROR(VLOOKUP(B100,[1]NUM5!$H$3:$L$165,3,FALSE),0) -> 38 | G100: =IFERROR(VLOOKUP(B100,[1]NUM5!$H$3:$L$165,4,FALSE),0) -> 22 | Q100: =SUM(E100:P100) -> 71
A101: 04301-OVALLE | B101: 105420-P.S.R. LIMARI | E101: =IFERROR(VLOOKUP(B101,[1]NUM5!$H$3:$L$165,2,FALSE),0) -> 0 | F101: =IFERROR(VLOOKUP(B101,[1]NUM5!$H$3:$L$165,3,FALSE),0) -> 0 | G101: =IFERROR(VLOOKUP(B101,[1]NUM5!$H$3:$L$165,4,FALSE),0) -> 0 | Q101: =SUM(E101:P101) -> 0
A102: 04301-OVALLE | B102: 105422-P.S.R. HORNILLOS | E102: =IFERROR(VLOOKUP(B102,[1]NUM5!$H$3:$L$165,2,FALSE),0) -> 39 | F102: =IFERROR(VLOOKUP(B102,[1]NUM5!$H$3:$L$165,3,FALSE),0) -> 46 | G102: =IFERROR(VLOOKUP(B102,[1]NUM5!$H$3:$L$165,4,FALSE),0) -> 32 | Q102: =SUM(E102:P102) -> 117
A103: 04301-OVALLE | B103: 105437-P.S.R. CHALINGA | E103: =IFERROR(VLOOKUP(B103,[1]NUM5!$H$3:$L$165,2,FALSE),0) -> 56 | F103: =IFERROR(VLOOKUP(B103,[1]NUM5!$H$3:$L$165,3,FALSE),0) -> 90 | G103: =IFERROR(VLOOKUP(B103,[1]NUM5!$H$3:$L$165,4,FALSE),0) -> 108 | Q103: =SUM(E103:P103) -> 254
A104: 04301-OVALLE | B104: 105439-P.S.R. CERRO BLANCO | E104: =IFERROR(VLOOKUP(B104,[1]NUM5!$H$3:$L$165,2,FALSE),0) -> 39 | F104: =IFERROR(VLOOKUP(B104,[1]NUM5!$H$3:$L$165,3,FALSE),0) -> 19 | G104: =IFERROR(VLOOKUP(B104,[1]NUM5!$H$3:$L$165,4,FALSE),0) -> 42 | Q104: =SUM(E104:P104) -> 100
... A110: 04301-OVALLE | B110: 200367-CECOF COLONIA LIMARÍ | E110: =IFERROR(VLOOKUP(B110,[1]NUM5!$H$3:$L$165,2,FALSE),0) -> 225 | F110: =IFERROR(VLOOKUP(B110,[1]NUM5!$H$3:$L$165,3,FALSE),0) -> 438 | G110: =IFERROR(VLOOKUP(B110,[1]NUM5!$H$3:$L$165,4,FALSE),0) -> 346 | Q110: =SUM(E110:P110) -> 1009
A111: TOTAL OVALLE | C111: =+D111/Metas!I13 -> 0.24610586 | D111: =+Q111/R111 -> 0.24610586 | E111: =SUM(E93:E110) -> 8126 | F111: =SUM(F93:F110) -> 8057 | G111: =SUM(G93:G110) -> 8038 | H111: =SUM(H93:H110) -> 0 | I111: =SUM(I93:I110) -> 0 | J111: =SUM(J93:J110) -> 0 | K111: =SUM(K93:K110) -> 0 | L111: =SUM(L93:L110) -> 0 | ... Q111: =SUM(Q93:Q110) -> 24221 | R111: 98417
A112: 04302-COMBARBALÁ | B112: 105433-P.S.R. SAN LORENZO | E112: =IFERROR(VLOOKUP(B112,[1]NUM5!$H$3:$L$165,2,FALSE),0) -> 11 | F112: =IFERROR(VLOOKUP(B112,[1]NUM5!$H$3:$L$165,3,FALSE),0) -> 12 | G112: =IFERROR(VLOOKUP(B112,[1]NUM5!$H$3:$L$165,4,FALSE),0) -> 18 | Q112: =SUM(E112:P112) -> 41
A113: 04302-COMBARBALÁ | B113: 105434-P.S.R. SAN MARCOS | E113: =IFERROR(VLOOKUP(B113,[1]NUM5!$H$3:$L$165,2,FALSE),0) -> 29 | F113: =IFERROR(VLOOKUP(B113,[1]NUM5!$H$3:$L$165,3,FALSE),0) -> 17 | G113: =IFERROR(VLOOKUP(B113,[1]NUM5!$H$3:$L$165,4,FALSE),0) -> 41 | Q113: =SUM(E113:P113) -> 87
A114: 04302-COMBARBALÁ | B114: 105441-P.S.R. MANQUEHUA | E114: =IFERROR(VLOOKUP(B114,[1]NUM5!$H$3:$L$165,2,FALSE),0) -> 49 | F114: =IFERROR(VLOOKUP(B114,[1]NUM5!$H$3:$L$165,3,FALSE),0) -> 61 | G114: =IFERROR(VLOOKUP(B114,[1]NUM5!$H$3:$L$165,4,FALSE),0) -> 20 | Q114: =SUM(E114:P114) -> 130
...

Sheet META 6
A1: COMUNA | B1: ESTABLECIMIENTO | C1: CUMPLIMIENTO | D1: Indicador | E1: META 6: SOLICITUDES DE INTERCONSULTAS A ESPECIALIDAD NIVEL SECUNDARIO DESDE LA APS
E2: NUMERADOR | R2: DENOMINADOR
E10: Nº de SIC a especialidad médica en el nivel secundario | R10: N° Total de Consultas y Controles Médicos en APS
D11: Resultado | E11: ENERO | F11: FEBRERO | G11: MARZO | H11: ABRIL | I11: MAYO | J11: JUNIO | K11: JULIO | L11: AGOSTO | M11: SEPBRE | N11: OCTBRE | O11: NOVBRE | P11: DICBRE | Q11: TOTAL | R11: ENERO | S11: FEBRERO | T11: MARZO | U11: ABRIL | V11: MAYO | W11: JUNIO | X11: JULIO | Y11: AGOSTO | Z11: SEPBRE | AA11: OCTBRE | AB11: NOVBRE | AC11: DICBRE | AD11: TOTAL
A12: 04101-LA SERENA | B12: 105300-CES. CARDENAL CARO | E12: =IFERROR(VLOOKUP(B12,[1]NUM6!$H$3:$L$136,2,FALSE),0) -> 90 | F12: =IFERROR(VLOOKUP(B12,[1]NUM6!$H$3:$L$136,3,FALSE),0) -> 60 | G12: =IFERROR(VLOOKUP(B12,[1]NUM6!$H$3:$L$136,4,FALSE),0) -> 166 | Q12: =SUM(E12:P12) -> 316 | R12: =IFERROR(VLOOKUP(B12,[1]DEN6!$H$3:$L$165,2,FALSE),0) -> 2113 | S12: =IFERROR(VLOOKUP(B12,[1]DEN6!$H$3:$L$165,3,FALSE),0) -> 1609 | T12: =IFERROR(VLOOKUP(B12,[1]DEN6!$H$3:$L$165,4,FALSE),0) -> 1993 | AD12: =SUM(R12:AC12) -> 5715
A13: 04101-LA SERENA | B13: 105301-CES. LAS COMPAÑIAS | E13: =IFERROR(VLOOKUP(B13,[1]NUM6!$H$3:$L$136,2,FALSE),0) -> 98 | F13: =IFERROR(VLOOKUP(B13,[1]NUM6!$H$3:$L$136,3,FALSE),0) -> 0 | G13: =IFERROR(VLOOKUP(B13,[1]NUM6!$H$3:$L$136,4,FALSE),0) -> 179 | Q13: =SUM(E13:P13) -> 277 | R13: =IFERROR(VLOOKUP(B13,[1]DEN6!$H$3:$L$165,2,FALSE),0) -> 2264 | S13: =IFERROR(VLOOKUP(B13,[1]DEN6!$H$3:$L$165,3,FALSE),0) -> 2250 | T13: =IFERROR(VLOOKUP(B13,[1]DEN6!$H$3:$L$165,4,FALSE),0) -> 2721 | AD13: =SUM(R13:AC13) -> 7235
A14: 04101-LA SERENA | B14: 105302-CES. PEDRO AGUIRRE C. | E14: =IFERROR(VLOOKUP(B14,[1]NUM6!$H$3:$L$136,2,FALSE),0) -> 197 | F14: =IFERROR(VLOOKUP(B14,[1]NUM6!$H$3:$L$136,3,FALSE),0) -> 155 | G14: =IFERROR(VLOOKUP(B14,[1]NUM6!$H$3:$L$136,4,FALSE),0) -> 201 | Q14: =SUM(E14:P14) -> 553 | R14: =IFERROR(VLOOKUP(B14,[1]DEN6!$H$3:$L$165,2,FALSE),0) -> 1988 | S14: =IFERROR(VLOOKUP(B14,[1]DEN6!$H$3:$L$165,3,FALSE),0) -> 1764 | T14: =IFERROR(VLOOKUP(B14,[1]DEN6!$H$3:$L$165,4,FALSE),0) -> 1810 | AD14: =SUM(R14:AC14) -> 5562
A15: 04101-LA SERENA | B15: 105313-CES. SCHAFFHAUSER | E15: =IFERROR(VLOOKUP(B15,[1]NUM6!$H$3:$L$136,2,FALSE),0) -> 186 | F15: =IFERROR(VLOOKUP(B15,[1]NUM6!$H$3:$L$136,3,FALSE),0) -> 157 | G15: =IFERROR(VLOOKUP(B15,[1]NUM6!$H$3:$L$136,4,FALSE),0) -> 218 | Q15: =SUM(E15:P15) -> 561 | R15: =IFERROR(VLOOKUP(B15,[1]DEN6!$H$3:$L$165,2,FALSE),0) -> 2364 | S15: =IFERROR(VLOOKUP(B15,[1]DEN6!$H$3:$L$165,3,FALSE),0) -> 1225 | T15: =IFERROR(VLOOKUP(B15,[1]DEN6!$H$3:$L$165,4,FALSE),0) -> 1201 | AD15: =SUM(R15:AC15) -> 4790
A16: 04101-LA SERENA | B16: 105319-CES. CARDENAL R.S.H. | E16: =IFERROR(VLOOKUP(B16,[1]NUM6!$H$3:$L$136,2,FALSE),0) -> 298 | F16: =IFERROR(VLOOKUP(B16,[1]NUM6!$H$3:$L$136,3,FALSE),0) -> 165 | G16: =IFERROR(VLOOKUP(B16,[1]NUM6!$H$3:$L$136,4,FALSE),0) -> 145 | Q16: =SUM(E16:P16) -> 608 | R16: =IFERROR(VLOOKUP(B16,[1]DEN6!$H$3:$L$165,2,FALSE),0) -> 3277 | S16: =IFERROR(VLOOKUP(B16,[1]DEN6!$H$3:$L$165,3,FALSE),0) -> 2869 | T16: =IFERROR(VLOOKUP(B16,[1]DEN6!$H$3:$L$165,4,FALSE),0) -> 2830 | AD16: =SUM(R16:AC16) -> 8976
A17: 04101-LA SERENA | B17: 105325-CESFAM JUAN PABLO II | E17: =IFERROR(VLOOKUP(B17,[1]NUM6!$H$3:$L$136,2,FALSE),0) -> 197 | F17: =IFERROR(VLOOKUP(B17,[1]NUM6!$H$3:$L$136,3,FALSE),0) -> 137 | G17: =IFERROR(VLOOKUP(B17,[1]NUM6!$H$3:$L$136,4,FALSE),0) -> 135 | Q17: =SUM(E17:P17) -> 469 | R17: =IFERROR(VLOOKUP(B17,[1]DEN6!$H$3:$L$165,2,FALSE),0) -> 1589 | S17: =IFERROR(VLOOKUP(B17,[1]DEN6!$H$3:$L$165,3,FALSE),0) -> 1388 | T17: =IFERROR(VLOOKUP(B17,[1]DEN6!$H$3:$L$165,4,FALSE),0) -> 1544 | AD17: =SUM(R17:AC17) -> 4521
A18: 04101-LA SERENA | B18: 105400-P.S.R. ALGARROBITO | E18: =IFERROR(VLOOKUP(B18,[1]NUM6!$H$3:$L$136,2,FALSE),0) -> 39 | F18: =IFERROR(VLOOKUP(B18,[1]NUM6!$H$3:$L$136,3,FALSE),0) -> 36 | G18: =IFERROR(VLOOKUP(B18,[1]NUM6!$H$3:$L$136,4,FALSE),0) -> 26 | Q18: =SUM(E18:P18) -> 101 | R18: =IFERROR(VLOOKUP(B18,[1]DEN6!$H$3:$L$165,2,FALSE),0) -> 272 | S18: =IFERROR(VLOOKUP(B18,[1]DEN6!$H$3:$L$165,3,FALSE),0) -> 324 | T18: =IFERROR(VLOOKUP(B18,[1]DEN6!$H$3:$L$165,4,FALSE),0) -> 229 | AD18: =SUM(R18:AC18) -> 825
A19: 04101-LA SERENA | B19: 105401-P.S.R. LAS ROJAS | E19: =IFERROR(VLOOKUP(B19,[1]NUM6!$H$3:$L$136,2,FALSE),0) -> 7 | F19: =IFERROR(VLOOKUP(B19,[1]NUM6!$H$3:$L$136,3,FALSE),0) -> 4 | G19: =IFERROR(VLOOKUP(B19,[1]NUM6!$H$3:$L$136,4,FALSE),0) -> 2 | Q19: =SUM(E19:P19) -> 13 | R19: =IFERROR(VLOOKUP(B19,[1]DEN6!$H$3:$L$165,2,FALSE),0) -> 37 | S19: =IFERROR(VLOOKUP(B19,[1]DEN6!$H$3:$L$165,3,FALSE),0) -> 33 | T19: =IFERROR(VLOOKUP(B19,[1]DEN6!$H$3:$L$165,4,FALSE),0) -> 49 | AD19: =SUM(R19:AC19) -> 119
A20: 04101-LA SERENA | B20: 105402-P.S.R. EL ROMERO | E20: =IFERROR(VLOOKUP(B20,[1]NUM6!$H$3:$L$136,2,FALSE),0) -> 8 | F20: =IFERROR(VLOOKUP(B20,[1]NUM6!$H$3:$L$136,3,FALSE),0) -> 5 | G20: =IFERROR(VLOOKUP(B20,[1]NUM6!$H$3:$L$136,4,FALSE),0) -> 4 | Q20: =SUM(E20:P20) -> 17 | R20: =IFERROR(VLOOKUP(B20,[1]DEN6!$H$3:$L$165,2,FALSE),0) -> 29 | S20: =IFERROR(VLOOKUP(B20,[1]DEN6!$H$3:$L$165,3,FALSE),0) -> 42 | T20: =IFERROR(VLOOKUP(B20,[1]DEN6!$H$3:$L$165,4,FALSE),0) -> 22 | AD20: =SUM(R20:AC20) -> 93
A21: 04101-LA SERENA | B21: 105499-P.S.R. LAMBERT | E21: =IFERROR(VLOOKUP(B21,[1]NUM6!$H$3:$L$136,2,FALSE),0) -> 1 | F21: =IFERROR(VLOOKUP(B21,[1]NUM6!$H$3:$L$136,3,FALSE),0) -> 3 | G21: =IFERROR(VLOOKUP(B21,[1]NUM6!$H$3:$L$136,4,FALSE),0) -> 0 | Q21: =SUM(E21:P21) -> 4 | R21: =IFERROR(VLOOKUP(B21,[1]DEN6!$H$3:$L$165,2,FALSE),0) -> 25 | S21: =IFERROR(VLOOKUP(B21,[1]DEN6!$H$3:$L$165,3,FALSE),0) -> 50 | T21: =IFERROR(VLOOKUP(B21,[1]DEN6!$H$3:$L$165,4,FALSE),0) -> 37 | AD21: =SUM(R21:AC21) -> 112
A22: 04101-LA SERENA | B22: 105700-CECOF VILLA EL INDIO | E22: =IFERROR(VLOOKUP(B22,[1]NUM6!$H$3:$L$136,2,FALSE),0) -> 7 | F22: =IFERROR(VLOOKUP(B22,[1]NUM6!$H$3:$L$136,3,FALSE),0) -> 0 | G22: =IFERROR(VLOOKUP(B22,[1]NUM6!$H$3:$L$136,4,FALSE),0) -> 1 | Q22: =SUM(E22:P22) -> 8 | R22: =IFERROR(VLOOKUP(B22,[1]DEN6!$H$3:$L$165,2,FALSE),0) -> 256 | S22: =IFERROR(VLOOKUP(B22,[1]DEN6!$H$3:$L$165,3,FALSE),0) -> 142 | T22: =IFERROR(VLOOKUP(B22,[1]DEN6!$H$3:$L$165,4,FALSE),0) -> 248 | AD22: =SUM(R22:AC22) -> 646
A23: 04101-LA SERENA | B23: 105701-CECOF VILLA ALEMANIA | E23: =IFERROR(VLOOKUP(B23,[1]NUM6!$H$3:$L$136,2,FALSE),0) -> 0 | F23: =IFERROR(VLOOKUP(B23,[1]NUM6!$H$3:$L$136,3,FALSE),0) -> 0 | G23: =IFERROR(VLOOKUP(B23,[1]NUM6!$H$3:$L$136,4,FALSE),0) -> 12 | Q23: =SUM(E23:P23) -> 12 | R23: =IFERROR(VLOOKUP(B23,[1]DEN6!$H$3:$L$165,2,FALSE),0) -> 129 | S23: =IFERROR(VLOOKUP(B23,[1]DEN6!$H$3:$L$165,3,FALSE),0) -> 61 | T23: =IFERROR(VLOOKUP(B23,[1]DEN6!$H$3:$L$165,4,FALSE),0) -> 234 | AD23: =SUM(R23:AC23) -> 424
... A25: 04101-LA SERENA | B25: 200402-CECOF ARCOS DE PINAMAR | E25: =IFERROR(VLOOKUP(B25,[1]NUM6!$H$3:$L$136,2,FALSE),0) -> 0 | F25: =IFERROR(VLOOKUP(B25,[1]NUM6!$H$3:$L$136,3,FALSE),0) -> 0 | G25: =IFERROR(VLOOKUP(B25,[1]NUM6!$H$3:$L$136,4,FALSE),0) -> 0 | Q25: =SUM(E25:P25) -> 0 | R25: =IFERROR(VLOOKUP(B25,[1]DEN6!$H$3:$L$165,2,FALSE),0) -> 177 | S25: =IFERROR(VLOOKUP(B25,[1]DEN6!$H$3:$L$165,3,FALSE),0) -> 225 | T25: =IFERROR(VLOOKUP(B25,[1]DEN6!$H$3:$L$165,4,FALSE),0) -> 242 | AD25: =SUM(R25:AC25) -> 644
A26: TOTAL LA SERENA | C26: =Metas!J10/D26 -> 1.3397566 | D26: =+Q26/AD26 -> 0.074565782 | E26: =SUM(E12:E25) -> 1154 | F26: =SUM(F12:F25) -> 735 | G26: =SUM(G12:G25) -> 1099 | H26: =SUM(H12:H25) -> 0 | I26: =SUM(I12:I25) -> 0 | J26: =SUM(J12:J25) -> 0 | K26: =SUM(K12:K25) -> 0 | L26: =SUM(L12:L25) -> 0 | ... AD26: =SUM(AD12:AD25) -> 40072
A27: 04102-COQUIMBO | B27: 105303-CES. SAN JUAN | E27: =IFERROR(VLOOKUP(B27,[1]NUM6!$H$3:$L$136,2,FALSE),0) -> 125 | F27: =IFERROR(VLOOKUP(B27,[1]NUM6!$H$3:$L$136,3,FALSE),0) -> 133 | G27: =IFERROR(VLOOKUP(B27,[1]NUM6!$H$3:$L$136,4,FALSE),0) -> 179 | Q27: =SUM(E27:P27) -> 437 | R27: =IFERROR(VLOOKUP(B27,[1]DEN6!$H$3:$L$165,2,FALSE),0) -> 2438 | S27: =IFERROR(VLOOKUP(B27,[1]DEN6!$H$3:$L$165,3,FALSE),0) -> 3777 | T27: =IFERROR(VLOOKUP(B27,[1]DEN6!$H$3:$L$165,4,FALSE),0) -> 3062 | AD27: =SUM(R27:AC27) -> 9277
A28: 04102-COQUIMBO | B28: 105304-CES. SANTA CECILIA | E28: =IFERROR(VLOOKUP(B28,[1]NUM6!$H$3:$L$136,2,FALSE),0) -> 222 | F28: =IFERROR(VLOOKUP(B28,[1]NUM6!$H$3:$L$136,3,FALSE),0) -> 251 | G28: =IFERROR(VLOOKUP(B28,[1]NUM6!$H$3:$L$136,4,FALSE),0) -> 336 | Q28: =SUM(E28:P28) -> 809 | R28: =IFERROR(VLOOKUP(B28,[1]DEN6!$H$3:$L$165,2,FALSE),0) -> 3492 | S28: =IFERROR(VLOOKUP(B28,[1]DEN6!$H$3:$L$165,3,FALSE),0) -> 3431 | T28: =IFERROR(VLOOKUP(B28,[1]DEN6!$H$3:$L$165,4,FALSE),0) -> 3871 | AD28: =SUM(R28:AC28) -> 10794
A29: 04102-COQUIMBO | B29: 105305-CES. TIERRAS BLANCAS | E29: =IFERROR(VLOOKUP(B29,[1]NUM6!$H$3:$L$136,2,FALSE),0) -> 437 | F29: =IFERROR(VLOOKUP(B29,[1]NUM6!$H$3:$L$136,3,FALSE),0) -> 463 | G29: =IFERROR(VLOOKUP(B29,[1]NUM6!$H$3:$L$136,4,FALSE),0) -> 327 | Q29: =SUM(E29:P29) -> 1227 | R29: =IFERROR(VLOOKUP(B29,[1]DEN6!$H$3:$L$165,2,FALSE),0) -> 3908 | S29: =IFERROR(VLOOKUP(B29,[1]DEN6!$H$3:$L$165,3,FALSE),0) -> 3676 | T29: =IFERROR(VLOOKUP(B29,[1]DEN6!$H$3:$L$165,4,FALSE),0) -> 3240 | AD29: =SUM(R29:AC29) -> 10824
A30: 04102-COQUIMBO | B30: 105321-CES. RURAL TONGOY | E30: =IFERROR(VLOOKUP(B30,[1]NUM6!$H$3:$L$136,2,FALSE),0) -> 66 | F30: =IFERROR(VLOOKUP(B30,[1]NUM6!$H$3:$L$136,3,FALSE),0) -> 53 | G30: =IFERROR(VLOOKUP(B30,[1]NUM6!$H$3:$L$136,4,FALSE),0) -> 18 | Q30: =SUM(E30:P30) -> 137 | R30: =IFERROR(VLOOKUP(B30,[1]DEN6!$H$3:$L$165,2,FALSE),0) -> 693 | S30: =IFERROR(VLOOKUP(B30,[1]DEN6!$H$3:$L$165,3,FALSE),0) -> 646 | T30: =IFERROR(VLOOKUP(B30,[1]DEN6!$H$3:$L$165,4,FALSE),0) -> 714 | AD30: =SUM(R30:AC30) -> 2053
A31: 04102-COQUIMBO | B31: 105323-CES. DR. SERGIO AGUILAR | E31: =IFERROR(VLOOKUP(B31,[1]NUM6!$H$3:$L$136,2,FALSE),0) -> 615 | F31: =IFERROR(VLOOKUP(B31,[1]NUM6!$H$3:$L$136,3,FALSE),0) -> 429 | G31: =IFERROR(VLOOKUP(B31,[1]NUM6!$H$3:$L$136,4,FALSE),0) -> 518 | Q31: =SUM(E31:P31) -> 1562 | R31: =IFERROR(VLOOKUP(B31,[1]DEN6!$H$3:$L$165,2,FALSE),0) -> 2979 | S31: =IFERROR(VLOOKUP(B31,[1]DEN6!$H$3:$L$165,3,FALSE),0) -> 1047 | T31: =IFERROR(VLOOKUP(B31,[1]DEN6!$H$3:$L$165,4,FALSE),0) -> 3076 | AD31: =SUM(R31:AC31) -> 7102
A32: 04102-COQUIMBO | B32: 105404-P.S.R. EL TANGUE | E32: =IFERROR(VLOOKUP(B32,[1]NUM6!$H$3:$L$136,2,FALSE),0) -> 3 | F32: =IFERROR(VLOOKUP(B32,[1]NUM6!$H$3:$L$136,3,FALSE),0) -> 0 | G32: =IFERROR(VLOOKUP(B32,[1]NUM6!$H$3:$L$136,4,FALSE),0) -> 0 | Q32: =SUM(E32:P32) -> 3 | R32: =IFERROR(VLOOKUP(B32,[1]DEN6!$H$3:$L$165,2,FALSE),0) -> 18 | S32: =IFERROR(VLOOKUP(B32,[1]DEN6!$H$3:$L$165,3,FALSE),0) -> 0 | T32: =IFERROR(VLOOKUP(B32,[1]DEN6!$H$3:$L$165,4,FALSE),0) -> 13 | AD32: =SUM(R32:AC32) -> 31
A33: 04102-COQUIMBO | B33: 105405-P.S.R. GUANAQUEROS | E33: =IFERROR(VLOOKUP(B33,[1]NUM6!$H$3:$L$136,2,FALSE),0) -> 15 | F33: =IFERROR(VLOOKUP(B33,[1]NUM6!$H$3:$L$136,3,FALSE),0) -> 22 | G33: =IFERROR(VLOOKUP(B33,[1]NUM6!$H$3:$L$136,4,FALSE),0) -> 18 | Q33: =SUM(E33:P33) -> 55 | R33: =IFERROR(VLOOKUP(B33,[1]DEN6!$H$3:$L$165,2,FALSE),0) -> 218 | S33: =IFERROR(VLOOKUP(B33,[1]DEN6!$H$3:$L$165,3,FALSE),0) -> 226 | T33: =IFERROR(VLOOKUP(B33,[1]DEN6!$H$3:$L$165,4,FALSE),0) -> 279 | AD33: =SUM(R33:AC33) -> 723
A34: 04102-COQUIMBO | B34: 105406-P.S.R. PAN DE AZUCAR | E34: =IFERROR(VLOOKUP(B34,[1]NUM6!$H$3:$L$136,2,FALSE),0) -> 97 | F34: =IFERROR(VLOOKUP(B34,[1]NUM6!$H$3:$L$136,3,FALSE),0) -> 63 | G34: =IFERROR(VLOOKUP(B34,[1]NUM6!$H$3:$L$136,4,FALSE),0) -> 53 | Q34: =SUM(E34:P34) -> 213 | R34: =IFERROR(VLOOKUP(B34,[1]DEN6!$H$3:$L$165,2,FALSE),0) -> 976 | S34: =IFERROR(VLOOKUP(B34,[1]DEN6!$H$3:$L$165,3,FALSE),0) -> 703 | T34: =IFERROR(VLOOKUP(B34,[1]DEN6!$H$3:$L$165,4,FALSE),0) -> 942 | AD34: =SUM(R34:AC34) -> 2621
A35: 04102-COQUIMBO | B35: 105407-P.S.R. TAMBILLOS | E35: =IFERROR(VLOOKUP(B35,[1]NUM6!$H$3:$L$136,2,FALSE),0) -> 4 | F35: =IFERROR(VLOOKUP(B35,[1]NUM6!$H$3:$L$136,3,FALSE),0) -> 6 | G35: =IFERROR(VLOOKUP(B35,[1]NUM6!$H$3:$L$136,4,FALSE),0) -> 9 | Q35: =SUM(E35:P35) -> 19 | R35: =IFERROR(VLOOKUP(B35,[1]DEN6!$H$3:$L$165,2,FALSE),0) -> 55 | S35: =IFERROR(VLOOKUP(B35,[1]DEN6!$H$3:$L$165,3,FALSE),0) -> 27 | T35: =IFERROR(VLOOKUP(B35,[1]DEN6!$H$3:$L$165,4,FALSE),0) -> 44 | AD35: =SUM(R35:AC35) -> 126
A36: 04102-COQUIMBO | B36: 105705-CECOF EL ALBA | E36: =IFERROR(VLOOKUP(B36,[1]NUM6!$H$3:$L$136,2,FALSE),0) -> 65 | F36: =IFERROR(VLOOKUP(B36,[1]NUM6!$H$3:$L$136,3,FALSE),0) -> 30 | G36: =IFERROR(VLOOKUP(B36,[1]NUM6!$H$3:$L$136,4,FALSE),0) -> 34 | Q36: =SUM(E36:P36) -> 129 | R36: =IFERROR(VLOOKUP(B36,[1]DEN6!$H$3:$L$165,2,FALSE),0) -> 419 | S36: =IFERROR(VLOOKUP(B36,[1]DEN6!$H$3:$L$165,3,FALSE),0) -> 345 | T36: =IFERROR(VLOOKUP(B36,[1]DEN6!$H$3:$L$165,4,FALSE),0) -> 401 | AD36: =SUM(R36:AC36) -> 1165
A37: 04102-COQUIMBO | B37: 200273-CECOF PUNTA MIRA | E37: =IFERROR(VLOOKUP(B37,[1]NUM6!$H$3:$L$136,2,FALSE),0) -> 10 | F37: =IFERROR(VLOOKUP(B37,[1]NUM6!$H$3:$L$136,3,FALSE),0) -> 9 | G37: =IFERROR(VLOOKUP(B37,[1]NUM6!$H$3:$L$136,4,FALSE),0) -> 21 | Q37: =SUM(E37:P37) -> 40 | R37: =IFERROR(VLOOKUP(B37,[1]DEN6!$H$3:$L$165,2,FALSE),0) -> 759 | S37: =IFERROR(VLOOKUP(B37,[1]DEN6!$H$3:$L$165,3,FALSE),0) -> 514 | T37: =IFERROR(VLOOKUP(B37,[1]DEN6!$H$3:$L$165,4,FALSE),0) -> 364 | AD37: =SUM(R37:AC37) -> 1637
A38: TOTAL COQUIMBO | C38: =+Metas!J8/D38 -> 0.9999276 | D38: =+Q38/AD38 -> 0.099907234 | E38: =SUM(E27:E37) -> 1659 | F38: =SUM(F27:F37) -> 1459 | G38: =SUM(G27:G37) -> 1513 | H38: =SUM(H27:H37) -> 0 | I38: =SUM(I27:I37) -> 0 | J38: =SUM(J27:J37) -> 0 | K38: =SUM(K27:K37) -> 0 | L38: =SUM(L27:L37) -> 0 | ... AD38: =SUM(AD27:AD37) -> 46353
A39: 04106-VICUÑA | B39: 105467-P.S.R. DIAGUITAS | E39: =IFERROR(VLOOKUP(B39,[1]NUM6!$H$3:$L$136,2,FALSE),0) -> 9 | F39: =IFERROR(VLOOKUP(B39,[1]NUM6!$H$3:$L$136,3,FALSE),0) -> 10 | G39: =IFERROR(VLOOKUP(B39,[1]NUM6!$H$3:$L$136,4,FALSE),0) -> 7 | Q39: =SUM(E39:P39) -> 26 | R39: =IFERROR(VLOOKUP(B39,[1]DEN6!$H$3:$L$165,2,FALSE),0) -> 157 | S39: =IFERROR(VLOOKUP(B39,[1]DEN6!$H$3:$L$165,3,FALSE),0) -> 92 | T39: =IFERROR(VLOOKUP(B39,[1]DEN6!$H$3:$L$165,4,FALSE),0) -> 125 | AD39: =SUM(R39:AC39) -> 374
A40: 04106-VICUÑA | B40: 105468-P.S.R. EL MOLLE | E40: =IFERROR(VLOOKUP(B40,[1]NUM6!$H$3:$L$136,2,FALSE),0) -> 2 | F40: =IFERROR(VLOOKUP(B40,[1]NUM6!$H$3:$L$136,3,FALSE),0) -> 6 | G40: =IFERROR(VLOOKUP(B40,[1]NUM6!$H$3:$L$136,4,FALSE),0) -> 2 | Q40: =SUM(E40:P40) -> 10 | R40: =IFERROR(VLOOKUP(B40,[1]DEN6!$H$3:$L$165,2,FALSE),0) -> 88 | S40: =IFERROR(VLOOKUP(B40,[1]DEN6!$H$3:$L$165,3,FALSE),0) -> 60 | T40: =IFERROR(VLOOKUP(B40,[1]DEN6!$H$3:$L$165,4,FALSE),0) -> 65 | AD40: =SUM(R40:AC40) -> 213
A41: 04106-VICUÑA | B41: 105469-P.S.R. EL TAMBO | E41: =IFERROR(VLOOKUP(B41,[1]NUM6!$H$3:$L$136,2,FALSE),0) -> 12 | F41: =IFERROR(VLOOKUP(B41,[1]NUM6!$H$3:$L$136,3,FALSE),0) -> 5 | G41: =IFERROR(VLOOKUP(B41,[1]NUM6!$H$3:$L$136,4,FALSE),0) -> 10 | Q41: =SUM(E41:P41) -> 27 | R41: =IFERROR(VLOOKUP(B41,[1]DEN6!$H$3:$L$165,2,FALSE),0) -> 129 | S41: =IFERROR(VLOOKUP(B41,[1]DEN6!$H$3:$L$165,3,FALSE),0) -> 110 | T41: =IFERROR(VLOOKUP(B41,[1]DEN6!$H$3:$L$165,4,FALSE),0) -> 114 | AD41: =SUM(R41:AC41) -> 353
A42: 04106-VICUÑA | B42: 105470-P.S.R. HUANTA | E42: =IFERROR(VLOOKUP(B42,[1]NUM6!$H$3:$L$136,2,FALSE),0) -> 6 | F42: =IFERROR(VLOOKUP(B42,[1]NUM6!$H$3:$L$136,3,FALSE),0) -> 1 | G42: =IFERROR(VLOOKUP(B42,[1]NUM6!$H$3:$L$136,4,FALSE),0) -> 2 | Q42: =SUM(E42:P42) -> 9 | R42: =IFERROR(VLOOKUP(B42,[1]DEN6!$H$3:$L$165,2,FALSE),0) -> 19 | S42: =IFERROR(VLOOKUP(B42,[1]DEN6!$H$3:$L$165,3,FALSE),0) -> 21 | T42: =IFERROR(VLOOKUP(B42,[1]DEN6!$H$3:$L$165,4,FALSE),0) -> 19 | AD42: =SUM(R42:AC42) -> 59
A43: 04106-VICUÑA | B43: 105471-P.S.R. PERALILLO | E43: =IFERROR(VLOOKUP(B43,[1]NUM6!$H$3:$L$136,2,FALSE),0) -> 5 | F43: =IFERROR(VLOOKUP(B43,[1]NUM6!$H$3:$L$136,3,FALSE),0) -> 5 | G43: =IFERROR(VLOOKUP(B43,[1]NUM6!$H$3:$L$136,4,FALSE),0) -> 14 | Q43: =SUM(E43:P43) -> 24 | R43: =IFERROR(VLOOKUP(B43,[1]DEN6!$H$3:$L$165,2,FALSE),0) -> 94 | S43: =IFERROR(VLOOKUP(B43,[1]DEN6!$H$3:$L$165,3,FALSE),0) -> 147 | T43: =IFERROR(VLOOKUP(B43,[1]DEN6!$H$3:$L$165,4,FALSE),0) -> 140 | AD43: =SUM(R43:AC43) -> 381
A44: 04106-VICUÑA | B44: 105472-P.S.R. RIVADAVIA | E44: =IFERROR(VLOOKUP(B44,[1]NUM6!$H$3:$L$136,2,FALSE),0) -> 7 | F44: =IFERROR(VLOOKUP(B44,[1]NUM6!$H$3:$L$136,3,FALSE),0) -> 8 | G44: =IFERROR(VLOOKUP(B44,[1]NUM6!$H$3:$L$136,4,FALSE),0) -> 4 | Q44: =SUM(E44:P44) -> 19 | R44: =IFERROR(VLOOKUP(B44,[1]DEN6!$H$3:$L$165,2,FALSE),0) -> 127 | S44: =IFERROR(VLOOKUP(B44,[1]DEN6!$H$3:$L$165,3,FALSE),0) -> 75 | T44: =IFERROR(VLOOKUP(B44,[1]DEN6!$H$3:$L$165,4,FALSE),0) -> 90 | AD44: =SUM(R44:AC44) -> 292
A45: 04106-VICUÑA | B45: 105473-P.S.R. TALCUNA | E45: =IFERROR(VLOOKUP(B45,[1]NUM6!$H$3:$L$136,2,FALSE),0) -> 7 | F45: =IFERROR(VLOOKUP(B45,[1]NUM6!$H$3:$L$136,3,FALSE),0) -> 12 | G45: =IFERROR(VLOOKUP(B45,[1]NUM6!$H$3:$L$136,4,FALSE),0) -> 6 | Q45: =SUM(E45:P45) -> 25 | R45: =IFERROR(VLOOKUP(B45,[1]DEN6!$H$3:$L$165,2,FALSE),0) -> 113 | S45: =IFERROR(VLOOKUP(B45,[1]DEN6!$H$3:$L$165,3,FALSE),0) -> 112 | T45: =IFERROR(VLOOKUP(B45,[1]DEN6!$H$3:$L$165,4,FALSE),0) -> 99 | AD45: =SUM(R45:AC45) -> 324
A46: 04106-VICUÑA | B46: 105474-P.S.R. CHAPILCA | E46: =IFERROR(VLOOKUP(B46,[1]NUM6!$H$3:$L$136,2,FALSE),0) -> 0 | F46: =IFERROR(VLOOKUP(B46,[1]NUM6!$H$3:$L$136,3,FALSE),0) -> 4 | G46: =IFERROR(VLOOKUP(B46,[1]NUM6!$H$3:$L$136,4,FALSE),0) -> 5 | Q46: =SUM(E46:P46) -> 9 | R46: =IFERROR(VLOOKUP(B46,[1]DEN6!$H$3:$L$165,2,FALSE),0) -> 16 | S46: =IFERROR(VLOOKUP(B46,[1]DEN6!$H$3:$L$165,3,FALSE),0) -> 36 | T46: =IFERROR(VLOOKUP(B46,[1]DEN6!$H$3:$L$165,4,FALSE),0) -> 33 | AD46: =SUM(R46:AC46) -> 85
A47: 04106-VICUÑA | B47: 105502-P.S.R. CALINGASTA | E47: =IFERROR(VLOOKUP(B47,[1]NUM6!$H$3:$L$136,2,FALSE),0) -> 16 | F47: =IFERROR(VLOOKUP(B47,[1]NUM6!$H$3:$L$136,3,FALSE),0) -> 12 | G47: =IFERROR(VLOOKUP(B47,[1]NUM6!$H$3:$L$136,4,FALSE),0) -> 8 | Q47: =SUM(E47:P47) -> 36 | R47: =IFERROR(VLOOKUP(B47,[1]DEN6!$H$3:$L$165,2,FALSE),0) -> 192 | S47: =IFERROR(VLOOKUP(B47,[1]DEN6!$H$3:$L$165,3,FALSE),0) -> 220 | T47: =IFERROR(VLOOKUP(B47,[1]DEN6!$H$3:$L$165,4,FALSE),0) -> 210 | AD47: =SUM(R47:AC47) -> 622
A48: 04106-VICUÑA | B48: 105509-P.S.R. GUALLIGUAICA | E48: =IFERROR(VLOOKUP(B48,[1]NUM6!$H$3:$L$136,2,FALSE),0) -> 1 | F48: =IFERROR(VLOOKUP(B48,[1]NUM6!$H$3:$L$136,3,FALSE),0) -> 1 | G48: =IFERROR(VLOOKUP(B48,[1]NUM6!$H$3:$L$136,4,FALSE),0) -> 1 | Q48: =SUM(E48:P48) -> 3 | R48: =IFERROR(VLOOKUP(B48,[1]DEN6!$H$3:$L$165,2,FALSE),0) -> 25 | S48: =IFERROR(VLOOKUP(B48,[1]DEN6!$H$3:$L$165,3,FALSE),0) -> 30 | T48: =IFERROR(VLOOKUP(B48,[1]DEN6!$H$3:$L$165,4,FALSE),0) -> 18 | AD48: =SUM(R48:AC48) -> 73
A49: TOTAL VICUÑA | C49: =+Metas!J17/D49 -> 1.4751191 | D49: =+Q49/AD49 -> 0.067723343 | E49: =SUM(E39:E48) -> 65 | F49: =SUM(F39:F48) -> 64 | G49: =SUM(G39:G48) -> 59 | H49: =SUM(H39:H48) -> 0 | I49: =SUM(I39:I48) -> 0 | J49: =SUM(J39:J48) -> 0 | K49: =SUM(K39:K48) -> 0 | L49: =SUM(L39:L48) -> 0 | ... AD49: =SUM(AD39:AD48) -> 2776
A50: 04201-ILLAPEL | B50: 105326-CESFAM SAN RAFAEL | E50: =IFERROR(VLOOKUP(B50,[1]NUM6!$H$3:$L$136,2,FALSE),0) -> 83 | F50: =IFERROR(VLOOKUP(B50,[1]NUM6!$H$3:$L$136,3,FALSE),0) -> 50 | G50: =IFERROR(VLOOKUP(B50,[1]NUM6!$H$3:$L$136,4,FALSE),0) -> 65 | Q50: =SUM(E50:P50) -> 198 | R50: =IFERROR(VLOOKUP(B50,[1]DEN6!$H$3:$L$165,2,FALSE),0) -> 434 | S50: =IFERROR(VLOOKUP(B50,[1]DEN6!$H$3:$L$165,3,FALSE),0) -> 1153 | T50: =IFERROR(VLOOKUP(B50,[1]DEN6!$H$3:$L$165,4,FALSE),0) -> 734 | AD50: =SUM(R50:AC50) -> 2321
A51: 04201-ILLAPEL | B51: 105443-P.S.R. CARCAMO | E51: =IFERROR(VLOOKUP(B51,[1]NUM6!$H$3:$L$136,2,FALSE),0) -> 1 | F51: =IFERROR(VLOOKUP(B51,[1]NUM6!$H$3:$L$136,3,FALSE),0) -> 2 | G51: =IFERROR(VLOOKUP(B51,[1]NUM6!$H$3:$L$136,4,FALSE),0) -> 5 | Q51: =SUM(E51:P51) -> 8 | R51: =IFERROR(VLOOKUP(B51,[1]DEN6!$H$3:$L$165,2,FALSE),0) -> 26 | S51: =IFERROR(VLOOKUP(B51,[1]DEN6!$H$3:$L$165,3,FALSE),0) -> 61 | T51: =IFERROR(VLOOKUP(B51,[1]DEN6!$H$3:$L$165,4,FALSE),0) -> 71 | AD51: =SUM(R51:AC51) -> 158
A52: 04201-ILLAPEL | B52: 105444-P.S.R. HUINTIL | E52: =IFERROR(VLOOKUP(B52,[1]NUM6!$H$3:$L$136,2,FALSE),0) -> 0 | F52: =IFERROR(VLOOKUP(B52,[1]NUM6!$H$3:$L$136,3,FALSE),0) -> 5 | G52: =IFERROR(VLOOKUP(B52,[1]NUM6!$H$3:$L$136,4,FALSE),0) -> 5 | Q52: =SUM(E52:P52) -> 10 | R52: =IFERROR(VLOOKUP(B52,[1]DEN6!$H$3:$L$165,2,FALSE),0) -> 34 | S52: =IFERROR(VLOOKUP(B52,[1]DEN6!$H$3:$L$165,3,FALSE),0) -> 44 | T52: =IFERROR(VLOOKUP(B52,[1]DEN6!$H$3:$L$165,4,FALSE),0) -> 57 | AD52: =SUM(R52:AC52) -> 135
A53: 04201-ILLAPEL | B53: 105445-P.S.R. LIMAHUIDA | E53: =IFERROR(VLOOKUP(B53,[1]NUM6!$H$3:$L$136,2,FALSE),0) -> 8 | F53: =IFERROR(VLOOKUP(B53,[1]NUM6!$H$3:$L$136,3,FALSE),0) -> 5 | G53: =IFERROR(VLOOKUP(B53,[1]NUM6!$H$3:$L$136,4,FALSE),0) -> 7 | Q53: =SUM(E53:P53) -> 20 | R53: =IFERROR(VLOOKUP(B53,[1]DEN6!$H$3:$L$165,2,FALSE),0) -> 0 | S53: =IFERROR(VLOOKUP(B53,[1]DEN6!$H$3:$L$165,3,FALSE),0) -> 46 | T53: =IFERROR(VLOOKUP(B53,[1]DEN6!$H$3:$L$165,4,FALSE),0) -> 36 | AD53: =SUM(R53:AC53) -> 82
A54: 04201-ILLAPEL | B54: 105446-P.S.R. MATANCILLA | E54: =IFERROR(VLOOKUP(B54,[1]NUM6!$H$3:$L$136,2,FALSE),0) -> 2 | F54: =IFERROR(VLOOKUP(B54,[1]NUM6!$H$3:$L$136,3,FALSE),0) -> 1 | G54: =IFERROR(VLOOKUP(B54,[1]NUM6!$H$3:$L$136,4,FALSE),0) -> 0 | Q54: =SUM(E54:P54) -> 3 | R54: =IFERROR(VLOOKUP(B54,[1]DEN6!$H$3:$L$165,2,FALSE),0) -> 19 | S54: =IFERROR(VLOOKUP(B54,[1]DEN6!$H$3:$L$165,3,FALSE),0) -> 11 | T54: =IFERROR(VLOOKUP(B54,[1]DEN6!$H$3:$L$165,4,FALSE),0) -> 9 | AD54: =SUM(R54:AC54) -> 39
A55: 04201-ILLAPEL | B55: 105447-P.S.R. PERALILLO | E55: =IFERROR(VLOOKUP(B55,[1]NUM6!$H$3:$L$136,2,FALSE),0) -> 10 | F55: =IFERROR(VLOOKUP(B55,[1]NUM6!$H$3:$L$136,3,FALSE),0) -> 7 | G55: =IFERROR(VLOOKUP(B55,[1]NUM6!$H$3:$L$136,4,FALSE),0) -> 5 | Q55: =SUM(E55:P55) -> 22 | R55: =IFERROR(VLOOKUP(B55,[1]DEN6!$H$3:$L$165,2,FALSE),0) -> 50 | S55: =IFERROR(VLOOKUP(B55,[1]DEN6!$H$3:$L$165,3,FALSE),0) -> 46 | T55: =IFERROR(VLOOKUP(B55,[1]DEN6!$H$3:$L$165,4,FALSE),0) -> 38 | AD55: =SUM(R55:AC55) -> 134
A56: 04201-ILLAPEL | B56: 105448-P.S.R. SANTA VIRGINIA | E56: =IFERROR(VLOOKUP(B56,[1]NUM6!$H$3:$L$136,2,FALSE),0) -> 1 | F56: =IFERROR(VLOOKUP(B56,[1]NUM6!$H$3:$L$136,3,FALSE),0) -> 2 | G56: =IFERROR(VLOOKUP(B56,[1]NUM6!$H$3:$L$136,4,FALSE),0) -> 2 | Q56: =SUM(E56:P56) -> 5 | R56: =IFERROR(VLOOKUP(B56,[1]DEN6!$H$3:$L$165,2,FALSE),0) -> 32 | S56: =IFERROR(VLOOKUP(B56,[1]DEN6!$H$3:$L$165,3,FALSE),0) -> 31 | T56: =IFERROR(VLOOKUP(B56,[1]DEN6!$H$3:$L$165,4,FALSE),0) -> 61 | AD56: =SUM(R56:AC56) -> 124
A57: 04201-ILLAPEL | B57: 105449-P.S.R. TUNGA NORTE | E57: =IFERROR(VLOOKUP(B57,[1]NUM6!$H$3:$L$136,2,FALSE),0) -> 1 | F57: =IFERROR(VLOOKUP(B57,[1]NUM6!$H$3:$L$136,3,FALSE),0) -> 0 | G57: =IFERROR(VLOOKUP(B57,[1]NUM6!$H$3:$L$136,4,FALSE),0) -> 0 | Q57: =SUM(E57:P57) -> 1 | R57: =IFERROR(VLOOKUP(B57,[1]DEN6!$H$3:$L$165,2,FALSE),0) -> 9 | S57: =IFERROR(VLOOKUP(B57,[1]DEN6!$H$3:$L$165,3,FALSE),0) -> 20 | T57: =IFERROR(VLOOKUP(B57,[1]DEN6!$H$3:$L$165,4,FALSE),0) -> 21 | AD57: =SUM(R57:AC57) -> 50
A58: 04201-ILLAPEL | B58: 105485-P.S.R. PLAN DE HORNOS | E58: =IFERROR(VLOOKUP(B58,[1]NUM6!$H$3:$L$136,2,FALSE),0) -> 5 | F58: =IFERROR(VLOOKUP(B58,[1]NUM6!$H$3:$L$136,3,FALSE),0) -> 5 | G58: =IFERROR(VLOOKUP(B58,[1]NUM6!$H$3:$L$136,4,FALSE),0) -> 5 | Q58: =SUM(E58:P58) -> 15 | R58: =IFERROR(VLOOKUP(B58,[1]DEN6!$H$3:$L$165,2,FALSE),0) -> 84 | S58: =IFERROR(VLOOKUP(B58,[1]DEN6!$H$3:$L$165,3,FALSE),0) -> 51 | T58: =IFERROR(VLOOKUP(B58,[1]DEN6!$H$3:$L$165,4,FALSE),0) -> 73 | AD58: =SUM(R58:AC58) -> 208
A59: 04201-ILLAPEL | B59: 105486-P.S.R. TUNGA SUR | E59: =IFERROR(VLOOKUP(B59,[1]NUM6!$H$3:$L$136,2,FALSE),0) -> 2 | F59: =IFERROR(VLOOKUP(B59,[1]NUM6!$H$3:$L$136,3,FALSE),0) -> 0 | G59: =IFERROR(VLOOKUP(B59,[1]NUM6!$H$3:$L$136,4,FALSE),0) -> 5 | Q59: =SUM(E59:P59) -> 7 | R59: =IFERROR(VLOOKUP(B59,[1]DEN6!$H$3:$L$165,2,FALSE),0) -> 19 | S59: =IFERROR(VLOOKUP(B59,[1]DEN6!$H$3:$L$165,3,FALSE),0) -> 31 | T59: =IFERROR(VLOOKUP(B59,[1]DEN6!$H$3:$L$165,4,FALSE),0) -> 0 | AD59: =SUM(R59:AC59) -> 50
A60: 04201-ILLAPEL | B60: 105487-P.S.R. CAÑAS UNO | E60: =IFERROR(VLOOKUP(B60,[1]NUM6!$H$3:$L$136,2,FALSE),0) -> 18 | F60: =IFERROR(VLOOKUP(B60,[1]NUM6!$H$3:$L$136,3,FALSE),0) -> 14 | G60: =IFERROR(VLOOKUP(B60,[1]NUM6!$H$3:$L$136,4,FALSE),0) -> 15 | Q60: =SUM(E60:P60) -> 47 | R60: =IFERROR(VLOOKUP(B60,[1]DEN6!$H$3:$L$165,2,FALSE),0) -> 118 | S60: =IFERROR(VLOOKUP(B60,[1]DEN6!$H$3:$L$165,3,FALSE),0) -> 142 | T60: =IFERROR(VLOOKUP(B60,[1]DEN6!$H$3:$L$165,4,FALSE),0) -> 140 | AD60: =SUM(R60:AC60) -> 400
A61: 04201-ILLAPEL | B61: 105496-P.S.R. PINTACURA SUR | E61: =IFERROR(VLOOKUP(B61,[1]NUM6!$H$3:$L$136,2,FALSE),0) -> 1 | F61: =IFERROR(VLOOKUP(B61,[1]NUM6!$H$3:$L$136,3,FALSE),0) -> 4 | G61: =IFERROR(VLOOKUP(B61,[1]NUM6!$H$3:$L$136,4,FALSE),0) -> 4 | Q61: =SUM(E61:P61) -> 9 | R61: =IFERROR(VLOOKUP(B61,[1]DEN6!$H$3:$L$165,2,FALSE),0) -> 22 | S61: =IFERROR(VLOOKUP(B61,[1]DEN6!$H$3:$L$165,3,FALSE),0) -> 39 | T61: =IFERROR(VLOOKUP(B61,[1]DEN6!$H$3:$L$165,4,FALSE),0) -> 47 | AD61: =SUM(R61:AC61) -> 108
... A63: 04201-ILLAPEL | B63: 200366-CESFAM URBANO II | E63: =IFERROR(VLOOKUP(B63,[1]NUM6!$H$3:$L$136,2,FALSE),0) -> 127 | F63: =IFERROR(VLOOKUP(B63,[1]NUM6!$H$3:$L$136,3,FALSE),0) -> 92 | G63: =IFERROR(VLOOKUP(B63,[1]NUM6!$H$3:$L$136,4,FALSE),0) -> 80 | Q63: =SUM(E63:P63) -> 299 | R63: =IFERROR(VLOOKUP(B63,[1]DEN6!$H$3:$L$165,2,FALSE),0) -> 1332 | S63: =IFERROR(VLOOKUP(B63,[1]DEN6!$H$3:$L$165,3,FALSE),0) -> 903 | T63: =IFERROR(VLOOKUP(B63,[1]DEN6!$H$3:$L$165,4,FALSE),0) -> 1006 | AD63: =SUM(R63:AC63) -> 3241
A64: TOTAL ILLAPEL | C64: =+Metas!J9/D64 -> 1.0869059 | D64: =+Q64/AD64 -> 0.091912278 | E64: =SUM(E50:E63) -> 267 | F64: =SUM(F50:F63) -> 189 | G64: =SUM(G50:G63) -> 202 | H64: =SUM(H50:H63) -> 0 | I64: =SUM(I50:I63) -> 0 | J64: =SUM(J50:J63) -> 0 | K64: =SUM(K50:K63) -> 0 | L64: =SUM(L50:L63) -> 0 | ... AD64: =SUM(AD50:AD63) -> 7159
A65: 04202-CANELA | B65: 105309-CES. RURAL CANELA | E65: =IFERROR(VLOOKUP(B65,[1]NUM6!$H$3:$L$136,2,FALSE),0) -> 96 | F65: =IFERROR(VLOOKUP(B65,[1]NUM6!$H$3:$L$136,3,FALSE),0) -> 65 | G65: =IFERROR(VLOOKUP(B65,[1]NUM6!$H$3:$L$136,4,FALSE),0) -> 97 | Q65: =SUM(E65:P65) -> 258 | R65: =IFERROR(VLOOKUP(B65,[1]DEN6!$H$3:$L$165,2,FALSE),0) -> 578 | S65: =IFERROR(VLOOKUP(B65,[1]DEN6!$H$3:$L$165,3,FALSE),0) -> 580 | T65: =IFERROR(VLOOKUP(B65,[1]DEN6!$H$3:$L$165,4,FALSE),0) -> 572 | AD65: =SUM(R65:AC65) -> 1730
A66: 04202-CANELA | B66: 105450-P.S.R. MINCHA NORTE | E66: =IFERROR(VLOOKUP(B66,[1]NUM6!$H$3:$L$136,2,FALSE),0) -> 0 | F66: =IFERROR(VLOOKUP(B66,[1]NUM6!$H$3:$L$136,3,FALSE),0) -> 0 | G66: =IFERROR(VLOOKUP(B66,[1]NUM6!$H$3:$L$136,4,FALSE),0) -> 0 | Q66: =SUM(E66:P66) -> 0 | R66: =IFERROR(VLOOKUP(B66,[1]DEN6!$H$3:$L$165,2,FALSE),0) -> 99 | S66: =IFERROR(VLOOKUP(B66,[1]DEN6!$H$3:$L$165,3,FALSE),0) -> 135 | T66: =IFERROR(VLOOKUP(B66,[1]DEN6!$H$3:$L$165,4,FALSE),0) -> 62 | AD66: =SUM(R66:AC66) -> 296
A67: 04202-CANELA | B67: 105451-P.S.R. AGUA FRIA | E67: =IFERROR(VLOOKUP(B67,[1]NUM6!$H$3:$L$136,2,FALSE),0) -> 0 | F67: =IFERROR(VLOOKUP(B67,[1]NUM6!$H$3:$L$136,3,FALSE),0) -> 0 | G67: =IFERROR(VLOOKUP(B67,[1]NUM6!$H$3:$L$136,4,FALSE),0) -> 0 | Q67: =SUM(E67:P67) -> 0 | R67: =IFERROR(VLOOKUP(B67,[1]DEN6!$H$3:$L$165,2,FALSE),0) -> 33 | S67: =IFERROR(VLOOKUP(B67,[1]DEN6!$H$3:$L$165,3,FALSE),0) -> 16 | T67: =IFERROR(VLOOKUP(B67,[1]DEN6!$H$3:$L$165,4,FALSE),0) -> 16 | AD67: =SUM(R67:AC67) -> 65
A68: 04202-CANELA | B68: 105482-P.S.R. CANELA ALTA | E68: =IFERROR(VLOOKUP(B68,[1]NUM6!$H$3:$L$136,2,FALSE),0) -> 0 | F68: =IFERROR(VLOOKUP(B68,[1]NUM6!$H$3:$L$136,3,FALSE),0) -> 0 | G68: =IFERROR(VLOOKUP(B68,[1]NUM6!$H$3:$L$136,4,FALSE),0) -> 0 | Q68: =SUM(E68:P68) -> 0 | R68: =IFERROR(VLOOKUP(B68,[1]DEN6!$H$3:$L$165,2,FALSE),0) -> 48 | S68: =IFERROR(VLOOKUP(B68,[1]DEN6!$H$3:$L$165,3,FALSE),0) -> 50 | T68: =IFERROR(VLOOKUP(B68,[1]DEN6!$H$3:$L$165,4,FALSE),0) -> 16 | AD68: =SUM(R68:AC68) -> 114
A69: 04202-CANELA | B69: 105483-P.S.R. LOS RULOS | E69: =IFERROR(VLOOKUP(B69,[1]NUM6!$H$3:$L$136,2,FALSE),0) -> 0 | F69: =IFERROR(VLOOKUP(B69,[1]NUM6!$H$3:$L$136,3,FALSE),0) -> 0 | G69: =IFERROR(VLOOKUP(B69,[1]NUM6!$H$3:$L$136,4,FALSE),0) -> 0 | Q69: =SUM(E69:P69) -> 0 | R69: =IFERROR(VLOOKUP(B69,[1]DEN6!$H$3:$L$165,2,FALSE),0) -> 14 | S69: =IFERROR(VLOOKUP(B69,[1]DEN6!$H$3:$L$165,3,FALSE),0) -> 12 | T69: =IFERROR(VLOOKUP(B69,[1]DEN6!$H$3:$L$165,4,FALSE),0) -> 0 | AD69: =SUM(R69:AC69) -> 26
A70: 04202-CANELA | B70: 105484-P.S.R. HUENTELAUQUEN | E70: =IFERROR(VLOOKUP(B70,[1]NUM6!$H$3:$L$136,2,FALSE),0) -> 0 | F70: =IFERROR(VLOOKUP(B70,[1]NUM6!$H$3:$L$136,3,FALSE),0) -> 0 | G70: =IFERROR(VLOOKUP(B70,[1]NUM6!$H$3:$L$136,4,FALSE),0) -> 0 | Q70: =SUM(E70:P70) -> 0 | R70: =IFERROR(VLOOKUP(B70,[1]DEN6!$H$3:$L$165,2,FALSE),0) -> 29 | S70: =IFERROR(VLOOKUP(B70,[1]DEN6!$H$3:$L$165,3,FALSE),0) -> 51 | T70: =IFERROR(VLOOKUP(B70,[1]DEN6!$H$3:$L$165,4,FALSE),0) -> 29 | AD70: =SUM(R70:AC70) -> 109
A71: 04202-CANELA | B71: 105488-P.S.R. ESPIRITU SANTO | E71: =IFERROR(VLOOKUP(B71,[1]NUM6!$H$3:$L$136,2,FALSE),0) -> 0 | F71: =IFERROR(VLOOKUP(B71,[1]NUM6!$H$3:$L$136,3,FALSE),0) -> 0 | G71: =IFERROR(VLOOKUP(B71,[1]NUM6!$H$3:$L$136,4,FALSE),0) -> 0 | Q71: =SUM(E71:P71) -> 0 | R71: =IFERROR(VLOOKUP(B71,[1]DEN6!$H$3:$L$165,2,FALSE),0) -> 10 | S71: =IFERROR(VLOOKUP(B71,[1]DEN6!$H$3:$L$165,3,FALSE),0) -> 12 | T71: =IFERROR(VLOOKUP(B71,[1]DEN6!$H$3:$L$165,4,FALSE),0) -> 0 | AD71: =SUM(R71:AC71) -> 22
A72: 04202-CANELA | B72: 105493-P.S.R. MINCHA SUR | E72: =IFERROR(VLOOKUP(B72,[1]NUM6!$H$3:$L$136,2,FALSE),0) -> 0 | F72: =IFERROR(VLOOKUP(B72,[1]NUM6!$H$3:$L$136,3,FALSE),0) -> 0 | G72: =IFERROR(VLOOKUP(B72,[1]NUM6!$H$3:$L$136,4,FALSE),0) -> 0 | Q72: =SUM(E72:P72) -> 0 | R72: =IFERROR(VLOOKUP(B72,[1]DEN6!$H$3:$L$165,2,FALSE),0) -> 12 | S72: =IFERROR(VLOOKUP(B72,[1]DEN6!$H$3:$L$165,3,FALSE),0) -> 16 | T72: =IFERROR(VLOOKUP(B72,[1]DEN6!$H$3:$L$165,4,FALSE),0) -> 0 | AD72: =SUM(R72:AC72) -> 28
A73: 04202-CANELA | B73: 105497-P.S.R. JABONERIA | E73: =IFERROR(VLOOKUP(B73,[1]NUM6!$H$3:$L$136,2,FALSE),0) -> 0 | F73: =IFERROR(VLOOKUP(B73,[1]NUM6!$H$3:$L$136,3,FALSE),0) -> 0 | G73: =IFERROR(VLOOKUP(B73,[1]NUM6!$H$3:$L$136,4,FALSE),0) -> 0 | Q73: =SUM(E73:P73) -> 0 | R73: =IFERROR(VLOOKUP(B73,[1]DEN6!$H$3:$L$165,2,FALSE),0) -> 11 | S73: =IFERROR(VLOOKUP(B73,[1]DEN6!$H$3:$L$165,3,FALSE),0) -> 9 | T73: =IFERROR(VLOOKUP(B73,[1]DEN6!$H$3:$L$165,4,FALSE),0) -> 14 | AD73: =SUM(R73:AC73) -> 34
A74: 04202-CANELA | B74: 105498-P.S.R. QUEBRADA DE LINARES | E74: =IFERROR(VLOOKUP(B74,[1]NUM6!$H$3:$L$136,2,FALSE),0) -> 0 | F74: =IFERROR(VLOOKUP(B74,[1]NUM6!$H$3:$L$136,3,FALSE),0) -> 0 | G74: =IFERROR(VLOOKUP(B74,[1]NUM6!$H$3:$L$136,4,FALSE),0) -> 0 | Q74: =SUM(E74:P74) -> 0 | R74: =IFERROR(VLOOKUP(B74,[1]DEN6!$H$3:$L$165,2,FALSE),0) -> 9 | S74: =IFERROR(VLOOKUP(B74,[1]DEN6!$H$3:$L$165,3,FALSE),0) -> 13 | T74: =IFERROR(VLOOKUP(B74,[1]DEN6!$H$3:$L$165,4,FALSE),0) -> 16 | AD74: =SUM(R74:AC74) -> 38
A75: TOTAL CANELA | C75: =+Metas!J6/D75 -> 0.9533093 | D75: =+Q75/AD75 -> 0.10479285 | E75: =SUM(E65:E74) -> 96 | F75: =SUM(F65:F74) -> 65 | G75: =SUM(G65:G74) -> 97 | H75: =SUM(H65:H74) -> 0 | I75: =SUM(I65:I74) -> 0 | J75: =SUM(J65:J74) -> 0 | K75: =SUM(K65:K74) -> 0 | L75: =SUM(L65:L74) -> 0 | ... AD75: =SUM(AD65:AD74) -> 2462
A76: 04203-LOS VILOS | B76: 105478-P.S.R. CAIMANES | E76: =IFERROR(VLOOKUP(B76,[1]NUM6!$H$3:$L$136,2,FALSE),0) -> 12 | F76: =IFERROR(VLOOKUP(B76,[1]NUM6!$H$3:$L$136,3,FALSE),0) -> 5 | G76: =IFERROR(VLOOKUP(B76,[1]NUM6!$H$3:$L$136,4,FALSE),0) -> 12 | Q76: =SUM(E76:P76) -> 29 | R76: =IFERROR(VLOOKUP(B76,[1]DEN6!$H$3:$L$165,2,FALSE),0) -> 100 | S76: =IFERROR(VLOOKUP(B76,[1]DEN6!$H$3:$L$165,3,FALSE),0) -> 58 | T76: =IFERROR(VLOOKUP(B76,[1]DEN6!$H$3:$L$165,4,FALSE),0) -> 84 | AD76: =SUM(R76:AC76) -> 242
A77: 04203-LOS VILOS | B77: 105479-P.S.R. GUANGUALI | E77: =IFERROR(VLOOKUP(B77,[1]NUM6!$H$3:$L$136,2,FALSE),0) -> 2 | F77: =IFERROR(VLOOKUP(B77,[1]NUM6!$H$3:$L$136,3,FALSE),0) -> 3 | G77: =IFERROR(VLOOKUP(B77,[1]NUM6!$H$3:$L$136,4,FALSE),0) -> 3 | Q77: =SUM(E77:P77) -> 8 | R77: =IFERROR(VLOOKUP(B77,[1]DEN6!$H$3:$L$165,2,FALSE),0) -> 77 | S77: =IFERROR(VLOOKUP(B77,[1]DEN6!$H$3:$L$165,3,FALSE),0) -> 42 | T77: =IFERROR(VLOOKUP(B77,[1]DEN6!$H$3:$L$165,4,FALSE),0) -> 62 | AD77: =SUM(R77:AC77) -> 181
A78: 04203-LOS VILOS | B78: 105480-P.S.R. QUILIMARI | E78: =IFERROR(VLOOKUP(B78,[1]NUM6!$H$3:$L$136,2,FALSE),0) -> 15 | F78: =IFERROR(VLOOKUP(B78,[1]NUM6!$H$3:$L$136,3,FALSE),0) -> 9 | G78: =IFERROR(VLOOKUP(B78,[1]NUM6!$H$3:$L$136,4,FALSE),0) -> 4 | Q78: =SUM(E78:P78) -> 28 | R78: =IFERROR(VLOOKUP(B78,[1]DEN6!$H$3:$L$165,2,FALSE),0) -> 360 | S78: =IFERROR(VLOOKUP(B78,[1]DEN6!$H$3:$L$165,3,FALSE),0) -> 369 | T78: =IFERROR(VLOOKUP(B78,[1]DEN6!$H$3:$L$165,4,FALSE),0) -> 295 | AD78: =SUM(R78:AC78) -> 1024
A79: 04203-LOS VILOS | B79: 105481-P.S.R. TILAMA | E79: =IFERROR(VLOOKUP(B79,[1]NUM6!$H$3:$L$136,2,FALSE),0) -> 3 | F79: =IFERROR(VLOOKUP(B79,[1]NUM6!$H$3:$L$136,3,FALSE),0) -> 1 | G79: =IFERROR(VLOOKUP(B79,[1]NUM6!$H$3:$L$136,4,FALSE),0) -> 1 | Q79: =SUM(E79:P79) -> 5 | R79: =IFERROR(VLOOKUP(B79,[1]DEN6!$H$3:$L$165,2,FALSE),0) -> 24 | S79: =IFERROR(VLOOKUP(B79,[1]DEN6!$H$3:$L$165,3,FALSE),0) -> 36 | T79: =IFERROR(VLOOKUP(B79,[1]DEN6!$H$3:$L$165,4,FALSE),0) -> 27 | AD79: =SUM(R79:AC79) -> 87
A80: 04203-LOS VILOS | B80: 105511-P.S.R. LOS CONDORES | E80: =IFERROR(VLOOKUP(B80,[1]NUM6!$H$3:$L$136,2,FALSE),0) -> 5 | F80: =IFERROR(VLOOKUP(B80,[1]NUM6!$H$3:$L$136,3,FALSE),0) -> 2 | G80: =IFERROR(VLOOKUP(B80,[1]NUM6!$H$3:$L$136,4,FALSE),0) -> 0 | Q80: =SUM(E80:P80) -> 7 | R80: =IFERROR(VLOOKUP(B80,[1]DEN6!$H$3:$L$165,2,FALSE),0) -> 69 | S80: =IFERROR(VLOOKUP(B80,[1]DEN6!$H$3:$L$165,3,FALSE),0) -> 79 | T80: =IFERROR(VLOOKUP(B80,[1]DEN6!$H$3:$L$165,4,FALSE),0) -> 67 | AD80: =SUM(R80:AC80) -> 215
A81: TOTAL LOS VILOS | C81: =+Metas!J11/D81 -> 2.2691571 | D81: =+Q81/AD81 -> 0.044025157 | E81: =SUM(E76:E80) -> 37 | F81: =SUM(F76:F80) -> 20 | G81: =SUM(G76:G80) -> 20 | H81: =SUM(H76:H80) -> 0 | I81: =SUM(I76:I80) -> 0 | J81: =SUM(J76:J80) -> 0 | K81: =SUM(K76:K80) -> 0 | L81: =SUM(L76:L80) -> 0 | ... AD81: =SUM(AD76:AD80) -> 1749
A82: 04204-SALAMANCA | B82: 105452-P.S.R. CUNCUMEN | E82: =IFERROR(VLOOKUP(B82,[1]NUM6!$H$3:$L$136,2,FALSE),0) -> 2 | F82: =IFERROR(VLOOKUP(B82,[1]NUM6!$H$3:$L$136,3,FALSE),0) -> 13 | G82: =IFERROR(VLOOKUP(B82,[1]NUM6!$H$3:$L$136,4,FALSE),0) -> 0 | Q82: =SUM(E82:P82) -> 15 | R82: =IFERROR(VLOOKUP(B82,[1]DEN6!$H$3:$L$165,2,FALSE),0) -> 24 | S82: =IFERROR(VLOOKUP(B82,[1]DEN6!$H$3:$L$165,3,FALSE),0) -> 21 | T82: =IFERROR(VLOOKUP(B82,[1]DEN6!$H$3:$L$165,4,FALSE),0) -> 64 | AD82: =SUM(R82:AC82) -> 109
A83: 04204-SALAMANCA | B83: 105453-P.S.R. TRANQUILLA | E83: =IFERROR(VLOOKUP(B83,[1]NUM6!$H$3:$L$136,2,FALSE),0) -> 9 | F83: =IFERROR(VLOOKUP(B83,[1]NUM6!$H$3:$L$136,3,FALSE),0) -> 16 | G83: =IFERROR(VLOOKUP(B83,[1]NUM6!$H$3:$L$136,4,FALSE),0) -> 0 | Q83: =SUM(E83:P83) -> 25 | R83: =IFERROR(VLOOKUP(B83,[1]DEN6!$H$3:$L$165,2,FALSE),0) -> 192 | S83: =IFERROR(VLOOKUP(B83,[1]DEN6!$H$3:$L$165,3,FALSE),0) -> 90 | T83: =IFERROR(VLOOKUP(B83,[1]DEN6!$H$3:$L$165,4,FALSE),0) -> 184 | AD83: =SUM(R83:AC83) -> 466
A84: 04204-SALAMANCA | B84: 105454-P.S.R. CUNLAGUA | E84: =IFERROR(VLOOKUP(B84,[1]NUM6!$H$3:$L$136,2,FALSE),0) -> 3 | F84: =IFERROR(VLOOKUP(B84,[1]NUM6!$H$3:$L$136,3,FALSE),0) -> 8 | G84: =IFERROR(VLOOKUP(B84,[1]NUM6!$H$3:$L$136,4,FALSE),0) -> 0 | Q84: =SUM(E84:P84) -> 11 | R84: =IFERROR(VLOOKUP(B84,[1]DEN6!$H$3:$L$165,2,FALSE),0) -> 55 | S84: =IFERROR(VLOOKUP(B84,[1]DEN6!$H$3:$L$165,3,FALSE),0) -> 42 | T84: =IFERROR(VLOOKUP(B84,[1]DEN6!$H$3:$L$165,4,FALSE),0) -> 33 | AD84: =SUM(R84:AC84) -> 130
A85: 04204-SALAMANCA | B85: 105455-P.S.R. CHILLEPIN | E85: =IFERROR(VLOOKUP(B85,[1]NUM6!$H$3:$L$136,2,FALSE),0) -> 5 | F85: =IFERROR(VLOOKUP(B85,[1]NUM6!$H$3:$L$136,3,FALSE),0) -> 22 | G85: =IFERROR(VLOOKUP(B85,[1]NUM6!$H$3:$L$136,4,FALSE),0) -> 0 | Q85: =SUM(E85:P85) -> 27 | R85: =IFERROR(VLOOKUP(B85,[1]DEN6!$H$3:$L$165,2,FALSE),0) -> 71 | S85: =IFERROR(VLOOKUP(B85,[1]DEN6!$H$3:$L$165,3,FALSE),0) -> 22 | T85: =IFERROR(VLOOKUP(B85,[1]DEN6!$H$3:$L$165,4,FALSE),0) -> 50 | AD85: =SUM(R85:AC85) -> 143
A86: 04204-SALAMANCA | B86: 105456-P.S.R. LLIMPO | E86: =IFERROR(VLOOKUP(B86,[1]NUM6!$H$3:$L$136,2,FALSE),0) -> 8 | F86: =IFERROR(VLOOKUP(B86,[1]NUM6!$H$3:$L$136,3,FALSE),0) -> 19 | G86: =IFERROR(VLOOKUP(B86,[1]NUM6!$H$3:$L$136,4,FALSE),0) -> 0 | Q86: =SUM(E86:P86) -> 27 | R86: =IFERROR(VLOOKUP(B86,[1]DEN6!$H$3:$L$165,2,FALSE),0) -> 78 | S86: =IFERROR(VLOOKUP(B86,[1]DEN6!$H$3:$L$165,3,FALSE),0) -> 83 | T86: =IFERROR(VLOOKUP(B86,[1]DEN6!$H$3:$L$165,4,FALSE),0) -> 78 | AD86: =SUM(R86:AC86) -> 239
A87: 04204-SALAMANCA | B87: 105457-P.S.R. SAN AGUSTIN | E87: =IFERROR(VLOOKUP(B87,[1]NUM6!$H$3:$L$136,2,FALSE),0) -> 1 | F87: =IFERROR(VLOOKUP(B87,[1]NUM6!$H$3:$L$136,3,FALSE),0) -> 9 | G87: =IFERROR(VLOOKUP(B87,[1]NUM6!$H$3:$L$136,4,FALSE),0) -> 0 | Q87: =SUM(E87:P87) -> 10 | R87: =IFERROR(VLOOKUP(B87,[1]DEN6!$H$3:$L$165,2,FALSE),0) -> 0 | S87: =IFERROR(VLOOKUP(B87,[1]DEN6!$H$3:$L$165,3,FALSE),0) -> 72 | T87: =IFERROR(VLOOKUP(B87,[1]DEN6!$H$3:$L$165,4,FALSE),0) -> 93 | AD87: =SUM(R87:AC87) -> 165
A88: 04204-SALAMANCA | B88: 105458-P.S.R. TAHUINCO | E88: =IFERROR(VLOOKUP(B88,[1]NUM6!$H$3:$L$136,2,FALSE),0) -> 23 | F88: =IFERROR(VLOOKUP(B88,[1]NUM6!$H$3:$L$136,3,FALSE),0) -> 69 | G88: =IFERROR(VLOOKUP(B88,[1]NUM6!$H$3:$L$136,4,FALSE),0) -> 0 | Q88: =SUM(E88:P88) -> 92 | R88: =IFERROR(VLOOKUP(B88,[1]DEN6!$H$3:$L$165,2,FALSE),0) -> 131 | S88: =IFERROR(VLOOKUP(B88,[1]DEN6!$H$3:$L$165,3,FALSE),0) -> 228 | T88: =IFERROR(VLOOKUP(B88,[1]DEN6!$H$3:$L$165,4,FALSE),0) -> 158 | AD88: =SUM(R88:AC88) -> 517
A89: 04204-SALAMANCA | B89: 105491-P.S.R. QUELEN BAJO | E89: =IFERROR(VLOOKUP(B89,[1]NUM6!$H$3:$L$136,2,FALSE),0) -> 12 | F89: =IFERROR(VLOOKUP(B89,[1]NUM6!$H$3:$L$136,3,FALSE),0) -> 25 | G89: =IFERROR(VLOOKUP(B89,[1]NUM6!$H$3:$L$136,4,FALSE),0) -> 0 | Q89: =SUM(E89:P89) -> 37 | R89: =IFERROR(VLOOKUP(B89,[1]DEN6!$H$3:$L$165,2,FALSE),0) -> 173 | S89: =IFERROR(VLOOKUP(B89,[1]DEN6!$H$3:$L$165,3,FALSE),0) -> 145 | T89: =IFERROR(VLOOKUP(B89,[1]DEN6!$H$3:$L$165,4,FALSE),0) -> 228 | AD89: =SUM(R89:AC89) -> 546
A90: 04204-SALAMANCA | B90: 105492-P.S.R. CAMISA | E90: =IFERROR(VLOOKUP(B90,[1]NUM6!$H$3:$L$136,2,FALSE),0) -> 11 | F90: =IFERROR(VLOOKUP(B90,[1]NUM6!$H$3:$L$136,3,FALSE),0) -> 4 | G90: =IFERROR(VLOOKUP(B90,[1]NUM6!$H$3:$L$136,4,FALSE),0) -> 0 | Q90: =SUM(E90:P90) -> 15 | R90: =IFERROR(VLOOKUP(B90,[1]DEN6!$H$3:$L$165,2,FALSE),0) -> 80 | S90: =IFERROR(VLOOKUP(B90,[1]DEN6!$H$3:$L$165,3,FALSE),0) -> 64 | T90: =IFERROR(VLOOKUP(B90,[1]DEN6!$H$3:$L$165,4,FALSE),0) -> 77 | AD90: =SUM(R90:AC90) -> 221
A91: 04204-SALAMANCA | B91: 105501-P.S.R. ARBOLEDA GRANDE | E91: =IFERROR(VLOOKUP(B91,[1]NUM6!$H$3:$L$136,2,FALSE),0) -> 10 | F91: =IFERROR(VLOOKUP(B91,[1]NUM6!$H$3:$L$136,3,FALSE),0) -> 21 | G91: =IFERROR(VLOOKUP(B91,[1]NUM6!$H$3:$L$136,4,FALSE),0) -> 0 | Q91: =SUM(E91:P91) -> 31 | R91: =IFERROR(VLOOKUP(B91,[1]DEN6!$H$3:$L$165,2,FALSE),0) -> 84 | S91: =IFERROR(VLOOKUP(B91,[1]DEN6!$H$3:$L$165,3,FALSE),0) -> 101 | T91: =IFERROR(VLOOKUP(B91,[1]DEN6!$H$3:$L$165,4,FALSE),0) -> 179 | AD91: =SUM(R91:AC91) -> 364
A92: TOTAL SALAMANCA | C92: =+Metas!J16/D92 -> 0.999 | D92: =+Q92/AD92 -> 0.1 | E92: =SUM(E82:E91) -> 84 | F92: =SUM(F82:F91) -> 206 | G92: =SUM(G82:G91) -> 0 | H92: =SUM(H82:H91) -> 0 | I92: =SUM(I82:I91) -> 0 | J92: =SUM(J82:J91) -> 0 | K92: =SUM(K82:K91) -> 0 | L92: =SUM(L82:L91) -> 0 | ... AD92: =SUM(AD82:AD91) -> 2900
A93: 04301-OVALLE | B93: 105315-CES. RURAL C. DE TAMAYA | E93: =IFERROR(VLOOKUP(B93,[1]NUM6!$H$3:$L$136,2,FALSE),0) -> 40 | F93: =IFERROR(VLOOKUP(B93,[1]NUM6!$H$3:$L$136,3,FALSE),0) -> 59 | G93: =IFERROR(VLOOKUP(B93,[1]NUM6!$H$3:$L$136,4,FALSE),0) -> 29 | Q93: =SUM(E93:P93) -> 128 | R93: =IFERROR(VLOOKUP(B93,[1]DEN6!$H$3:$L$165,2,FALSE),0) -> 521 | S93: =IFERROR(VLOOKUP(B93,[1]DEN6!$H$3:$L$165,3,FALSE),0) -> 664 | T93: =IFERROR(VLOOKUP(B93,[1]DEN6!$H$3:$L$165,4,FALSE),0) -> 587 | AD93: =SUM(R93:AC93) -> 1772
A94: 04301-OVALLE | B94: 105317-CES. JORGE JORDAN D. | E94: =IFERROR(VLOOKUP(B94,[1]NUM6!$H$3:$L$136,2,FALSE),0) -> 163 | F94: =IFERROR(VLOOKUP(B94,[1]NUM6!$H$3:$L$136,3,FALSE),0) -> 225 | G94: =IFERROR(VLOOKUP(B94,[1]NUM6!$H$3:$L$136,4,FALSE),0) -> 175 | Q94: =SUM(E94:P94) -> 563 | R94: =IFERROR(VLOOKUP(B94,[1]DEN6!$H$3:$L$165,2,FALSE),0) -> 1732 | S94: =IFERROR(VLOOKUP(B94,[1]DEN6!$H$3:$L$165,3,FALSE),0) -> 1677 | T94: =IFERROR(VLOOKUP(B94,[1]DEN6!$H$3:$L$165,4,FALSE),0) -> 1801 | AD94: =SUM(R94:AC94) -> 5210
A95: 04301-OVALLE | B95: 105322-CES. MARCOS MACUADA | E95: =IFERROR(VLOOKUP(B95,[1]NUM6!$H$3:$L$136,2,FALSE),0) -> 268 | F95: =IFERROR(VLOOKUP(B95,[1]NUM6!$H$3:$L$136,3,FALSE),0) -> 266 | G95: =IFERROR(VLOOKUP(B95,[1]NUM6!$H$3:$L$136,4,FALSE),0) -> 219 | Q95: =SUM(E95:P95) -> 753 | R95: =IFERROR(VLOOKUP(B95,[1]DEN6!$H$3:$L$165,2,FALSE),0) -> 3027 | S95: =IFERROR(VLOOKUP(B95,[1]DEN6!$H$3:$L$165,3,FALSE),0) -> 2794 | T95: =IFERROR(VLOOKUP(B95,[1]DEN6!$H$3:$L$165,4,FALSE),0) -> 2803 | AD95: =SUM(R95:AC95) -> 8624
A96: 04301-OVALLE | B96: 105324-CES. SOTAQUI | E96: =IFERROR(VLOOKUP(B96,[1]NUM6!$H$3:$L$136,2,FALSE),0) -> 42 | F96: =IFERROR(VLOOKUP(B96,[1]NUM6!$H$3:$L$136,3,FALSE),0) -> 56 | G96: =IFERROR(VLOOKUP(B96,[1]NUM6!$H$3:$L$136,4,FALSE),0) -> 28 | Q96: =SUM(E96:P96) -> 126 | R96: =IFERROR(VLOOKUP(B96,[1]DEN6!$H$3:$L$165,2,FALSE),0) -> 530 | S96: =IFERROR(VLOOKUP(B96,[1]DEN6!$H$3:$L$165,3,FALSE),0) -> 648 | T96: =IFERROR(VLOOKUP(B96,[1]DEN6!$H$3:$L$165,4,FALSE),0) -> 667 | AD96: =SUM(R96:AC96) -> 1845
A97: 04301-OVALLE | B97: 105415-P.S.R. BARRAZA | E97: =IFERROR(VLOOKUP(B97,[1]NUM6!$H$3:$L$136,2,FALSE),0) -> 8 | F97: =IFERROR(VLOOKUP(B97,[1]NUM6!$H$3:$L$136,3,FALSE),0) -> 6 | G97: =IFERROR(VLOOKUP(B97,[1]NUM6!$H$3:$L$136,4,FALSE),0) -> 0 | Q97: =SUM(E97:P97) -> 14 | R97: =IFERROR(VLOOKUP(B97,[1]DEN6!$H$3:$L$165,2,FALSE),0) -> 109 | S97: =IFERROR(VLOOKUP(B97,[1]DEN6!$H$3:$L$165,3,FALSE),0) -> 153 | T97: =IFERROR(VLOOKUP(B97,[1]DEN6!$H$3:$L$165,4,FALSE),0) -> 91 | AD97: =SUM(R97:AC97) -> 353
A98: 04301-OVALLE | B98: 105416-P.S.R. CAMARICO | E98: =IFERROR(VLOOKUP(B98,[1]NUM6!$H$3:$L$136,2,FALSE),0) -> 19 | F98: =IFERROR(VLOOKUP(B98,[1]NUM6!$H$3:$L$136,3,FALSE),0) -> 4 | G98: =IFERROR(VLOOKUP(B98,[1]NUM6!$H$3:$L$136,4,FALSE),0) -> 7 | Q98: =SUM(E98:P98) -> 30 | R98: =IFERROR(VLOOKUP(B98,[1]DEN6!$H$3:$L$165,2,FALSE),0) -> 220 | S98: =IFERROR(VLOOKUP(B98,[1]DEN6!$H$3:$L$165,3,FALSE),0) -> 174 | T98: =IFERROR(VLOOKUP(B98,[1]DEN6!$H$3:$L$165,4,FALSE),0) -> 184 | AD98: =SUM(R98:AC98) -> 578
A99: 04301-OVALLE | B99: 105417-P.S.R. ALCONES BAJOS | E99: =IFERROR(VLOOKUP(B99,[1]NUM6!$H$3:$L$136,2,FALSE),0) -> 6 | F99: =IFERROR(VLOOKUP(B99,[1]NUM6!$H$3:$L$136,3,FALSE),0) -> 13 | G99: =IFERROR(VLOOKUP(B99,[1]NUM6!$H$3:$L$136,4,FALSE),0) -> 8 | Q99: =SUM(E99:P99) -> 27 | R99: =IFERROR(VLOOKUP(B99,[1]DEN6!$H$3:$L$165,2,FALSE),0) -> 99 | S99: =IFERROR(VLOOKUP(B99,[1]DEN6!$H$3:$L$165,3,FALSE),0) -> 180 | T99: =IFERROR(VLOOKUP(B99,[1]DEN6!$H$3:$L$165,4,FALSE),0) -> 116 | AD99: =SUM(R99:AC99) -> 395
A100: 04301-OVALLE | B100: 105419-P.S.R. LAS SOSSAS | E100: =IFERROR(VLOOKUP(B100,[1]NUM6!$H$3:$L$136,2,FALSE),0) -> 14 | F100: =IFERROR(VLOOKUP(B100,[1]NUM6!$H$3:$L$136,3,FALSE),0) -> 12 | G100: =IFERROR(VLOOKUP(B100,[1]NUM6!$H$3:$L$136,4,FALSE),0) -> 9 | Q100: =SUM(E100:P100) -> 35 | R100: =IFERROR(VLOOKUP(B100,[1]DEN6!$H$3:$L$165,2,FALSE),0) -> 11 | S100: =IFERROR(VLOOKUP(B100,[1]DEN6!$H$3:$L$165,3,FALSE),0) -> 38 | T100: =IFERROR(VLOOKUP(B100,[1]DEN6!$H$3:$L$165,4,FALSE),0) -> 22 | AD100: =SUM(R100:AC100) -> 71
A101: 04301-OVALLE | B101: 105420-P.S.R. LIMARI | E101: =IFERROR(VLOOKUP(B101,[1]NUM6!$H$3:$L$136,2,FALSE),0) -> 0 | F101: =IFERROR(VLOOKUP(B101,[1]NUM6!$H$3:$L$136,3,FALSE),0) -> 0 | G101: =IFERROR(VLOOKUP(B101,[1]NUM6!$H$3:$L$136,4,FALSE),0) -> 0 | Q101: =SUM(E101:P101) -> 0 | R101: =IFERROR(VLOOKUP(B101,[1]DEN6!$H$3:$L$165,2,FALSE),0) -> 0 | S101: =IFERROR(VLOOKUP(B101,[1]DEN6!$H$3:$L$165,3,FALSE),0) -> 0 | T101: =IFERROR(VLOOKUP(B101,[1]DEN6!$H$3:$L$165,4,FALSE),0) -> 0 | AD101: =SUM(R101:AC101) -> 0
A102: 04301-OVALLE | B102: 105422-P.S.R. HORNILLOS | E102: =IFERROR(VLOOKUP(B102,[1]NUM6!$H$3:$L$136,2,FALSE),0) -> 2 | F102: =IFERROR(VLOOKUP(B102,[1]NUM6!$H$3:$L$136,3,FALSE),0) -> 1 | G102: =IFERROR(VLOOKUP(B102,[1]NUM6!$H$3:$L$136,4,FALSE),0) -> 0 | Q102: =SUM(E102:P102) -> 3 | R102: =IFERROR(VLOOKUP(B102,[1]DEN6!$H$3:$L$165,2,FALSE),0) -> 39 | S102: =IFERROR(VLOOKUP(B102,[1]DEN6!$H$3:$L$165,3,FALSE),0) -> 46 | T102: =IFERROR(VLOOKUP(B102,[1]DEN6!$H$3:$L$165,4,FALSE),0) -> 32 | AD102: =SUM(R102:AC102) -> 117
A103: 04301-OVALLE | B103: 105437-P.S.R. CHALINGA | E103: =IFERROR(VLOOKUP(B103,[1]NUM6!$H$3:$L$136,2,FALSE),0) -> 11 | F103: =IFERROR(VLOOKUP(B103,[1]NUM6!$H$3:$L$136,3,FALSE),0) -> 2 | G103: =IFERROR(VLOOKUP(B103,[1]NUM6!$H$3:$L$136,4,FALSE),0) -> 8 | Q103: =SUM(E103:P103) -> 21 | R103: =IFERROR(VLOOKUP(B103,[1]DEN6!$H$3:$L$165,2,FALSE),0) -> 56 | S103: =IFERROR(VLOOKUP(B103,[1]DEN6!$H$3:$L$165,3,FALSE),0) -> 90 | T103: =IFERROR(VLOOKUP(B103,[1]DEN6!$H$3:$L$165,4,FALSE),0) -> 108 | AD103: =SUM(R103:AC103) -> 254
A104: 04301-OVALLE | B104: 105439-P.S.R. CERRO BLANCO | E104: =IFERROR(VLOOKUP(B104,[1]NUM6!$H$3:$L$136,2,FALSE),0) -> 7 | F104: =IFERROR(VLOOKUP(B104,[1]NUM6!$H$3:$L$136,3,FALSE),0) -> 1 | G104: =IFERROR(VLOOKUP(B104,[1]NUM6!$H$3:$L$136,4,FALSE),0) -> 4 | Q104: =SUM(E104:P104) -> 12 | R104: =IFERROR(VLOOKUP(B104,[1]DEN6!$H$3:$L$165,2,FALSE),0) -> 39 | S104: =IFERROR(VLOOKUP(B104,[1]DEN6!$H$3:$L$165,3,FALSE),0) -> 19 | T104: =IFERROR(VLOOKUP(B104,[1]DEN6!$H$3:$L$165,4,FALSE),0) -> 42 | AD104: =SUM(R104:AC104) -> 100
... A110: 04301-OVALLE | B110: 200367-CECOF COLONIA LIMARÍ | E110: =IFERROR(VLOOKUP(B110,[1]NUM6!$H$3:$L$136,2,FALSE),0) -> 10 | F110: =IFERROR(VLOOKUP(B110,[1]NUM6!$H$3:$L$136,3,FALSE),0) -> 0 | G110: =IFERROR(VLOOKUP(B110,[1]NUM6!$H$3:$L$136,4,FALSE),0) -> 19 | Q110: =SUM(E110:P110) -> 29 | R110: =IFERROR(VLOOKUP(B110,[1]DEN6!$H$3:$L$165,2,FALSE),0) -> 225 | S110: =IFERROR(VLOOKUP(B110,[1]DEN6!$H$3:$L$165,3,FALSE),0) -> 438 | T110: =IFERROR(VLOOKUP(B110,[1]DEN6!$H$3:$L$165,4,FALSE),0) -> 346 | AD110: =SUM(R110:AC110) -> 1009
A111: TOTAL OVALLE | C111: =+Metas!J13/D111 -> 1.2295111 | D111: =+Q111/AD111 -> 0.081251806 | E111: =SUM(E93:E110) -> 676 | F111: =SUM(F93:F110) -> 726 | G111: =SUM(G93:G110) -> 566 | H111: =SUM(H93:H110) -> 0 | I111: =SUM(I93:I110) -> 0 | J111: =SUM(J93:J110) -> 0 | K111: =SUM(K93:K110) -> 0 | L111: =SUM(L93:L110) -> 0 | ... AD111: =SUM(AD93:AD110) -> 24221
A112: 04302-COMBARBALÁ | B112: 105433-P.S.R. SAN LORENZO | E112: =IFERROR(VLOOKUP(B112,[1]NUM6!$H$3:$L$136,2,FALSE),0) -> 0 | F112: =IFERROR(VLOOKUP(B112,[1]NUM6!$H$3:$L$136,3,FALSE),0) -> 0 | G112: =IFERROR(VLOOKUP(B112,[1]NUM6!$H$3:$L$136,4,FALSE),0) -> 0 | Q112: =SUM(E112:P112) -> 0 | R112: =IFERROR(VLOOKUP(B112,[1]DEN6!$H$3:$L$165,2,FALSE),0) -> 11 | S112: =IFERROR(VLOOKUP(B112,[1]DEN6!$H$3:$L$165,3,FALSE),0) -> 12 | T112: =IFERROR(VLOOKUP(B112,[1]DEN6!$H$3:$L$165,4,FALSE),0) -> 18 | AD112: =SUM(R112:AC112) -> 41
A113: 04302-COMBARBALÁ | B113: 105434-P.S.R. SAN MARCOS | E113: =IFERROR(VLOOKUP(B113,[1]NUM6!$H$3:$L$136,2,FALSE),0) -> 2 | F113: =IFERROR(VLOOKUP(B113,[1]NUM6!$H$3:$L$136,3,FALSE),0) -> 0 | G113: =IFERROR(VLOOKUP(B113,[1]NUM6!$H$3:$L$136,4,FALSE),0) -> 2 | Q113: =SUM(E113:P113) -> 4 | R113: =IFERROR(VLOOKUP(B113,[1]DEN6!$H$3:$L$165,2,FALSE),0) -> 29 | S113: =IFERROR(VLOOKUP(B113,[1]DEN6!$H$3:$L$165,3,FALSE),0) -> 17 | T113: =IFERROR(VLOOKUP(B113,[1]DEN6!$H$3:$L$165,4,FALSE),0) -> 41 | AD113: =SUM(R113:AC113) -> 87
A114: 04302-COMBARBALÁ | B114: 105441-P.S.R. MANQUEHUA | E114: =IFERROR(VLOOKUP(B114,[1]NUM6!$H$3:$L$136,2,FALSE),0) -> 7 | F114: =IFERROR(VLOOKUP(B114,[1]NUM6!$H$3:$L$136,3,FALSE),0) -> 12 | G114: =IFERROR(VLOOKUP(B114,[1]NUM6!$H$3:$L$136,4,FALSE),0) -> 1 | Q114: =SUM(E114:P114) -> 20 | R114: =IFERROR(VLOOKUP(B114,[1]DEN6!$H$3:$L$165,2,FALSE),0) -> 49 | S114: =IFERROR(VLOOKUP(B114,[1]DEN6!$H$3:$L$165,3,FALSE),0) -> 61 | T114: =IFERROR(VLOOKUP(B114,[1]DEN6!$H$3:$L$165,4,FALSE),0) -> 20 | AD114: =SUM(R114:AC114) -> 130
...

Sheet META 7
A1: COMUNA | B1: ESTABLECIMIENTO | C1: CUMPLIMIENTO | D1: Indicador | E1: META 7: TASA DE VISITA DOMICILIARIA INTEGRAL
E2: NUMERADOR | R2: DENOMINADOR
E10: Nº de visitas domiciliarias integrales realizadas | R10: Nº de familias (población Inscrita / 3,3)
D11: Resultado | E11: ENERO | F11: FEBRERO | G11: MARZO | H11: ABRIL | I11: MAYO | J11: JUNIO | K11: JULIO | L11: AGOSTO | M11: SEPBRE | N11: OCTBRE | O11: NOVBRE | P11: DICBRE | Q11: TOTAL
A12: 04101-LA SERENA | B12: 105300-CES. CARDENAL CARO | E12: =IFERROR(VLOOKUP(B12,[1]NUM7!$H$3:$L$149,2,FALSE),0) -> 197 | F12: =IFERROR(VLOOKUP(B12,[1]NUM7!$H$3:$L$149,3,FALSE),0) -> 62 | G12: =IFERROR(VLOOKUP(B12,[1]NUM7!$H$3:$L$149,4,FALSE),0) -> 511 | Q12: =SUM(E12:P12) -> 770
A13: 04101-LA SERENA | B13: 105301-CES. LAS COMPAÑIAS | E13: =IFERROR(VLOOKUP(B13,[1]NUM7!$H$3:$L$149,2,FALSE),0) -> 76 | F13: =IFERROR(VLOOKUP(B13,[1]NUM7!$H$3:$L$149,3,FALSE),0) -> 82 | G13: =IFERROR(VLOOKUP(B13,[1]NUM7!$H$3:$L$149,4,FALSE),0) -> 88 | Q13: =SUM(E13:P13) -> 246
A14: 04101-LA SERENA | B14: 105302-CES. PEDRO AGUIRRE C. | E14: =IFERROR(VLOOKUP(B14,[1]NUM7!$H$3:$L$149,2,FALSE),0) -> 114 | F14: =IFERROR(VLOOKUP(B14,[1]NUM7!$H$3:$L$149,3,FALSE),0) -> 70 | G14: =IFERROR(VLOOKUP(B14,[1]NUM7!$H$3:$L$149,4,FALSE),0) -> 115 | Q14: =SUM(E14:P14) -> 299
A15: 04101-LA SERENA | B15: 105313-CES. SCHAFFHAUSER | E15: =IFERROR(VLOOKUP(B15,[1]NUM7!$H$3:$L$149,2,FALSE),0) -> 292 | F15: =IFERROR(VLOOKUP(B15,[1]NUM7!$H$3:$L$149,3,FALSE),0) -> 295 | G15: =IFERROR(VLOOKUP(B15,[1]NUM7!$H$3:$L$149,4,FALSE),0) -> 272 | Q15: =SUM(E15:P15) -> 859
A16: 04101-LA SERENA | B16: 105319-CES. CARDENAL R.S.H. | E16: =IFERROR(VLOOKUP(B16,[1]NUM7!$H$3:$L$149,2,FALSE),0) -> 97 | F16: =IFERROR(VLOOKUP(B16,[1]NUM7!$H$3:$L$149,3,FALSE),0) -> 51 | G16: =IFERROR(VLOOKUP(B16,[1]NUM7!$H$3:$L$149,4,FALSE),0) -> 104 | Q16: =SUM(E16:P16) -> 252
A17: 04101-LA SERENA | B17: 105325-CESFAM JUAN PABLO II | E17: =IFERROR(VLOOKUP(B17,[1]NUM7!$H$3:$L$149,2,FALSE),0) -> 97 | F17: =IFERROR(VLOOKUP(B17,[1]NUM7!$H$3:$L$149,3,FALSE),0) -> 78 | G17: =IFERROR(VLOOKUP(B17,[1]NUM7!$H$3:$L$149,4,FALSE),0) -> 122 | Q17: =SUM(E17:P17) -> 297
A18: 04101-LA SERENA | B18: 105400-P.S.R. ALGARROBITO | E18: =IFERROR(VLOOKUP(B18,[1]NUM7!$H$3:$L$149,2,FALSE),0) -> 31 | F18: =IFERROR(VLOOKUP(B18,[1]NUM7!$H$3:$L$149,3,FALSE),0) -> 21 | G18: =IFERROR(VLOOKUP(B18,[1]NUM7!$H$3:$L$149,4,FALSE),0) -> 35 | Q18: =SUM(E18:P18) -> 87
A19: 04101-LA SERENA | B19: 105401-P.S.R. LAS ROJAS | E19: =IFERROR(VLOOKUP(B19,[1]NUM7!$H$3:$L$149,2,FALSE),0) -> 9 | F19: =IFERROR(VLOOKUP(B19,[1]NUM7!$H$3:$L$149,3,FALSE),0) -> 12 | G19: =IFERROR(VLOOKUP(B19,[1]NUM7!$H$3:$L$149,4,FALSE),0) -> 8 | Q19: =SUM(E19:P19) -> 29
A20: 04101-LA SERENA | B20: 105402-P.S.R. EL ROMERO | E20: =IFERROR(VLOOKUP(B20,[1]NUM7!$H$3:$L$149,2,FALSE),0) -> 5 | F20: =IFERROR(VLOOKUP(B20,[1]NUM7!$H$3:$L$149,3,FALSE),0) -> 13 | G20: =IFERROR(VLOOKUP(B20,[1]NUM7!$H$3:$L$149,4,FALSE),0) -> 1 | Q20: =SUM(E20:P20) -> 19
A21: 04101-LA SERENA | B21: 105499-P.S.R. LAMBERT | E21: =IFERROR(VLOOKUP(B21,[1]NUM7!$H$3:$L$149,2,FALSE),0) -> 11 | F21: =IFERROR(VLOOKUP(B21,[1]NUM7!$H$3:$L$149,3,FALSE),0) -> 7 | G21: =IFERROR(VLOOKUP(B21,[1]NUM7!$H$3:$L$149,4,FALSE),0) -> 3 | Q21: =SUM(E21:P21) -> 21
A22: 04101-LA SERENA | B22: 105700-CECOF VILLA EL INDIO | E22: =IFERROR(VLOOKUP(B22,[1]NUM7!$H$3:$L$149,2,FALSE),0) -> 13 | F22: =IFERROR(VLOOKUP(B22,[1]NUM7!$H$3:$L$149,3,FALSE),0) -> 10 | G22: =IFERROR(VLOOKUP(B22,[1]NUM7!$H$3:$L$149,4,FALSE),0) -> 35 | Q22: =SUM(E22:P22) -> 58
A23: 04101-LA SERENA | B23: 105701-CECOF VILLA ALEMANIA | E23: =IFERROR(VLOOKUP(B23,[1]NUM7!$H$3:$L$149,2,FALSE),0) -> 2 | F23: =IFERROR(VLOOKUP(B23,[1]NUM7!$H$3:$L$149,3,FALSE),0) -> 9 | G23: =IFERROR(VLOOKUP(B23,[1]NUM7!$H$3:$L$149,4,FALSE),0) -> 3 | Q23: =SUM(E23:P23) -> 14
... A25: 04101-LA SERENA | B25: 200402-CECOF ARCOS DE PINAMAR | E25: =IFERROR(VLOOKUP(B25,[1]NUM7!$H$3:$L$149,2,FALSE),0) -> 29 | F25: =IFERROR(VLOOKUP(B25,[1]NUM7!$H$3:$L$149,3,FALSE),0) -> 23 | G25: =IFERROR(VLOOKUP(B25,[1]NUM7!$H$3:$L$149,4,FALSE),0) -> 22 | Q25: =SUM(E25:P25) -> 74
A26: TOTAL LA SERENA | C26: =+D26/Metas!K10 -> 0.19596823 | D26: =+Q26/R26 -> 0.052911423 | E26: =SUM(E12:E25) -> 983 | F26: =SUM(F12:F25) -> 740 | G26: =SUM(G12:G25) -> 1342 | H26: =SUM(H12:H25) -> 0 | I26: =SUM(I12:I25) -> 0 | J26: =SUM(J12:J25) -> 0 | K26: =SUM(K12:K25) -> 0 | L26: =SUM(L12:L25) -> 0 | ... Q26: =SUM(Q12:Q25) -> 3065 | R26: 57927 | Z26: =SUM(Z12:Z25) -> 0 | AA26: =SUM(AA12:AA25) -> 0 | AB26: =SUM(AB12:AB25) -> 0 | AC26: =SUM(AC12:AC25) -> 0 | AD26: =SUM(AD12:AD25) -> 0
A27: 04102-COQUIMBO | B27: 105303-CES. SAN JUAN | E27: =IFERROR(VLOOKUP(B27,[1]NUM7!$H$3:$L$149,2,FALSE),0) -> 260 | F27: =IFERROR(VLOOKUP(B27,[1]NUM7!$H$3:$L$149,3,FALSE),0) -> 123 | G27: =IFERROR(VLOOKUP(B27,[1]NUM7!$H$3:$L$149,4,FALSE),0) -> 166 | Q27: =SUM(E27:P27) -> 549
A28: 04102-COQUIMBO | B28: 105304-CES. SANTA CECILIA | E28: =IFERROR(VLOOKUP(B28,[1]NUM7!$H$3:$L$149,2,FALSE),0) -> 86 | F28: =IFERROR(VLOOKUP(B28,[1]NUM7!$H$3:$L$149,3,FALSE),0) -> 126 | G28: =IFERROR(VLOOKUP(B28,[1]NUM7!$H$3:$L$149,4,FALSE),0) -> 145 | Q28: =SUM(E28:P28) -> 357
A29: 04102-COQUIMBO | B29: 105305-CES. TIERRAS BLANCAS | E29: =IFERROR(VLOOKUP(B29,[1]NUM7!$H$3:$L$149,2,FALSE),0) -> 203 | F29: =IFERROR(VLOOKUP(B29,[1]NUM7!$H$3:$L$149,3,FALSE),0) -> 156 | G29: =IFERROR(VLOOKUP(B29,[1]NUM7!$H$3:$L$149,4,FALSE),0) -> 227 | Q29: =SUM(E29:P29) -> 586
A30: 04102-COQUIMBO | B30: 105321-CES. RURAL TONGOY | E30: =IFERROR(VLOOKUP(B30,[1]NUM7!$H$3:$L$149,2,FALSE),0) -> 133 | F30: =IFERROR(VLOOKUP(B30,[1]NUM7!$H$3:$L$149,3,FALSE),0) -> 75 | G30: =IFERROR(VLOOKUP(B30,[1]NUM7!$H$3:$L$149,4,FALSE),0) -> 66 | Q30: =SUM(E30:P30) -> 274
A31: 04102-COQUIMBO | B31: 105323-CES. DR. SERGIO AGUILAR | E31: =IFERROR(VLOOKUP(B31,[1]NUM7!$H$3:$L$149,2,FALSE),0) -> 230 | F31: =IFERROR(VLOOKUP(B31,[1]NUM7!$H$3:$L$149,3,FALSE),0) -> 268 | G31: =IFERROR(VLOOKUP(B31,[1]NUM7!$H$3:$L$149,4,FALSE),0) -> 259 | Q31: =SUM(E31:P31) -> 757
A32: 04102-COQUIMBO | B32: 105404-P.S.R. EL TANGUE | E32: =IFERROR(VLOOKUP(B32,[1]NUM7!$H$3:$L$149,2,FALSE),0) -> 0 | F32: =IFERROR(VLOOKUP(B32,[1]NUM7!$H$3:$L$149,3,FALSE),0) -> 0 | G32: =IFERROR(VLOOKUP(B32,[1]NUM7!$H$3:$L$149,4,FALSE),0) -> 1 | Q32: =SUM(E32:P32) -> 1
A33: 04102-COQUIMBO | B33: 105405-P.S.R. GUANAQUEROS | E33: =IFERROR(VLOOKUP(B33,[1]NUM7!$H$3:$L$149,2,FALSE),0) -> 16 | F33: =IFERROR(VLOOKUP(B33,[1]NUM7!$H$3:$L$149,3,FALSE),0) -> 14 | G33: =IFERROR(VLOOKUP(B33,[1]NUM7!$H$3:$L$149,4,FALSE),0) -> 8 | Q33: =SUM(E33:P33) -> 38
A34: 04102-COQUIMBO | B34: 105406-P.S.R. PAN DE AZUCAR | E34: =IFERROR(VLOOKUP(B34,[1]NUM7!$H$3:$L$149,2,FALSE),0) -> 57 | F34: =IFERROR(VLOOKUP(B34,[1]NUM7!$H$3:$L$149,3,FALSE),0) -> 24 | G34: =IFERROR(VLOOKUP(B34,[1]NUM7!$H$3:$L$149,4,FALSE),0) -> 25 | Q34: =SUM(E34:P34) -> 106
A35: 04102-COQUIMBO | B35: 105407-P.S.R. TAMBILLOS | E35: =IFERROR(VLOOKUP(B35,[1]NUM7!$H$3:$L$149,2,FALSE),0) -> 0 | F35: =IFERROR(VLOOKUP(B35,[1]NUM7!$H$3:$L$149,3,FALSE),0) -> 1 | G35: =IFERROR(VLOOKUP(B35,[1]NUM7!$H$3:$L$149,4,FALSE),0) -> 3 | Q35: =SUM(E35:P35) -> 4
A36: 04102-COQUIMBO | B36: 105705-CECOF EL ALBA | E36: =IFERROR(VLOOKUP(B36,[1]NUM7!$H$3:$L$149,2,FALSE),0) -> 30 | F36: =IFERROR(VLOOKUP(B36,[1]NUM7!$H$3:$L$149,3,FALSE),0) -> 12 | G36: =IFERROR(VLOOKUP(B36,[1]NUM7!$H$3:$L$149,4,FALSE),0) -> 28 | Q36: =SUM(E36:P36) -> 70
A37: 04102-COQUIMBO | B37: 200273-CECOF PUNTA MIRA | E37: =IFERROR(VLOOKUP(B37,[1]NUM7!$H$3:$L$149,2,FALSE),0) -> 37 | F37: =IFERROR(VLOOKUP(B37,[1]NUM7!$H$3:$L$149,3,FALSE),0) -> 58 | G37: =IFERROR(VLOOKUP(B37,[1]NUM7!$H$3:$L$149,4,FALSE),0) -> 29 | Q37: =SUM(E37:P37) -> 124
A38: TOTAL COQUIMBO | C38: =+D38/Metas!K8 -> 0.20288829 | D38: =+Q38/R38 -> 0.050722073 | E38: =SUM(E27:E37) -> 1052 | F38: =SUM(F27:F37) -> 857 | G38: =SUM(G27:G37) -> 957 | H38: =SUM(H27:H37) -> 0 | I38: =SUM(I27:I37) -> 0 | J38: =SUM(J27:J37) -> 0 | K38: =SUM(K27:K37) -> 0 | L38: =SUM(L27:L37) -> 0 | ... Q38: =SUM(Q27:Q37) -> 2866 | R38: 56504
A39: 04106-VICUÑA | B39: 105467-P.S.R. DIAGUITAS | E39: =IFERROR(VLOOKUP(B39,[1]NUM7!$H$3:$L$149,2,FALSE),0) -> 17 | F39: =IFERROR(VLOOKUP(B39,[1]NUM7!$H$3:$L$149,3,FALSE),0) -> 14 | G39: =IFERROR(VLOOKUP(B39,[1]NUM7!$H$3:$L$149,4,FALSE),0) -> 22 | Q39: =SUM(E39:P39) -> 53
A40: 04106-VICUÑA | B40: 105468-P.S.R. EL MOLLE | E40: =IFERROR(VLOOKUP(B40,[1]NUM7!$H$3:$L$149,2,FALSE),0) -> 20 | F40: =IFERROR(VLOOKUP(B40,[1]NUM7!$H$3:$L$149,3,FALSE),0) -> 27 | G40: =IFERROR(VLOOKUP(B40,[1]NUM7!$H$3:$L$149,4,FALSE),0) -> 3 | Q40: =SUM(E40:P40) -> 50
A41: 04106-VICUÑA | B41: 105469-P.S.R. EL TAMBO | E41: =IFERROR(VLOOKUP(B41,[1]NUM7!$H$3:$L$149,2,FALSE),0) -> 22 | F41: =IFERROR(VLOOKUP(B41,[1]NUM7!$H$3:$L$149,3,FALSE),0) -> 14 | G41: =IFERROR(VLOOKUP(B41,[1]NUM7!$H$3:$L$149,4,FALSE),0) -> 9 | Q41: =SUM(E41:P41) -> 45
A42: 04106-VICUÑA | B42: 105470-P.S.R. HUANTA | E42: =IFERROR(VLOOKUP(B42,[1]NUM7!$H$3:$L$149,2,FALSE),0) -> 7 | F42: =IFERROR(VLOOKUP(B42,[1]NUM7!$H$3:$L$149,3,FALSE),0) -> 1 | G42: =IFERROR(VLOOKUP(B42,[1]NUM7!$H$3:$L$149,4,FALSE),0) -> 3 | Q42: =SUM(E42:P42) -> 11
A43: 04106-VICUÑA | B43: 105471-P.S.R. PERALILLO | E43: =IFERROR(VLOOKUP(B43,[1]NUM7!$H$3:$L$149,2,FALSE),0) -> 27 | F43: =IFERROR(VLOOKUP(B43,[1]NUM7!$H$3:$L$149,3,FALSE),0) -> 24 | G43: =IFERROR(VLOOKUP(B43,[1]NUM7!$H$3:$L$149,4,FALSE),0) -> 38 | Q43: =SUM(E43:P43) -> 89
A44: 04106-VICUÑA | B44: 105472-P.S.R. RIVADAVIA | E44: =IFERROR(VLOOKUP(B44,[1]NUM7!$H$3:$L$149,2,FALSE),0) -> 23 | F44: =IFERROR(VLOOKUP(B44,[1]NUM7!$H$3:$L$149,3,FALSE),0) -> 13 | G44: =IFERROR(VLOOKUP(B44,[1]NUM7!$H$3:$L$149,4,FALSE),0) -> 12 | Q44: =SUM(E44:P44) -> 48
A45: 04106-VICUÑA | B45: 105473-P.S.R. TALCUNA | E45: =IFERROR(VLOOKUP(B45,[1]NUM7!$H$3:$L$149,2,FALSE),0) -> 25 | F45: =IFERROR(VLOOKUP(B45,[1]NUM7!$H$3:$L$149,3,FALSE),0) -> 20 | G45: =IFERROR(VLOOKUP(B45,[1]NUM7!$H$3:$L$149,4,FALSE),0) -> 8 | Q45: =SUM(E45:P45) -> 53
A46: 04106-VICUÑA | B46: 105474-P.S.R. CHAPILCA | E46: =IFERROR(VLOOKUP(B46,[1]NUM7!$H$3:$L$149,2,FALSE),0) -> 5 | F46: =IFERROR(VLOOKUP(B46,[1]NUM7!$H$3:$L$149,3,FALSE),0) -> 4 | G46: =IFERROR(VLOOKUP(B46,[1]NUM7!$H$3:$L$149,4,FALSE),0) -> 5 | Q46: =SUM(E46:P46) -> 14
A47: 04106-VICUÑA | B47: 105502-P.S.R. CALINGASTA | E47: =IFERROR(VLOOKUP(B47,[1]NUM7!$H$3:$L$149,2,FALSE),0) -> 27 | F47: =IFERROR(VLOOKUP(B47,[1]NUM7!$H$3:$L$149,3,FALSE),0) -> 22 | G47: =IFERROR(VLOOKUP(B47,[1]NUM7!$H$3:$L$149,4,FALSE),0) -> 18 | Q47: =SUM(E47:P47) -> 67
A48: 04106-VICUÑA | B48: 105509-P.S.R. GUALLIGUAICA | E48: =IFERROR(VLOOKUP(B48,[1]NUM7!$H$3:$L$149,2,FALSE),0) -> 11 | F48: =IFERROR(VLOOKUP(B48,[1]NUM7!$H$3:$L$149,3,FALSE),0) -> 5 | G48: =IFERROR(VLOOKUP(B48,[1]NUM7!$H$3:$L$149,4,FALSE),0) -> 7 | Q48: =SUM(E48:P48) -> 23
A49: TOTAL VICUÑA | C49: =+D49/Metas!K17 -> 0.20672849 | D49: =+Q49/R49 -> 0.10129696 | E49: =SUM(E39:E48) -> 184 | F49: =SUM(F39:F48) -> 144 | G49: =SUM(G39:G48) -> 125 | H49: =SUM(H39:H48) -> 0 | I49: =SUM(I39:I48) -> 0 | J49: =SUM(J39:J48) -> 0 | K49: =SUM(K39:K48) -> 0 | L49: =SUM(L39:L48) -> 0 | ... Q49: =SUM(Q39:Q48) -> 453 | R49: 4472
A50: 04201-ILLAPEL | B50: 105326-CESFAM SAN RAFAEL | E50: =IFERROR(VLOOKUP(B50,[1]NUM7!$H$3:$L$149,2,FALSE),0) -> 68 | F50: =IFERROR(VLOOKUP(B50,[1]NUM7!$H$3:$L$149,3,FALSE),0) -> 56 | G50: =IFERROR(VLOOKUP(B50,[1]NUM7!$H$3:$L$149,4,FALSE),0) -> 104 | Q50: =SUM(E50:P50) -> 228
A51: 04201-ILLAPEL | B51: 105443-P.S.R. CARCAMO | E51: =IFERROR(VLOOKUP(B51,[1]NUM7!$H$3:$L$149,2,FALSE),0) -> 4 | F51: =IFERROR(VLOOKUP(B51,[1]NUM7!$H$3:$L$149,3,FALSE),0) -> 9 | G51: =IFERROR(VLOOKUP(B51,[1]NUM7!$H$3:$L$149,4,FALSE),0) -> 31 | Q51: =SUM(E51:P51) -> 44
A52: 04201-ILLAPEL | B52: 105444-P.S.R. HUINTIL | E52: =IFERROR(VLOOKUP(B52,[1]NUM7!$H$3:$L$149,2,FALSE),0) -> 0 | F52: =IFERROR(VLOOKUP(B52,[1]NUM7!$H$3:$L$149,3,FALSE),0) -> 8 | G52: =IFERROR(VLOOKUP(B52,[1]NUM7!$H$3:$L$149,4,FALSE),0) -> 3 | Q52: =SUM(E52:P52) -> 11
A53: 04201-ILLAPEL | B53: 105445-P.S.R. LIMAHUIDA | E53: =IFERROR(VLOOKUP(B53,[1]NUM7!$H$3:$L$149,2,FALSE),0) -> 2 | F53: =IFERROR(VLOOKUP(B53,[1]NUM7!$H$3:$L$149,3,FALSE),0) -> 4 | G53: =IFERROR(VLOOKUP(B53,[1]NUM7!$H$3:$L$149,4,FALSE),0) -> 6 | Q53: =SUM(E53:P53) -> 12
A54: 04201-ILLAPEL | B54: 105446-P.S.R. MATANCILLA | E54: =IFERROR(VLOOKUP(B54,[1]NUM7!$H$3:$L$149,2,FALSE),0) -> 10 | F54: =IFERROR(VLOOKUP(B54,[1]NUM7!$H$3:$L$149,3,FALSE),0) -> 0 | G54: =IFERROR(VLOOKUP(B54,[1]NUM7!$H$3:$L$149,4,FALSE),0) -> 2 | Q54: =SUM(E54:P54) -> 12
A55: 04201-ILLAPEL | B55: 105447-P.S.R. PERALILLO | E55: =IFERROR(VLOOKUP(B55,[1]NUM7!$H$3:$L$149,2,FALSE),0) -> 1 | F55: =IFERROR(VLOOKUP(B55,[1]NUM7!$H$3:$L$149,3,FALSE),0) -> 0 | G55: =IFERROR(VLOOKUP(B55,[1]NUM7!$H$3:$L$149,4,FALSE),0) -> 0 | Q55: =SUM(E55:P55) -> 1
A56: 04201-ILLAPEL | B56: 105448-P.S.R. SANTA VIRGINIA | E56: =IFERROR(VLOOKUP(B56,[1]NUM7!$H$3:$L$149,2,FALSE),0) -> 0 | F56: =IFERROR(VLOOKUP(B56,[1]NUM7!$H$3:$L$149,3,FALSE),0) -> 3 | G56: =IFERROR(VLOOKUP(B56,[1]NUM7!$H$3:$L$149,4,FALSE),0) -> 0 | Q56: =SUM(E56:P56) -> 3
A57: 04201-ILLAPEL | B57: 105449-P.S.R. TUNGA NORTE | E57: =IFERROR(VLOOKUP(B57,[1]NUM7!$H$3:$L$149,2,FALSE),0) -> 6 | F57: =IFERROR(VLOOKUP(B57,[1]NUM7!$H$3:$L$149,3,FALSE),0) -> 0 | G57: =IFERROR(VLOOKUP(B57,[1]NUM7!$H$3:$L$149,4,FALSE),0) -> 0 | Q57: =SUM(E57:P57) -> 6
A58: 04201-ILLAPEL | B58: 105485-P.S.R. PLAN DE HORNOS | E58: =IFERROR(VLOOKUP(B58,[1]NUM7!$H$3:$L$149,2,FALSE),0) -> 4 | F58: =IFERROR(VLOOKUP(B58,[1]NUM7!$H$3:$L$149,3,FALSE),0) -> 7 | G58: =IFERROR(VLOOKUP(B58,[1]NUM7!$H$3:$L$149,4,FALSE),0) -> 2 | Q58: =SUM(E58:P58) -> 13
A59: 04201-ILLAPEL | B59: 105486-P.S.R. TUNGA SUR | E59: =IFERROR(VLOOKUP(B59,[1]NUM7!$H$3:$L$149,2,FALSE),0) -> 8 | F59: =IFERROR(VLOOKUP(B59,[1]NUM7!$H$3:$L$149,3,FALSE),0) -> 15 | G59: =IFERROR(VLOOKUP(B59,[1]NUM7!$H$3:$L$149,4,FALSE),0) -> 4 | Q59: =SUM(E59:P59) -> 27
A60: 04201-ILLAPEL | B60: 105487-P.S.R. CAÑAS UNO | E60: =IFERROR(VLOOKUP(B60,[1]NUM7!$H$3:$L$149,2,FALSE),0) -> 3 | F60: =IFERROR(VLOOKUP(B60,[1]NUM7!$H$3:$L$149,3,FALSE),0) -> 7 | G60: =IFERROR(VLOOKUP(B60,[1]NUM7!$H$3:$L$149,4,FALSE),0) -> 2 | Q60: =SUM(E60:P60) -> 12
A61: 04201-ILLAPEL | B61: 105496-P.S.R. PINTACURA SUR | E61: =IFERROR(VLOOKUP(B61,[1]NUM7!$H$3:$L$149,2,FALSE),0) -> 2 | F61: =IFERROR(VLOOKUP(B61,[1]NUM7!$H$3:$L$149,3,FALSE),0) -> 0 | G61: =IFERROR(VLOOKUP(B61,[1]NUM7!$H$3:$L$149,4,FALSE),0) -> 2 | Q61: =SUM(E61:P61) -> 4
... A63: 04201-ILLAPEL | B63: 200366-CESFAM URBANO II | E63: =IFERROR(VLOOKUP(B63,[1]NUM7!$H$3:$L$149,2,FALSE),0) -> 97 | F63: =IFERROR(VLOOKUP(B63,[1]NUM7!$H$3:$L$149,3,FALSE),0) -> 138 | G63: =IFERROR(VLOOKUP(B63,[1]NUM7!$H$3:$L$149,4,FALSE),0) -> 127 | Q63: =SUM(E63:P63) -> 362
A64: TOTAL ILLAPEL | C64: =+D64/Metas!K9 -> 0.32077544 | D64: =+Q64/R64 -> 0.12189467 | E64: =SUM(E50:E63) -> 206 | F64: =SUM(F50:F63) -> 247 | G64: =SUM(G50:G63) -> 283 | H64: =SUM(H50:H63) -> 0 | I64: =SUM(I50:I63) -> 0 | J64: =SUM(J50:J63) -> 0 | K64: =SUM(K50:K63) -> 0 | L64: =SUM(L50:L63) -> 0 | ... Q64: =SUM(Q50:Q63) -> 736 | R64: 6038
A65: 04202-CANELA | B65: 105309-CES. RURAL CANELA | E65: =IFERROR(VLOOKUP(B65,[1]NUM7!$H$3:$L$149,2,FALSE),0) -> 64 | F65: =IFERROR(VLOOKUP(B65,[1]NUM7!$H$3:$L$149,3,FALSE),0) -> 9 | G65: =IFERROR(VLOOKUP(B65,[1]NUM7!$H$3:$L$149,4,FALSE),0) -> 41 | Q65: =SUM(E65:P65) -> 114
A66: 04202-CANELA | B66: 105450-P.S.R. MINCHA NORTE | E66: =IFERROR(VLOOKUP(B66,[1]NUM7!$H$3:$L$149,2,FALSE),0) -> 0 | F66: =IFERROR(VLOOKUP(B66,[1]NUM7!$H$3:$L$149,3,FALSE),0) -> 0 | G66: =IFERROR(VLOOKUP(B66,[1]NUM7!$H$3:$L$149,4,FALSE),0) -> 0 | Q66: =SUM(E66:P66) -> 0
A67: 04202-CANELA | B67: 105451-P.S.R. AGUA FRIA | E67: =IFERROR(VLOOKUP(B67,[1]NUM7!$H$3:$L$149,2,FALSE),0) -> 0 | F67: =IFERROR(VLOOKUP(B67,[1]NUM7!$H$3:$L$149,3,FALSE),0) -> 0 | G67: =IFERROR(VLOOKUP(B67,[1]NUM7!$H$3:$L$149,4,FALSE),0) -> 0 | Q67: =SUM(E67:P67) -> 0
A68: 04202-CANELA | B68: 105482-P.S.R. CANELA ALTA | E68: =IFERROR(VLOOKUP(B68,[1]NUM7!$H$3:$L$149,2,FALSE),0) -> 0 | F68: =IFERROR(VLOOKUP(B68,[1]NUM7!$H$3:$L$149,3,FALSE),0) -> 0 | G68: =IFERROR(VLOOKUP(B68,[1]NUM7!$H$3:$L$149,4,FALSE),0) -> 0 | Q68: =SUM(E68:P68) -> 0
A69: 04202-CANELA | B69: 105483-P.S.R. LOS RULOS | E69: =IFERROR(VLOOKUP(B69,[1]NUM7!$H$3:$L$149,2,FALSE),0) -> 0 | F69: =IFERROR(VLOOKUP(B69,[1]NUM7!$H$3:$L$149,3,FALSE),0) -> 0 | G69: =IFERROR(VLOOKUP(B69,[1]NUM7!$H$3:$L$149,4,FALSE),0) -> 0 | Q69: =SUM(E69:P69) -> 0
A70: 04202-CANELA | B70: 105484-P.S.R. HUENTELAUQUEN | E70: =IFERROR(VLOOKUP(B70,[1]NUM7!$H$3:$L$149,2,FALSE),0) -> 0 | F70: =IFERROR(VLOOKUP(B70,[1]NUM7!$H$3:$L$149,3,FALSE),0) -> 0 | G70: =IFERROR(VLOOKUP(B70,[1]NUM7!$H$3:$L$149,4,FALSE),0) -> 0 | Q70: =SUM(E70:P70) -> 0
A71: 04202-CANELA | B71: 105488-P.S.R. ESPIRITU SANTO | E71: =IFERROR(VLOOKUP(B71,[1]NUM7!$H$3:$L$149,2,FALSE),0) -> 0 | F71: =IFERROR(VLOOKUP(B71,[1]NUM7!$H$3:$L$149,3,FALSE),0) -> 0 | G71: =IFERROR(VLOOKUP(B71,[1]NUM7!$H$3:$L$149,4,FALSE),0) -> 0 | Q71: =SUM(E71:P71) -> 0
A72: 04202-CANELA | B72: 105493-P.S.R. MINCHA SUR | E72: =IFERROR(VLOOKUP(B72,[1]NUM7!$H$3:$L$149,2,FALSE),0) -> 0 | F72: =IFERROR(VLOOKUP(B72,[1]NUM7!$H$3:$L$149,3,FALSE),0) -> 0 | G72: =IFERROR(VLOOKUP(B72,[1]NUM7!$H$3:$L$149,4,FALSE),0) -> 0 | Q72: =SUM(E72:P72) -> 0
A73: 04202-CANELA | B73: 105497-P.S.R. JABONERIA | E73: =IFERROR(VLOOKUP(B73,[1]NUM7!$H$3:$L$149,2,FALSE),0) -> 0 | F73: =IFERROR(VLOOKUP(B73,[1]NUM7!$H$3:$L$149,3,FALSE),0) -> 0 | G73: =IFERROR(VLOOKUP(B73,[1]NUM7!$H$3:$L$149,4,FALSE),0) -> 0 | Q73: =SUM(E73:P73) -> 0
A74: 04202-CANELA | B74: 105498-P.S.R. QUEBRADA DE LINARES | E74: =IFERROR(VLOOKUP(B74,[1]NUM7!$H$3:$L$149,2,FALSE),0) -> 0 | F74: =IFERROR(VLOOKUP(B74,[1]NUM7!$H$3:$L$149,3,FALSE),0) -> 0 | G74: =IFERROR(VLOOKUP(B74,[1]NUM7!$H$3:$L$149,4,FALSE),0) -> 0 | Q74: =SUM(E74:P74) -> 0
A75: TOTAL CANELA | C75: =+D75/Metas!K6 -> 0.14967112 | D75: =+Q75/R75 -> 0.040411202 | E75: =SUM(E65:E74) -> 64 | F75: =SUM(F65:F74) -> 9 | G75: =SUM(G65:G74) -> 41 | H75: =SUM(H65:H74) -> 0 | I75: =SUM(I65:I74) -> 0 | J75: =SUM(J65:J74) -> 0 | K75: =SUM(K65:K74) -> 0 | L75: =SUM(L65:L74) -> 0 | ... Q75: =SUM(Q65:Q74) -> 114 | R75: 2821
A76: 04203-LOS VILOS | B76: 105478-P.S.R. CAIMANES | E76: =IFERROR(VLOOKUP(B76,[1]NUM7!$H$3:$L$149,2,FALSE),0) -> 12 | F76: =IFERROR(VLOOKUP(B76,[1]NUM7!$H$3:$L$149,3,FALSE),0) -> 13 | G76: =IFERROR(VLOOKUP(B76,[1]NUM7!$H$3:$L$149,4,FALSE),0) -> 18 | Q76: =SUM(E76:P76) -> 43
A77: 04203-LOS VILOS | B77: 105479-P.S.R. GUANGUALI | E77: =IFERROR(VLOOKUP(B77,[1]NUM7!$H$3:$L$149,2,FALSE),0) -> 11 | F77: =IFERROR(VLOOKUP(B77,[1]NUM7!$H$3:$L$149,3,FALSE),0) -> 10 | G77: =IFERROR(VLOOKUP(B77,[1]NUM7!$H$3:$L$149,4,FALSE),0) -> 18 | Q77: =SUM(E77:P77) -> 39
A78: 04203-LOS VILOS | B78: 105480-P.S.R. QUILIMARI | E78: =IFERROR(VLOOKUP(B78,[1]NUM7!$H$3:$L$149,2,FALSE),0) -> 74 | F78: =IFERROR(VLOOKUP(B78,[1]NUM7!$H$3:$L$149,3,FALSE),0) -> 42 | G78: =IFERROR(VLOOKUP(B78,[1]NUM7!$H$3:$L$149,4,FALSE),0) -> 55 | Q78: =SUM(E78:P78) -> 171
A79: 04203-LOS VILOS | B79: 105481-P.S.R. TILAMA | E79: =IFERROR(VLOOKUP(B79,[1]NUM7!$H$3:$L$149,2,FALSE),0) -> 7 | F79: =IFERROR(VLOOKUP(B79,[1]NUM7!$H$3:$L$149,3,FALSE),0) -> 7 | G79: =IFERROR(VLOOKUP(B79,[1]NUM7!$H$3:$L$149,4,FALSE),0) -> 11 | Q79: =SUM(E79:P79) -> 25
A80: 04203-LOS VILOS | B80: 105511-P.S.R. LOS CONDORES | E80: =IFERROR(VLOOKUP(B80,[1]NUM7!$H$3:$L$149,2,FALSE),0) -> 3 | F80: =IFERROR(VLOOKUP(B80,[1]NUM7!$H$3:$L$149,3,FALSE),0) -> 9 | G80: =IFERROR(VLOOKUP(B80,[1]NUM7!$H$3:$L$149,4,FALSE),0) -> 20 | Q80: =SUM(E80:P80) -> 32
A81: TOTAL LOS VILOS | C81: =+D81/Metas!K11 -> 0.27634406 | D81: =+Q81/R81 -> 0.16856987 | E81: =SUM(E76:E80) -> 107 | F81: =SUM(F76:F80) -> 81 | G81: =SUM(G76:G80) -> 122 | H81: =SUM(H76:H80) -> 0 | I81: =SUM(I76:I80) -> 0 | J81: =SUM(J76:J80) -> 0 | K81: =SUM(K76:K80) -> 0 | L81: =SUM(L76:L80) -> 0 | ... Q81: =SUM(Q76:Q80) -> 310 | R81: 1839
A82: 04204-SALAMANCA | B82: 105452-P.S.R. CUNCUMEN | E82: =IFERROR(VLOOKUP(B82,[1]NUM7!$H$3:$L$149,2,FALSE),0) -> 2 | F82: =IFERROR(VLOOKUP(B82,[1]NUM7!$H$3:$L$149,3,FALSE),0) -> 0 | G82: =IFERROR(VLOOKUP(B82,[1]NUM7!$H$3:$L$149,4,FALSE),0) -> 4 | Q82: =SUM(E82:P82) -> 6
A83: 04204-SALAMANCA | B83: 105453-P.S.R. TRANQUILLA | E83: =IFERROR(VLOOKUP(B83,[1]NUM7!$H$3:$L$149,2,FALSE),0) -> 9 | F83: =IFERROR(VLOOKUP(B83,[1]NUM7!$H$3:$L$149,3,FALSE),0) -> 8 | G83: =IFERROR(VLOOKUP(B83,[1]NUM7!$H$3:$L$149,4,FALSE),0) -> 11 | Q83: =SUM(E83:P83) -> 28
A84: 04204-SALAMANCA | B84: 105454-P.S.R. CUNLAGUA | E84: =IFERROR(VLOOKUP(B84,[1]NUM7!$H$3:$L$149,2,FALSE),0) -> 11 | F84: =IFERROR(VLOOKUP(B84,[1]NUM7!$H$3:$L$149,3,FALSE),0) -> 0 | G84: =IFERROR(VLOOKUP(B84,[1]NUM7!$H$3:$L$149,4,FALSE),0) -> 6 | Q84: =SUM(E84:P84) -> 17
A85: 04204-SALAMANCA | B85: 105455-P.S.R. CHILLEPIN | E85: =IFERROR(VLOOKUP(B85,[1]NUM7!$H$3:$L$149,2,FALSE),0) -> 2 | F85: =IFERROR(VLOOKUP(B85,[1]NUM7!$H$3:$L$149,3,FALSE),0) -> 2 | G85: =IFERROR(VLOOKUP(B85,[1]NUM7!$H$3:$L$149,4,FALSE),0) -> 6 | Q85: =SUM(E85:P85) -> 10
A86: 04204-SALAMANCA | B86: 105456-P.S.R. LLIMPO | E86: =IFERROR(VLOOKUP(B86,[1]NUM7!$H$3:$L$149,2,FALSE),0) -> 5 | F86: =IFERROR(VLOOKUP(B86,[1]NUM7!$H$3:$L$149,3,FALSE),0) -> 6 | G86: =IFERROR(VLOOKUP(B86,[1]NUM7!$H$3:$L$149,4,FALSE),0) -> 8 | Q86: =SUM(E86:P86) -> 19
A87: 04204-SALAMANCA | B87: 105457-P.S.R. SAN AGUSTIN | E87: =IFERROR(VLOOKUP(B87,[1]NUM7!$H$3:$L$149,2,FALSE),0) -> 4 | F87: =IFERROR(VLOOKUP(B87,[1]NUM7!$H$3:$L$149,3,FALSE),0) -> 6 | G87: =IFERROR(VLOOKUP(B87,[1]NUM7!$H$3:$L$149,4,FALSE),0) -> 4 | Q87: =SUM(E87:P87) -> 14
A88: 04204-SALAMANCA | B88: 105458-P.S.R. TAHUINCO | E88: =IFERROR(VLOOKUP(B88,[1]NUM7!$H$3:$L$149,2,FALSE),0) -> 6 | F88: =IFERROR(VLOOKUP(B88,[1]NUM7!$H$3:$L$149,3,FALSE),0) -> 7 | G88: =IFERROR(VLOOKUP(B88,[1]NUM7!$H$3:$L$149,4,FALSE),0) -> 11 | Q88: =SUM(E88:P88) -> 24
A89: 04204-SALAMANCA | B89: 105491-P.S.R. QUELEN BAJO | E89: =IFERROR(VLOOKUP(B89,[1]NUM7!$H$3:$L$149,2,FALSE),0) -> 19 | F89: =IFERROR(VLOOKUP(B89,[1]NUM7!$H$3:$L$149,3,FALSE),0) -> 32 | G89: =IFERROR(VLOOKUP(B89,[1]NUM7!$H$3:$L$149,4,FALSE),0) -> 31 | Q89: =SUM(E89:P89) -> 82
A90: 04204-SALAMANCA | B90: 105492-P.S.R. CAMISA | E90: =IFERROR(VLOOKUP(B90,[1]NUM7!$H$3:$L$149,2,FALSE),0) -> 1 | F90: =IFERROR(VLOOKUP(B90,[1]NUM7!$H$3:$L$149,3,FALSE),0) -> 2 | G90: =IFERROR(VLOOKUP(B90,[1]NUM7!$H$3:$L$149,4,FALSE),0) -> 4 | Q90: =SUM(E90:P90) -> 7
A91: 04204-SALAMANCA | B91: 105501-P.S.R. ARBOLEDA GRANDE | E91: =IFERROR(VLOOKUP(B91,[1]NUM7!$H$3:$L$149,2,FALSE),0) -> 3 | F91: =IFERROR(VLOOKUP(B91,[1]NUM7!$H$3:$L$149,3,FALSE),0) -> 9 | G91: =IFERROR(VLOOKUP(B91,[1]NUM7!$H$3:$L$149,4,FALSE),0) -> 9 | Q91: =SUM(E91:P91) -> 21
A92: TOTAL SALAMANCA | C92: =+D92/Metas!K16 -> 0.19412516 | D92: =+Q92/R92 -> 0.058237548 | E92: =SUM(E82:E91) -> 62 | F92: =SUM(F82:F91) -> 72 | G92: =SUM(G82:G91) -> 94 | H92: =SUM(H82:H91) -> 0 | I92: =SUM(I82:I91) -> 0 | J92: =SUM(J82:J91) -> 0 | K92: =SUM(K82:K91) -> 0 | L92: =SUM(L82:L91) -> 0 | ... Q92: =SUM(Q82:Q91) -> 228 | R92: 3915
A93: 04301-OVALLE | B93: 105315-CES. RURAL C. DE TAMAYA | E93: =IFERROR(VLOOKUP(B93,[1]NUM7!$H$3:$L$149,2,FALSE),0) -> 54 | F93: =IFERROR(VLOOKUP(B93,[1]NUM7!$H$3:$L$149,3,FALSE),0) -> 41 | G93: =IFERROR(VLOOKUP(B93,[1]NUM7!$H$3:$L$149,4,FALSE),0) -> 49 | Q93: =SUM(E93:P93) -> 144
A94: 04301-OVALLE | B94: 105317-CES. JORGE JORDAN D. | E94: =IFERROR(VLOOKUP(B94,[1]NUM7!$H$3:$L$149,2,FALSE),0) -> 65 | F94: =IFERROR(VLOOKUP(B94,[1]NUM7!$H$3:$L$149,3,FALSE),0) -> 93 | G94: =IFERROR(VLOOKUP(B94,[1]NUM7!$H$3:$L$149,4,FALSE),0) -> 116 | Q94: =SUM(E94:P94) -> 274
A95: 04301-OVALLE | B95: 105322-CES. MARCOS MACUADA | E95: =IFERROR(VLOOKUP(B95,[1]NUM7!$H$3:$L$149,2,FALSE),0) -> 103 | F95: =IFERROR(VLOOKUP(B95,[1]NUM7!$H$3:$L$149,3,FALSE),0) -> 98 | G95: =IFERROR(VLOOKUP(B95,[1]NUM7!$H$3:$L$149,4,FALSE),0) -> 138 | Q95: =SUM(E95:P95) -> 339
A96: 04301-OVALLE | B96: 105324-CES. SOTAQUI | E96: =IFERROR(VLOOKUP(B96,[1]NUM7!$H$3:$L$149,2,FALSE),0) -> 26 | F96: =IFERROR(VLOOKUP(B96,[1]NUM7!$H$3:$L$149,3,FALSE),0) -> 28 | G96: =IFERROR(VLOOKUP(B96,[1]NUM7!$H$3:$L$149,4,FALSE),0) -> 24 | Q96: =SUM(E96:P96) -> 78
A97: 04301-OVALLE | B97: 105415-P.S.R. BARRAZA | E97: =IFERROR(VLOOKUP(B97,[1]NUM7!$H$3:$L$149,2,FALSE),0) -> 0 | F97: =IFERROR(VLOOKUP(B97,[1]NUM7!$H$3:$L$149,3,FALSE),0) -> 5 | G97: =IFERROR(VLOOKUP(B97,[1]NUM7!$H$3:$L$149,4,FALSE),0) -> 3 | Q97: =SUM(E97:P97) -> 8
A98: 04301-OVALLE | B98: 105416-P.S.R. CAMARICO | E98: =IFERROR(VLOOKUP(B98,[1]NUM7!$H$3:$L$149,2,FALSE),0) -> 4 | F98: =IFERROR(VLOOKUP(B98,[1]NUM7!$H$3:$L$149,3,FALSE),0) -> 9 | G98: =IFERROR(VLOOKUP(B98,[1]NUM7!$H$3:$L$149,4,FALSE),0) -> 17 | Q98: =SUM(E98:P98) -> 30
A99: 04301-OVALLE | B99: 105417-P.S.R. ALCONES BAJOS | E99: =IFERROR(VLOOKUP(B99,[1]NUM7!$H$3:$L$149,2,FALSE),0) -> 8 | F99: =IFERROR(VLOOKUP(B99,[1]NUM7!$H$3:$L$149,3,FALSE),0) -> 0 | G99: =IFERROR(VLOOKUP(B99,[1]NUM7!$H$3:$L$149,4,FALSE),0) -> 1 | Q99: =SUM(E99:P99) -> 9
A100: 04301-OVALLE | B100: 105419-P.S.R. LAS SOSSAS | E100: =IFERROR(VLOOKUP(B100,[1]NUM7!$H$3:$L$149,2,FALSE),0) -> 0 | F100: =IFERROR(VLOOKUP(B100,[1]NUM7!$H$3:$L$149,3,FALSE),0) -> 0 | G100: =IFERROR(VLOOKUP(B100,[1]NUM7!$H$3:$L$149,4,FALSE),0) -> 3 | Q100: =SUM(E100:P100) -> 3
A101: 04301-OVALLE | B101: 105420-P.S.R. LIMARI | E101: =IFERROR(VLOOKUP(B101,[1]NUM7!$H$3:$L$149,2,FALSE),0) -> 0 | F101: =IFERROR(VLOOKUP(B101,[1]NUM7!$H$3:$L$149,3,FALSE),0) -> 0 | G101: =IFERROR(VLOOKUP(B101,[1]NUM7!$H$3:$L$149,4,FALSE),0) -> 0 | Q101: =SUM(E101:P101) -> 0
A102: 04301-OVALLE | B102: 105422-P.S.R. HORNILLOS | E102: =IFERROR(VLOOKUP(B102,[1]NUM7!$H$3:$L$149,2,FALSE),0) -> 4 | F102: =IFERROR(VLOOKUP(B102,[1]NUM7!$H$3:$L$149,3,FALSE),0) -> 5 | G102: =IFERROR(VLOOKUP(B102,[1]NUM7!$H$3:$L$149,4,FALSE),0) -> 5 | Q102: =SUM(E102:P102) -> 14
A103: 04301-OVALLE | B103: 105437-P.S.R. CHALINGA | E103: =IFERROR(VLOOKUP(B103,[1]NUM7!$H$3:$L$149,2,FALSE),0) -> 1 | F103: =IFERROR(VLOOKUP(B103,[1]NUM7!$H$3:$L$149,3,FALSE),0) -> 11 | G103: =IFERROR(VLOOKUP(B103,[1]NUM7!$H$3:$L$149,4,FALSE),0) -> 21 | Q103: =SUM(E103:P103) -> 33
A104: 04301-OVALLE | B104: 105439-P.S.R. CERRO BLANCO | E104: =IFERROR(VLOOKUP(B104,[1]NUM7!$H$3:$L$149,2,FALSE),0) -> 6 | F104: =IFERROR(VLOOKUP(B104,[1]NUM7!$H$3:$L$149,3,FALSE),0) -> 7 | G104: =IFERROR(VLOOKUP(B104,[1]NUM7!$H$3:$L$149,4,FALSE),0) -> 1 | Q104: =SUM(E104:P104) -> 14
... A110: 04301-OVALLE | B110: 200367-CECOF COLONIA LIMARÍ | E110: =IFERROR(VLOOKUP(B110,[1]NUM7!$H$3:$L$149,2,FALSE),0) -> 9 | F110: =IFERROR(VLOOKUP(B110,[1]NUM7!$H$3:$L$149,3,FALSE),0) -> 24 | G110: =IFERROR(VLOOKUP(B110,[1]NUM7!$H$3:$L$149,4,FALSE),0) -> 5 | Q110: =SUM(E110:P110) -> 38
A111: TOTAL OVALLE | C111: =+D111/Metas!K13 -> 0.24523476 | D111: =+Q111/R111 -> 0.053951648 | E111: =SUM(E93:E110) -> 494 | F111: =SUM(F93:F110) -> 532 | G111: =SUM(G93:G110) -> 583 | H111: =SUM(H93:H110) -> 0 | I111: =SUM(I93:I110) -> 0 | J111: =SUM(J93:J110) -> 0 | K111: =SUM(K93:K110) -> 0 | L111: =SUM(L93:L110) -> 0 | ... Q111: =SUM(Q93:Q110) -> 1609 | R111: 29823
A112: 04302-COMBARBALÁ | B112: 105433-P.S.R. SAN LORENZO | E112: =IFERROR(VLOOKUP(B112,[1]NUM7!$H$3:$L$149,2,FALSE),0) -> 5 | F112: =IFERROR(VLOOKUP(B112,[1]NUM7!$H$3:$L$149,3,FALSE),0) -> 4 | G112: =IFERROR(VLOOKUP(B112,[1]NUM7!$H$3:$L$149,4,FALSE),0) -> 1 | Q112: =SUM(E112:P112) -> 10
A113: 04302-COMBARBALÁ | B113: 105434-P.S.R. SAN MARCOS | E113: =IFERROR(VLOOKUP(B113,[1]NUM7!$H$3:$L$149,2,FALSE),0) -> 13 | F113: =IFERROR(VLOOKUP(B113,[1]NUM7!$H$3:$L$149,3,FALSE),0) -> 10 | G113: =IFERROR(VLOOKUP(B113,[1]NUM7!$H$3:$L$149,4,FALSE),0) -> 16 | Q113: =SUM(E113:P113) -> 39
A114: 04302-COMBARBALÁ | B114: 105441-P.S.R. MANQUEHUA | E114: =IFERROR(VLOOKUP(B114,[1]NUM7!$H$3:$L$149,2,FALSE),0) -> 5 | F114: =IFERROR(VLOOKUP(B114,[1]NUM7!$H$3:$L$149,3,FALSE),0) -> 11 | G114: =IFERROR(VLOOKUP(B114,[1]NUM7!$H$3:$L$149,4,FALSE),0) -> 11 | Q114: =SUM(E114:P114) -> 27
...

Sheet META 8.1
A1: COMUNA | B1: ESTABLECIMIENTO | C1: CUMPLIMIENTO | D1: Indicador | E1: META 8.1: COBERTURA EXAMEN DE MEDICINA PREVENTIVA (EMP), EN HOMBRES DE 20 A 64 AÑOS
E2: NUMERADOR | R2: DENOMINADOR
E10: Nº Examen de Medicina Preventiva (EMP) realizado en población masculina de 20 a 64 años | R10: Población masculina de 20 a 64 años inscrita, menos población bajo control en Programa Salud Cardiovascular | S10: Población masculina de 20 a 64 años bajo control en programa de salud cardiovascular | Y10: Población masculina de 20 a 64 años inscrita | Z10: Ingresos de población masculina al PSCV de 20 y 64 años | AM10: Egresos de población masculina al PSCV de 20 y 64 años
D11: Resultado | E11: ENERO | F11: FEBRERO | G11: MARZO | H11: ABRIL | I11: MAYO | J11: JUNIO | K11: JULIO | L11: AGOSTO | M11: SEPBRE | N11: OCTBRE | O11: NOVBRE | P11: DICBRE | Q11: TOTAL | S11: A DIC 2017 | T11: A ABRIL | U11: A JUNIO | V11: A JULIO | W11: A OCTBRE | X11: A DICBRE | Y11: AÑO 2017 | Z11: ENERO | AA11: FEBRERO | AB11: MARZO | AC11: ABRIL | AD11: MAYO | AE11: JUNIO | AF11: JULIO | AG11: AGOSTO | AH11: SEPBRE | AI11: OCTBRE | AJ11: NOVBRE | AK11: DICBRE | AL11: TOTAL | AM11: ENERO | AN11: FEBRERO | AO11: MARZO | AP11: ABRIL | AQ11: MAYO | AR11: JUNIO | AS11: JULIO | AT11: AGOSTO | AU11: SEPBRE | AV11: OCTBRE | AW11: NOVBRE | AX11: DICBRE | AY11: TOTAL
A12: 04101-LA SERENA | B12: 105300-CES. CARDENAL CARO | E12: =IFERROR(VLOOKUP(B12,'[1]NUM8.1'!$H$3:$L$156,2,FALSE),0) -> 51 | F12: =IFERROR(VLOOKUP(B12,'[1]NUM8.1'!$H$3:$L$156,3,FALSE),0) -> 93 | G12: =IFERROR(VLOOKUP(B12,'[1]NUM8.1'!$H$3:$L$156,4,FALSE),0) -> 62 | Q12: =SUM(E12:P12) -> 206 | S12: =IFERROR(VLOOKUP(B12,'[2]DEN8.1'!$H$3:$K$162,3,FALSE),0) -> 541 | T12: =S12+(Z12+AA12+AB12+AC12)-(AM12+AN12+AO12+AP12) -> 568 | V12: =+U12+(AF12)-(AS12) -> 0 | W12: =+U12+(AF12+AG12+AH12+AI12)-(AS12+AT12+AU12+AV12) -> 0 | Z12: =IFERROR(VLOOKUP(B12,'[1]ACT DEN8.1'!$H$3:$L$128,2,FALSE),0) -> 7 | AA12: =IFERROR(VLOOKUP(B12,'[1]ACT DEN8.1'!$H$3:$L$128,3,FALSE),0) -> 11 | AB12: =IFERROR(VLOOKUP(B12,'[1]ACT DEN8.1'!$H$3:$L$128,4,FALSE),0) -> 18 | AL12: =SUM(Z12:AK12) -> 36 | AM12: =IFERROR(VLOOKUP(B12,'[1]ACT DEN8.1'!$AA$3:$AE$86,2,FALSE),0) -> 8 | AN12: =IFERROR(VLOOKUP(B12,'[1]ACT DEN8.1'!$AA$3:$AE$86,3,FALSE),0) -> 0 | AO12: =IFERROR(VLOOKUP(B12,'[1]ACT DEN8.1'!$AA$3:$AE$86,4,FALSE),0) -> 1 | AY12: =SUM(AM12:AX12) -> 9
A13: 04101-LA SERENA | B13: 105301-CES. LAS COMPAÑIAS | E13: =IFERROR(VLOOKUP(B13,'[1]NUM8.1'!$H$3:$L$156,2,FALSE),0) -> 11 | F13: =IFERROR(VLOOKUP(B13,'[1]NUM8.1'!$H$3:$L$156,3,FALSE),0) -> 16 | G13: =IFERROR(VLOOKUP(B13,'[1]NUM8.1'!$H$3:$L$156,4,FALSE),0) -> 51 | Q13: =SUM(E13:P13) -> 78 | S13: =IFERROR(VLOOKUP(B13,'[2]DEN8.1'!$H$3:$K$162,3,FALSE),0) -> 356 | T13: =S13+(Z13+AA13+AB13+AC13)-(AM13+AN13+AO13+AP13) -> 373 | V13: =+U13+(AF13)-(AS13) -> 0 | W13: =+U13+(AF13+AG13+AH13+AI13)-(AS13+AT13+AU13+AV13) -> 0 | Z13: =IFERROR(VLOOKUP(B13,'[1]ACT DEN8.1'!$H$3:$L$128,2,FALSE),0) -> 6 | AA13: =IFERROR(VLOOKUP(B13,'[1]ACT DEN8.1'!$H$3:$L$128,3,FALSE),0) -> 9 | AB13: =IFERROR(VLOOKUP(B13,'[1]ACT DEN8.1'!$H$3:$L$128,4,FALSE),0) -> 16 | AL13: =SUM(Z13:AK13) -> 31 | AM13: =IFERROR(VLOOKUP(B13,'[1]ACT DEN8.1'!$AA$3:$AE$86,2,FALSE),0) -> 4 | AN13: =IFERROR(VLOOKUP(B13,'[1]ACT DEN8.1'!$AA$3:$AE$86,3,FALSE),0) -> 8 | AO13: =IFERROR(VLOOKUP(B13,'[1]ACT DEN8.1'!$AA$3:$AE$86,4,FALSE),0) -> 2 | AY13: =SUM(AM13:AX13) -> 14
A14: 04101-LA SERENA | B14: 105302-CES. PEDRO AGUIRRE C. | E14: =IFERROR(VLOOKUP(B14,'[1]NUM8.1'!$H$3:$L$156,2,FALSE),0) -> 82 | F14: =IFERROR(VLOOKUP(B14,'[1]NUM8.1'!$H$3:$L$156,3,FALSE),0) -> 66 | G14: =IFERROR(VLOOKUP(B14,'[1]NUM8.1'!$H$3:$L$156,4,FALSE),0) -> 42 | Q14: =SUM(E14:P14) -> 190 | S14: =IFERROR(VLOOKUP(B14,'[2]DEN8.1'!$H$3:$K$162,3,FALSE),0) -> 582 | T14: =S14+(Z14+AA14+AB14+AC14)-(AM14+AN14+AO14+AP14) -> 610 | V14: =+U14+(AF14)-(AS14) -> 0 | W14: =+U14+(AF14+AG14+AH14+AI14)-(AS14+AT14+AU14+AV14) -> 0 | Z14: =IFERROR(VLOOKUP(B14,'[1]ACT DEN8.1'!$H$3:$L$128,2,FALSE),0) -> 16 | AA14: =IFERROR(VLOOKUP(B14,'[1]ACT DEN8.1'!$H$3:$L$128,3,FALSE),0) -> 12 | AB14: =IFERROR(VLOOKUP(B14,'[1]ACT DEN8.1'!$H$3:$L$128,4,FALSE),0) -> 14 | AL14: =SUM(Z14:AK14) -> 42 | AM14: =IFERROR(VLOOKUP(B14,'[1]ACT DEN8.1'!$AA$3:$AE$86,2,FALSE),0) -> 3 | AN14: =IFERROR(VLOOKUP(B14,'[1]ACT DEN8.1'!$AA$3:$AE$86,3,FALSE),0) -> 3 | AO14: =IFERROR(VLOOKUP(B14,'[1]ACT DEN8.1'!$AA$3:$AE$86,4,FALSE),0) -> 8 | AY14: =SUM(AM14:AX14) -> 14
A15: 04101-LA SERENA | B15: 105313-CES. SCHAFFHAUSER | E15: =IFERROR(VLOOKUP(B15,'[1]NUM8.1'!$H$3:$L$156,2,FALSE),0) -> 9 | F15: =IFERROR(VLOOKUP(B15,'[1]NUM8.1'!$H$3:$L$156,3,FALSE),0) -> 81 | G15: =IFERROR(VLOOKUP(B15,'[1]NUM8.1'!$H$3:$L$156,4,FALSE),0) -> 167 | Q15: =SUM(E15:P15) -> 257 | S15: =IFERROR(VLOOKUP(B15,'[2]DEN8.1'!$H$3:$K$162,3,FALSE),0) -> 631 | T15: =S15+(Z15+AA15+AB15+AC15)-(AM15+AN15+AO15+AP15) -> 645 | V15: =+U15+(AF15)-(AS15) -> 0 | W15: =+U15+(AF15+AG15+AH15+AI15)-(AS15+AT15+AU15+AV15) -> 0 | Z15: =IFERROR(VLOOKUP(B15,'[1]ACT DEN8.1'!$H$3:$L$128,2,FALSE),0) -> 3 | AA15: =IFERROR(VLOOKUP(B15,'[1]ACT DEN8.1'!$H$3:$L$128,3,FALSE),0) -> 3 | AB15: =IFERROR(VLOOKUP(B15,'[1]ACT DEN8.1'!$H$3:$L$128,4,FALSE),0) -> 8 | AL15: =SUM(Z15:AK15) -> 14 | AM15: =IFERROR(VLOOKUP(B15,'[1]ACT DEN8.1'!$AA$3:$AE$86,2,FALSE),0) -> 0 | AN15: =IFERROR(VLOOKUP(B15,'[1]ACT DEN8.1'!$AA$3:$AE$86,3,FALSE),0) -> 0 | AO15: =IFERROR(VLOOKUP(B15,'[1]ACT DEN8.1'!$AA$3:$AE$86,4,FALSE),0) -> 0 | AY15: =SUM(AM15:AX15) -> 0
A16: 04101-LA SERENA | B16: 105319-CES. CARDENAL R.S.H. | E16: =IFERROR(VLOOKUP(B16,'[1]NUM8.1'!$H$3:$L$156,2,FALSE),0) -> 123 | F16: =IFERROR(VLOOKUP(B16,'[1]NUM8.1'!$H$3:$L$156,3,FALSE),0) -> 28 | G16: =IFERROR(VLOOKUP(B16,'[1]NUM8.1'!$H$3:$L$156,4,FALSE),0) -> 157 | Q16: =SUM(E16:P16) -> 308 | S16: =IFERROR(VLOOKUP(B16,'[2]DEN8.1'!$H$3:$K$162,3,FALSE),0) -> 543 | T16: =S16+(Z16+AA16+AB16+AC16)-(AM16+AN16+AO16+AP16) -> 561 | V16: =+U16+(AF16)-(AS16) -> 0 | W16: =+U16+(AF16+AG16+AH16+AI16)-(AS16+AT16+AU16+AV16) -> 0 | Z16: =IFERROR(VLOOKUP(B16,'[1]ACT DEN8.1'!$H$3:$L$128,2,FALSE),0) -> 4 | AA16: =IFERROR(VLOOKUP(B16,'[1]ACT DEN8.1'!$H$3:$L$128,3,FALSE),0) -> 3 | AB16: =IFERROR(VLOOKUP(B16,'[1]ACT DEN8.1'!$H$3:$L$128,4,FALSE),0) -> 11 | AL16: =SUM(Z16:AK16) -> 18 | AM16: =IFERROR(VLOOKUP(B16,'[1]ACT DEN8.1'!$AA$3:$AE$86,2,FALSE),0) -> 0 | AN16: =IFERROR(VLOOKUP(B16,'[1]ACT DEN8.1'!$AA$3:$AE$86,3,FALSE),0) -> 0 | AO16: =IFERROR(VLOOKUP(B16,'[1]ACT DEN8.1'!$AA$3:$AE$86,4,FALSE),0) -> 0 | AY16: =SUM(AM16:AX16) -> 0
A17: 04101-LA SERENA | B17: 105325-CESFAM JUAN PABLO II | E17: =IFERROR(VLOOKUP(B17,'[1]NUM8.1'!$H$3:$L$156,2,FALSE),0) -> 7 | F17: =IFERROR(VLOOKUP(B17,'[1]NUM8.1'!$H$3:$L$156,3,FALSE),0) -> 12 | G17: =IFERROR(VLOOKUP(B17,'[1]NUM8.1'!$H$3:$L$156,4,FALSE),0) -> 58 | Q17: =SUM(E17:P17) -> 77 | S17: =IFERROR(VLOOKUP(B17,'[2]DEN8.1'!$H$3:$K$162,3,FALSE),0) -> 374 | T17: =S17+(Z17+AA17+AB17+AC17)-(AM17+AN17+AO17+AP17) -> 386 | V17: =+U17+(AF17)-(AS17) -> 0 | W17: =+U17+(AF17+AG17+AH17+AI17)-(AS17+AT17+AU17+AV17) -> 0 | Z17: =IFERROR(VLOOKUP(B17,'[1]ACT DEN8.1'!$H$3:$L$128,2,FALSE),0) -> 5 | AA17: =IFERROR(VLOOKUP(B17,'[1]ACT DEN8.1'!$H$3:$L$128,3,FALSE),0) -> 4 | AB17: =IFERROR(VLOOKUP(B17,'[1]ACT DEN8.1'!$H$3:$L$128,4,FALSE),0) -> 3 | AL17: =SUM(Z17:AK17) -> 12 | AM17: =IFERROR(VLOOKUP(B17,'[1]ACT DEN8.1'!$AA$3:$AE$86,2,FALSE),0) -> 0 | AN17: =IFERROR(VLOOKUP(B17,'[1]ACT DEN8.1'!$AA$3:$AE$86,3,FALSE),0) -> 0 | AO17: =IFERROR(VLOOKUP(B17,'[1]ACT DEN8.1'!$AA$3:$AE$86,4,FALSE),0) -> 0 | AY17: =SUM(AM17:AX17) -> 0
A18: 04101-LA SERENA | B18: 105400-P.S.R. ALGARROBITO | E18: =IFERROR(VLOOKUP(B18,'[1]NUM8.1'!$H$3:$L$156,2,FALSE),0) -> 8 | F18: =IFERROR(VLOOKUP(B18,'[1]NUM8.1'!$H$3:$L$156,3,FALSE),0) -> 6 | G18: =IFERROR(VLOOKUP(B18,'[1]NUM8.1'!$H$3:$L$156,4,FALSE),0) -> 5 | Q18: =SUM(E18:P18) -> 19 | S18: =IFERROR(VLOOKUP(B18,'[2]DEN8.1'!$H$3:$K$162,3,FALSE),0) -> 113 | T18: =S18+(Z18+AA18+AB18+AC18)-(AM18+AN18+AO18+AP18) -> 113 | V18: =+U18+(AF18)-(AS18) -> 0 | W18: =+U18+(AF18+AG18+AH18+AI18)-(AS18+AT18+AU18+AV18) -> 0 | Z18: =IFERROR(VLOOKUP(B18,'[1]ACT DEN8.1'!$H$3:$L$128,2,FALSE),0) -> 0 | AA18: =IFERROR(VLOOKUP(B18,'[1]ACT DEN8.1'!$H$3:$L$128,3,FALSE),0) -> 0 | AB18: =IFERROR(VLOOKUP(B18,'[1]ACT DEN8.1'!$H$3:$L$128,4,FALSE),0) -> 3 | AL18: =SUM(Z18:AK18) -> 3 | AM18: =IFERROR(VLOOKUP(B18,'[1]ACT DEN8.1'!$AA$3:$AE$86,2,FALSE),0) -> 1 | AN18: =IFERROR(VLOOKUP(B18,'[1]ACT DEN8.1'!$AA$3:$AE$86,3,FALSE),0) -> 2 | AO18: =IFERROR(VLOOKUP(B18,'[1]ACT DEN8.1'!$AA$3:$AE$86,4,FALSE),0) -> 0 | AY18: =SUM(AM18:AX18) -> 3
A19: 04101-LA SERENA | B19: 105401-P.S.R. LAS ROJAS | E19: =IFERROR(VLOOKUP(B19,'[1]NUM8.1'!$H$3:$L$156,2,FALSE),0) -> 0 | F19: =IFERROR(VLOOKUP(B19,'[1]NUM8.1'!$H$3:$L$156,3,FALSE),0) -> 1 | G19: =IFERROR(VLOOKUP(B19,'[1]NUM8.1'!$H$3:$L$156,4,FALSE),0) -> 2 | Q19: =SUM(E19:P19) -> 3 | S19: =IFERROR(VLOOKUP(B19,'[2]DEN8.1'!$H$3:$K$162,3,FALSE),0) -> 22 | T19: =S19+(Z19+AA19+AB19+AC19)-(AM19+AN19+AO19+AP19) -> 23 | V19: =+U19+(AF19)-(AS19) -> 0 | W19: =+U19+(AF19+AG19+AH19+AI19)-(AS19+AT19+AU19+AV19) -> 0 | Z19: =IFERROR(VLOOKUP(B19,'[1]ACT DEN8.1'!$H$3:$L$128,2,FALSE),0) -> 0 | AA19: =IFERROR(VLOOKUP(B19,'[1]ACT DEN8.1'!$H$3:$L$128,3,FALSE),0) -> 0 | AB19: =IFERROR(VLOOKUP(B19,'[1]ACT DEN8.1'!$H$3:$L$128,4,FALSE),0) -> 1 | AL19: =SUM(Z19:AK19) -> 1 | AM19: =IFERROR(VLOOKUP(B19,'[1]ACT DEN8.1'!$AA$3:$AE$86,2,FALSE),0) -> 0 | AN19: =IFERROR(VLOOKUP(B19,'[1]ACT DEN8.1'!$AA$3:$AE$86,3,FALSE),0) -> 0 | AO19: =IFERROR(VLOOKUP(B19,'[1]ACT DEN8.1'!$AA$3:$AE$86,4,FALSE),0) -> 0 | AY19: =SUM(AM19:AX19) -> 0
A20: 04101-LA SERENA | B20: 105402-P.S.R. EL ROMERO | E20: =IFERROR(VLOOKUP(B20,'[1]NUM8.1'!$H$3:$L$156,2,FALSE),0) -> 3 | F20: =IFERROR(VLOOKUP(B20,'[1]NUM8.1'!$H$3:$L$156,3,FALSE),0) -> 4 | G20: =IFERROR(VLOOKUP(B20,'[1]NUM8.1'!$H$3:$L$156,4,FALSE),0) -> 4 | Q20: =SUM(E20:P20) -> 11 | S20: =IFERROR(VLOOKUP(B20,'[2]DEN8.1'!$H$3:$K$162,3,FALSE),0) -> 12 | T20: =S20+(Z20+AA20+AB20+AC20)-(AM20+AN20+AO20+AP20) -> 14 | V20: =+U20+(AF20)-(AS20) -> 0 | W20: =+U20+(AF20+AG20+AH20+AI20)-(AS20+AT20+AU20+AV20) -> 0 | Z20: =IFERROR(VLOOKUP(B20,'[1]ACT DEN8.1'!$H$3:$L$128,2,FALSE),0) -> 0 | AA20: =IFERROR(VLOOKUP(B20,'[1]ACT DEN8.1'!$H$3:$L$128,3,FALSE),0) -> 1 | AB20: =IFERROR(VLOOKUP(B20,'[1]ACT DEN8.1'!$H$3:$L$128,4,FALSE),0) -> 1 | AL20: =SUM(Z20:AK20) -> 2 | AM20: =IFERROR(VLOOKUP(B20,'[1]ACT DEN8.1'!$AA$3:$AE$86,2,FALSE),0) -> 0 | AN20: =IFERROR(VLOOKUP(B20,'[1]ACT DEN8.1'!$AA$3:$AE$86,3,FALSE),0) -> 0 | AO20: =IFERROR(VLOOKUP(B20,'[1]ACT DEN8.1'!$AA$3:$AE$86,4,FALSE),0) -> 0 | AY20: =SUM(AM20:AX20) -> 0
A21: 04101-LA SERENA | B21: 105499-P.S.R. LAMBERT | E21: =IFERROR(VLOOKUP(B21,'[1]NUM8.1'!$H$3:$L$156,2,FALSE),0) -> 0 | F21: =IFERROR(VLOOKUP(B21,'[1]NUM8.1'!$H$3:$L$156,3,FALSE),0) -> 0 | G21: =IFERROR(VLOOKUP(B21,'[1]NUM8.1'!$H$3:$L$156,4,FALSE),0) -> 5 | Q21: =SUM(E21:P21) -> 5 | S21: =IFERROR(VLOOKUP(B21,'[2]DEN8.1'!$H$3:$K$162,3,FALSE),0) -> 14 | T21: =S21+(Z21+AA21+AB21+AC21)-(AM21+AN21+AO21+AP21) -> 14 | V21: =+U21+(AF21)-(AS21) -> 0 | W21: =+U21+(AF21+AG21+AH21+AI21)-(AS21+AT21+AU21+AV21) -> 0 | Z21: =IFERROR(VLOOKUP(B21,'[1]ACT DEN8.1'!$H$3:$L$128,2,FALSE),0) -> 0 | AA21: =IFERROR(VLOOKUP(B21,'[1]ACT DEN8.1'!$H$3:$L$128,3,FALSE),0) -> 0 | AB21: =IFERROR(VLOOKUP(B21,'[1]ACT DEN8.1'!$H$3:$L$128,4,FALSE),0) -> 0 | AL21: =SUM(Z21:AK21) -> 0 | AM21: =IFERROR(VLOOKUP(B21,'[1]ACT DEN8.1'!$AA$3:$AE$86,2,FALSE),0) -> 0 | AN21: =IFERROR(VLOOKUP(B21,'[1]ACT DEN8.1'!$AA$3:$AE$86,3,FALSE),0) -> 0 | AO21: =IFERROR(VLOOKUP(B21,'[1]ACT DEN8.1'!$AA$3:$AE$86,4,FALSE),0) -> 0 | AY21: =SUM(AM21:AX21) -> 0
A22: 04101-LA SERENA | B22: 105700-CECOF VILLA EL INDIO | E22: =IFERROR(VLOOKUP(B22,'[1]NUM8.1'!$H$3:$L$156,2,FALSE),0) -> 2 | F22: =IFERROR(VLOOKUP(B22,'[1]NUM8.1'!$H$3:$L$156,3,FALSE),0) -> 7 | G22: =IFERROR(VLOOKUP(B22,'[1]NUM8.1'!$H$3:$L$156,4,FALSE),0) -> 7 | Q22: =SUM(E22:P22) -> 16 | S22: =IFERROR(VLOOKUP(B22,'[2]DEN8.1'!$H$3:$K$162,3,FALSE),0) -> 66 | T22: =S22+(Z22+AA22+AB22+AC22)-(AM22+AN22+AO22+AP22) -> 70 | V22: =+U22+(AF22)-(AS22) -> 0 | W22: =+U22+(AF22+AG22+AH22+AI22)-(AS22+AT22+AU22+AV22) -> 0 | Z22: =IFERROR(VLOOKUP(B22,'[1]ACT DEN8.1'!$H$3:$L$128,2,FALSE),0) -> 1 | AA22: =IFERROR(VLOOKUP(B22,'[1]ACT DEN8.1'!$H$3:$L$128,3,FALSE),0) -> 1 | AB22: =IFERROR(VLOOKUP(B22,'[1]ACT DEN8.1'!$H$3:$L$128,4,FALSE),0) -> 2 | AL22: =SUM(Z22:AK22) -> 4 | AM22: =IFERROR(VLOOKUP(B22,'[1]ACT DEN8.1'!$AA$3:$AE$86,2,FALSE),0) -> 0 | AN22: =IFERROR(VLOOKUP(B22,'[1]ACT DEN8.1'!$AA$3:$AE$86,3,FALSE),0) -> 0 | AO22: =IFERROR(VLOOKUP(B22,'[1]ACT DEN8.1'!$AA$3:$AE$86,4,FALSE),0) -> 0 | AY22: =SUM(AM22:AX22) -> 0
A23: 04101-LA SERENA | B23: 105701-CECOF VILLA ALEMANIA | E23: =IFERROR(VLOOKUP(B23,'[1]NUM8.1'!$H$3:$L$156,2,FALSE),0) -> 1 | F23: =IFERROR(VLOOKUP(B23,'[1]NUM8.1'!$H$3:$L$156,3,FALSE),0) -> 6 | G23: =IFERROR(VLOOKUP(B23,'[1]NUM8.1'!$H$3:$L$156,4,FALSE),0) -> 1 | Q23: =SUM(E23:P23) -> 8 | S23: =IFERROR(VLOOKUP(B23,'[2]DEN8.1'!$H$3:$K$162,3,FALSE),0) -> 38 | T23: =S23+(Z23+AA23+AB23+AC23)-(AM23+AN23+AO23+AP23) -> 38 | V23: =+U23+(AF23)-(AS23) -> 0 | W23: =+U23+(AF23+AG23+AH23+AI23)-(AS23+AT23+AU23+AV23) -> 0 | Z23: =IFERROR(VLOOKUP(B23,'[1]ACT DEN8.1'!$H$3:$L$128,2,FALSE),0) -> 0 | AA23: =IFERROR(VLOOKUP(B23,'[1]ACT DEN8.1'!$H$3:$L$128,3,FALSE),0) -> 0 | AB23: =IFERROR(VLOOKUP(B23,'[1]ACT DEN8.1'!$H$3:$L$128,4,FALSE),0) -> 0 | AL23: =SUM(Z23:AK23) -> 0 | AM23: =IFERROR(VLOOKUP(B23,'[1]ACT DEN8.1'!$AA$3:$AE$86,2,FALSE),0) -> 0 | AN23: =IFERROR(VLOOKUP(B23,'[1]ACT DEN8.1'!$AA$3:$AE$86,3,FALSE),0) -> 0 | AO23: =IFERROR(VLOOKUP(B23,'[1]ACT DEN8.1'!$AA$3:$AE$86,4,FALSE),0) -> 0 | AY23: =SUM(AM23:AX23) -> 0
... A25: 04101-LA SERENA | B25: 200402-CECOF ARCOS DE PINAMAR | E25: =IFERROR(VLOOKUP(B25,'[1]NUM8.1'!$H$3:$L$156,2,FALSE),0) -> 9 | F25: =IFERROR(VLOOKUP(B25,'[1]NUM8.1'!$H$3:$L$156,3,FALSE),0) -> 2 | G25: =IFERROR(VLOOKUP(B25,'[1]NUM8.1'!$H$3:$L$156,4,FALSE),0) -> 1 | Q25: =SUM(E25:P25) -> 12 | S25: =IFERROR(VLOOKUP(B25,'[2]DEN8.1'!$H$3:$K$162,3,FALSE),0) -> 3 | T25: =S25+(Z25+AA25+AB25+AC25)-(AM25+AN25+AO25+AP25) -> 4 | V25: =+U25+(AF25)-(AS25) -> 0 | W25: =+U25+(AF25+AG25+AH25+AI25)-(AS25+AT25+AU25+AV25) -> 0 | Z25: =IFERROR(VLOOKUP(B25,'[1]ACT DEN8.1'!$H$3:$L$128,2,FALSE),0) -> 0 | AA25: =IFERROR(VLOOKUP(B25,'[1]ACT DEN8.1'!$H$3:$L$128,3,FALSE),0) -> 1 | AB25: =IFERROR(VLOOKUP(B25,'[1]ACT DEN8.1'!$H$3:$L$128,4,FALSE),0) -> 0 | AL25: =SUM(Z25:AK25) -> 1 | AM25: =IFERROR(VLOOKUP(B25,'[1]ACT DEN8.1'!$AA$3:$AE$86,2,FALSE),0) -> 0 | AN25: =IFERROR(VLOOKUP(B25,'[1]ACT DEN8.1'!$AA$3:$AE$86,3,FALSE),0) -> 0 | AO25: =IFERROR(VLOOKUP(B25,'[1]ACT DEN8.1'!$AA$3:$AE$86,4,FALSE),0) -> 0 | AY25: =SUM(AM25:AX25) -> 0
A26: TOTAL LA SERENA MUNICIPAL | C26: =+D26/Metas!L10 -> 0.14003396 | D26: =+Q26/R26 -> 0.02370775 | E26: =SUM(E12:E25) -> 308 | F26: =SUM(F12:F25) -> 328 | G26: =SUM(G12:G25) -> 562 | H26: =SUM(H12:H25) -> 0 | I26: =SUM(I12:I25) -> 0 | J26: =SUM(J12:J25) -> 0 | K26: =SUM(K12:K25) -> 0 | L26: =SUM(L12:L25) -> 0 | ... Q26: =SUM(Q12:Q25) -> 1198 | R26: =+Y26-S26 -> 50532 | S26: =SUM(S12:S25) -> 3376 | T26: =SUM(T12:T25) -> 3502 | U26: =SUM(U12:U25) -> 0 | V26: =SUM(V12:V25) -> 0 | W26: =SUM(W12:W25) -> 0 | X26: =SUM(X12:X25) -> 0 | Y26: 53908 | Z26: =SUM(Z12:Z25) -> 42 | AA26: =SUM(AA12:AA25) -> 47 | AB26: =SUM(AB12:AB25) -> 77 | AC26: =SUM(AC12:AC25) -> 0 | AD26: =SUM(AD12:AD25) -> 0 | AE26: =SUM(AE12:AE25) -> 0 | AF26: =SUM(AF12:AF25) -> 0 | AG26: =SUM(AG12:AG25) -> 0 | ... AY26: =SUM(AY12:AY25) -> 40
A27: 04102-COQUIMBO | B27: 105303-CES. SAN JUAN | E27: =IFERROR(VLOOKUP(B27,'[1]NUM8.1'!$H$3:$L$156,2,FALSE),0) -> 84 | F27: =IFERROR(VLOOKUP(B27,'[1]NUM8.1'!$H$3:$L$156,3,FALSE),0) -> 162 | G27: =IFERROR(VLOOKUP(B27,'[1]NUM8.1'!$H$3:$L$156,4,FALSE),0) -> 179 | Q27: =SUM(E27:P27) -> 425 | S27: =IFERROR(VLOOKUP(B27,'[2]DEN8.1'!$H$3:$K$162,3,FALSE),0) -> 511 | T27: =S27+(Z27+AA27+AB27+AC27)-(AM27+AN27+AO27+AP27) -> 548 | V27: =+U27+(AF27)-(AS27) -> 0 | W27: =+U27+(AF27+AG27+AH27+AI27)-(AS27+AT27+AU27+AV27) -> 0 | Z27: =IFERROR(VLOOKUP(B27,'[1]ACT DEN8.1'!$H$3:$L$128,2,FALSE),0) -> 8 | AA27: =IFERROR(VLOOKUP(B27,'[1]ACT DEN8.1'!$H$3:$L$128,3,FALSE),0) -> 11 | AB27: =IFERROR(VLOOKUP(B27,'[1]ACT DEN8.1'!$H$3:$L$128,4,FALSE),0) -> 21 | AL27: =SUM(Z27:AK27) -> 40 | AM27: =IFERROR(VLOOKUP(B27,'[1]ACT DEN8.1'!$AA$3:$AE$86,2,FALSE),0) -> 3 | AN27: =IFERROR(VLOOKUP(B27,'[1]ACT DEN8.1'!$AA$3:$AE$86,3,FALSE),0) -> 0 | AO27: =IFERROR(VLOOKUP(B27,'[1]ACT DEN8.1'!$AA$3:$AE$86,4,FALSE),0) -> 0 | AY27: =SUM(AM27:AX27) -> 3
A28: 04102-COQUIMBO | B28: 105304-CES. SANTA CECILIA | E28: =IFERROR(VLOOKUP(B28,'[1]NUM8.1'!$H$3:$L$156,2,FALSE),0) -> 126 | F28: =IFERROR(VLOOKUP(B28,'[1]NUM8.1'!$H$3:$L$156,3,FALSE),0) -> 204 | G28: =IFERROR(VLOOKUP(B28,'[1]NUM8.1'!$H$3:$L$156,4,FALSE),0) -> 170 | Q28: =SUM(E28:P28) -> 500 | S28: =IFERROR(VLOOKUP(B28,'[2]DEN8.1'!$H$3:$K$162,3,FALSE),0) -> 470 | T28: =S28+(Z28+AA28+AB28+AC28)-(AM28+AN28+AO28+AP28) -> 508 | V28: =+U28+(AF28)-(AS28) -> 0 | W28: =+U28+(AF28+AG28+AH28+AI28)-(AS28+AT28+AU28+AV28) -> 0 | Z28: =IFERROR(VLOOKUP(B28,'[1]ACT DEN8.1'!$H$3:$L$128,2,FALSE),0) -> 10 | AA28: =IFERROR(VLOOKUP(B28,'[1]ACT DEN8.1'!$H$3:$L$128,3,FALSE),0) -> 8 | AB28: =IFERROR(VLOOKUP(B28,'[1]ACT DEN8.1'!$H$3:$L$128,4,FALSE),0) -> 27 | AL28: =SUM(Z28:AK28) -> 45 | AM28: =IFERROR(VLOOKUP(B28,'[1]ACT DEN8.1'!$AA$3:$AE$86,2,FALSE),0) -> 6 | AN28: =IFERROR(VLOOKUP(B28,'[1]ACT DEN8.1'!$AA$3:$AE$86,3,FALSE),0) -> 1 | AO28: =IFERROR(VLOOKUP(B28,'[1]ACT DEN8.1'!$AA$3:$AE$86,4,FALSE),0) -> 0 | AY28: =SUM(AM28:AX28) -> 7
A29: 04102-COQUIMBO | B29: 105305-CES. TIERRAS BLANCAS | E29: =IFERROR(VLOOKUP(B29,'[1]NUM8.1'!$H$3:$L$156,2,FALSE),0) -> 150 | F29: =IFERROR(VLOOKUP(B29,'[1]NUM8.1'!$H$3:$L$156,3,FALSE),0) -> 148 | G29: =IFERROR(VLOOKUP(B29,'[1]NUM8.1'!$H$3:$L$156,4,FALSE),0) -> 148 | Q29: =SUM(E29:P29) -> 446 | S29: =IFERROR(VLOOKUP(B29,'[2]DEN8.1'!$H$3:$K$162,3,FALSE),0) -> 2701 | T29: =S29+(Z29+AA29+AB29+AC29)-(AM29+AN29+AO29+AP29) -> 2805 | V29: =+U29+(AF29)-(AS29) -> 0 | W29: =+U29+(AF29+AG29+AH29+AI29)-(AS29+AT29+AU29+AV29) -> 0 | Z29: =IFERROR(VLOOKUP(B29,'[1]ACT DEN8.1'!$H$3:$L$128,2,FALSE),0) -> 48 | AA29: =IFERROR(VLOOKUP(B29,'[1]ACT DEN8.1'!$H$3:$L$128,3,FALSE),0) -> 40 | AB29: =IFERROR(VLOOKUP(B29,'[1]ACT DEN8.1'!$H$3:$L$128,4,FALSE),0) -> 40 | AL29: =SUM(Z29:AK29) -> 128 | AM29: =IFERROR(VLOOKUP(B29,'[1]ACT DEN8.1'!$AA$3:$AE$86,2,FALSE),0) -> 7 | AN29: =IFERROR(VLOOKUP(B29,'[1]ACT DEN8.1'!$AA$3:$AE$86,3,FALSE),0) -> 9 | AO29: =IFERROR(VLOOKUP(B29,'[1]ACT DEN8.1'!$AA$3:$AE$86,4,FALSE),0) -> 8 | AY29: =SUM(AM29:AX29) -> 24
